Workbook

Sheet podval
B1: BPN | C1: Bugetul de stat | D1: inclusiv | F1: BASS | G1: FAOAM | H1: Bugetele locale | I1: inclusiv
D2: Baza | E2: PI | I2: Baza | J2: PI
A3: DEFICIT (-) / EXCEDENT(+) mil. lei | B3: =C3+F3+G3+H3 -> #REF! | C3: =D3+E3 -> #REF! | D3: =#REF! -> #REF! | E3: =#REF! -> #REF! | F3: =#REF! -> #REF! | G3: =#REF! -> #REF! | H3: =I3+J3 -> #REF! | I3: =#REF! -> #REF! | J3: =#REF! -> #REF!
A4: devieri | B4: =B3+B5 -> #REF! | C4: =C3+C5 -> #REF! | D4: =D3+D5 -> #REF! | E4: =E3+E5 -> #REF! | F4: =F3+F5 -> #REF! | G4: =G3+G5 -> #REF! | H4: =H3+H5 -> #REF! | I4: =I3+I5 -> #REF! | J4: =J3+J5 -> #REF!
A5: Finantarea (conform metodologiei FMI) | B5: =B6+B16+B17 -> #REF! | C5: =C6+C16+C17 -> #REF! | D5: =D6+D16+D17 -> #REF! | E5: =E6+E16+E17 -> #REF! | F5: =F6+F16+F17 -> #REF! | G5: =G6+G16+G17 -> #REF! | H5: =H6+H16+H17 -> #REF! | I5: =I6+I16+I17 -> #REF! | J5: =J6+J16+J17 -> #REF!
A6: Surse interne | B6: =C6+F6+G6+H6 -> #REF! | C6: =D6+E6 -> #REF! | D6: =D7+D10+D13+D14 -> #REF! | E6: =E7+E10+E13+E14 -> #REF! | F6: =F7+F10+F13+F14 -> #REF! | G6: =G7+G10+G13+G14 -> #REF! | H6: =I6+J6 -> #REF! | I6: =I7+I10+I13+I14 -> #REF! | J6: =J7+J10+J13+J14 -> #REF!
A7: Net Banca Centrala | B7: =C7+F7+G7+H7 -> #REF! | C7: =D7+E7 -> 0 | D7: =D8+D9 -> 0 | E7: =E8+E9 -> 0 | F7: =F8+F9 -> #REF! | G7: =G8+G9 -> #REF! | H7: =I7+J7 -> #REF! | I7: =I8+I9 -> #REF! | J7: =J8+J9 -> 0
A8: Rambursarea creditelor
A9: Modificarea soldurilor la conturi | B9: =C9+F9+G9+H9 -> #REF! | C9: =D9+E9 -> 0 | F9: =#REF!-podval!F12 -> #REF! | G9: =#REF! -> #REF! | H9: =I9+J9 -> #REF! | I9: =#REF! -> #REF!
A10: Net bancile comerciale | B10: =C10+F10+G10+H10 -> 0 | C10: =D10+E10 -> 0 | D10: =D11+D12 -> 0 | E10: =E11+E12 -> 0 | F10: =F11+F12 -> 0 | G10: =G11+G12 -> 0 | H10: =I10+J10 -> 0 | I10: =I11+I12 -> 0 | J10: =J11+J12 -> 0
A11: BC VMS | B11: =C11+F11+G11+H11 -> 0 | C11: =D11+E11 -> 0
A12: BC creditarea directa | B12: =C12+F12+G12+H12 -> 0 | C12: =D12+E12 -> 0 | H12: =I12+J12 -> 0
A13: VMS nebancar | B13: =C13+F13+G13+H13 -> 0 | C13: =D13+E13 -> 0
A14: Alte surse interne | B14: =C14+F14+G14+H14 -> #REF! | C14: =D14+E14 -> #REF! | D14: =-D3-D7-D10-D13-D16-D17 -> #REF! | E14: =-E3-E7-E10-E13-E16-E17 -> #REF! | F14: =-F3-F7-F10-F13-F16-F17 -> #REF! | G14: =-G3-G7-G10-G13-G16-G17 -> #REF! | H14: =I14+J14 -> #REF! | I14: =-I3-I7-I10-I13-I16-I17 -> #REF! | J14: =-J3-J7-J10-J13-J16-J17 -> #REF!
A15: inclusiv: creditarea bugetelor de alt nivel | B15: =C15+F15+G15+H15 -> #REF! | C15: =D15+E15 -> #REF! | D15: =#REF!+#REF! -> #REF! | F15: =#REF! -> #REF! | H15: =I15+J15 -> #REF! | I15: =#REF! -> #REF!
A16: Venituri din privatizare | B16: =C16+F16+G16+H16 -> #REF! | C16: =D16+E16 -> #REF! | D16: =#REF! -> #REF! | H16: =I16+J16 -> #REF! | I16: =#REF! -> #REF!
A17: Surse externe | B17: =C17+F17+G17+H17 -> #REF! | C17: =D17+E17 -> #REF! | D17: =D18+D19 -> #REF! | E17: =E18+E19 -> #REF! | H17: =I17+J17 -> #REF! | I17: =I18+I19 -> #REF! | J17: =J18+J19 -> #REF!
A18: Primirea împrumuturilor externe | B18: =C18+F18+G18+H18 -> #REF! | C18: =D18+E18 -> #REF! | D18: =#REF! -> #REF! | E18: =#REF! -> #REF! | H18: =I18+J18 -> #REF! | I18: =#REF! -> #REF! | J18: =#REF! -> #REF!
A19: Rambursarea împrumuturilor externe | B19: =C19+F19+G19+H19 -> #REF! | C19: =D19+E19 -> #REF! | D19: =#REF! -> #REF! | E19: =#REF! -> #REF! | H19: =I19+J19 -> #REF! | I19: =#REF! -> #REF! | J19: =#REF! -> #REF!
C21: modif. sold. VMS (executat b/s 513)

Sheet main
A1: la situația din 28 februarie 2022
A3: Indicatorii | B3: COD ECO | C3: Bugetul public naţional | M3: Bugetul consolidat central | W3: inclusiv:
W4: Bugetul de stat | AI4: bugetul asigurărilor sociale de stat | AQ4: fondurile asigurărilor obligatorii de asistenţă medicală | AY4: bugetele locale
C6: Aprobat | D6: Precizat pe an | E6: Executat in perioada de gestiune | F6: inclusiv | H6: Executat față de precizat pe an | J6: Executat în perioada de gestiune 2021 | K6: Executat în perioada de gestiune 2022 faţă de perioada de gestiune 2021 | M6: Aprobat | N6: Precizat pe an | O6: Executat in perioada de gestiune | P6: inclusiv | R6: Executat față de precizat pe an | T6: Executat în perioada de gestiune 2021 | U6: Executat în perioada de gestiune 2022 faţă de perioada de gestiune 2021 | W6: Aprobat | X6: Precizat pe an | Y6: inclusiv | AA6: Executat in perioada de gestiune | AB6: inclusiv | AD6: Executat față de precizat pe an | AF6: Executat în perioada de gestiune 2021 | AG6: Executat în perioada de gestiune 2022 faţă de perioada de gestiune 2021 | AI6: Aprobat | AJ6: Precizat pe an | AK6: Executat in perioada de gestiune | AL6: Executat față de precizat pe an | AN6: Executat în perioada de gestiune 2021 | AO6: Executat în perioada de gestiune 2022 faţă de perioada de gestiune 2021 | AQ6: Aprobat | AR6: Precizat pe an | AS6: Executat in perioada de gestiune | AT6: Executat față de precizat pe an | AV6: Executat în perioada de gestiune 2021 | AW6: Executat în perioada de gestiune 2022 faţă de perioada de gestiune 2021 | AY6: Aprobat | AZ6: Precizat pe an | BA6: inclusiv | BC6: Executat in perioada de gestiune | BD6: inclusiv | BF6: Executat față de precizat pe an | BH6: Executat în perioada de gestiune 2021 | BI6: Executat în perioada de gestiune 2022 faţă de perioada de gestiune 2021
F7: baza | G7: proiecte | H7: Devieri (+,-) | I7: %% | K7: Devieri (+,-) | L7: %% | P7: baza | Q7: proiecte | R7: Devieri (+,-) | S7: %% | U7: Devieri (+,-) | V7: %% | Y7: baza | Z7: proiecte | AB7: baza | AC7: proiecte | AD7: Devieri (+,-) | AE7: %% | AG7: Devieri (+,-) | AH7: %% | AL7: Devieri (+,-) | AM7: %% | AO7: Devieri (+,-) | AP7: %% | AT7: Devieri (+,-) | AU7: %% | AW7: Devieri (+,-) | AX7: %% | BA7: baza | BB7: proiecte | BD7: baza | BE7: proiecte | BF7: Devieri (+,-) | BG7: %% | BI7: Devieri (+,-) | BJ7: %% | BL7: verificare cu 2016
A8: 1 | B8: 2 | C8: 3 | D8: 4 | E8: 5 | F8: 6 | G8: 7 | H8: 8 | I8: 9 | J8: 10 | K8: 11 | L8: 12 | M8: 13 | N8: 14 | O8: 15 | P8: 16 | Q8: 17 | R8: 18 | S8: 19 | T8: 20 | U8: 21 | V8: 22 | W8: 23 | X8: 24 | AA8: 25 | AB8: 26 | AC8: 27 | AD8: 28 | AE8: 29 | AF8: 30 | AG8: 31 | AH8: 32 | AI8: 33 | AJ8: 34 | AK8: 35 | AL8: 36 | AM8: 37 | AN8: 38 | AO8: 39 | AP8: =AO8+1 -> 40 | AQ8: 41 | AR8: 42 | AS8: 43 | AT8: 44 | AU8: 45 | AV8: 46 | AW8: 47 | AX8: =AW8+1 -> 48 | AY8: 49 | AZ8: 50 | BC8: 51 | BD8: 52 | BE8: 53 | BF8: 54 | BG8: 55 | BH8: 56 | BI8: 57 | BJ8: =BI8+1 -> 58 | BL8: BPN | BM8: BCC | BN8: BS | BO8: BASS | BP8: FAOAM | BQ8: BL
A9: Venituri | B9: 1 | C9: =M9+AY9-C69-C57 -> 80259.9 | D9: =N9+AZ9-D69-D57 -> 80692.4 | E9: =O9+BC9-E69-E57 -> 11867.1 | F9: =AB9+AK9+AS9+BD9-F68-F57+AC90-BE69 -> 11838.1 | G9: =Q9+BE9-BE69 -> 29 | H9: =E9-D9 -> -68825.3 | I9: =IF(D9<>0,IF(E9/D9*100<0,"<0",IF(E9/D9*100>200,">200",E9/D9*100))," ") -> 14.706589 | J9: =T9+BH9-J69-J57 -> 10142.5 | K9: =E9-J9 -> 1724.6 | L9: =IF(J9<>0,IF(E9/J9*100<0,"<0",IF(E9/J9*100>200,">200",E9/J9*100))," ") -> 117.0037 | M9: =M10+M47+M50+M53+M69 -> 74956.5 | N9: =N10+N47+N50+N53+N69 -> 74956.5 | O9: =O10+O47+O50+O53+O69 -> 11043.6 | P9: =P10+P47+P50+P53+P69 -> 11033.5 | Q9: =AC9 -> 10.1 | R9: =O9-N9 -> -63912.9 | S9: =IF(N9<>0,IF(O9/N9*100<0,"<0",IF(O9/N9*100>200,">200",O9/N9*100))," ") -> 14.733345 | T9: =AF9+AN9+AV9-T70 -> 9396 | U9: =O9-T9 -> 1647.6 | V9: =IF(T9<>0,IF(O9/T9*100<0,"<0",IF(O9/T9*100>200,">200",O9/T9*100))," ") -> 117.53512 | W9: =W10+W47+W50+W53+W68-W73-W74 -> 50066.6 | X9: =X10+X47+X50+X53+X68-X73-X74 -> 50066.6 | Y9: =X9-Z9 -> 49163.6 | Z9: =Z10+Z47+Z50+Z53+Z68-Z73-Z74 -> 903 | AA9: =AA10+AA47+AA50+AA53+AA68 -> 7343.3 | AB9: =AA9-AC9 -> 7333.2 | AC9: =AC10+AC47+AC50+AC53+AC68 -> 10.1 | AD9: =AD10+AD47+AD50+AD53+AD68-AD73-AD74 -> -42723.3 | AE9: =IF(X9<>0,IF(AA9/X9*100<0,"<0",IF(AA9/X9*100>200,">200",AA9/X9*100))," ") -> 14.667063 | AF9: =AF10+AF47+AF50+AF53+AF68 -> 6141.5 | AG9: =AG10+AG47+AG50+AG53+AG68 -> 1201.8 | AH9: =IF(AF9<>0,IF(AA9/AF9*100<0,"<0",IF(AA9/AF9*100>200,">200",AA9/AF9*100))," ") -> 119.56851 | AI9: =AI10+AI47+AI50+AI53+AI68-AI73-AI74 -> 31224.2 | AJ9: =AJ10+AJ47+AJ50+AJ53+AJ68-AJ73-AJ74 -> 31224.2 | AK9: =AK10+AK47+AK50+AK53+AK68 -> 5559.7 | AL9: =AL10+AL47+AL50+AL53+AL68-AL73-AL74 -> -25664.5 | AM9: =IF(AJ9<>0,IF(AK9/AJ9*100<0,"<0",IF(AK9/AJ9*100>200,">200",AK9/AJ9*100))," ") -> 17.80574 | AN9: =AN10+AN47+AN50+AN53+AN68-AN73-AN74 -> 4685.9 | AO9: =AO10+AO47+AO50+AO53+AO68 -> 873.8 | AP9: =IF(AN9<>0,IF(AK9/AN9*100<0,"<0",IF(AK9/AN9*100>200,">200",AK9/AN9*100))," ") -> 118.64743 | AQ9: =AQ10+AQ47+AQ50+AQ53+AQ68-AQ73-AQ74 -> 12287.6 | AR9: =AR10+AR47+AR50+AR53+AR68-AR73-AR74 -> 12287.6 | AS9: =AS10+AS47+AS50+AS53+AS68 -> 1482.5 | AT9: =AT10+AT47+AT50+AT53+AT68-AT73-AT74 -> -10805.1 | AU9: =IF(AR9<>0,IF(AS9/AR9*100<0,"<0",IF(AS9/AR9*100>200,">200",AS9/AR9*100))," ") -> 12.065009 | AV9: =AV10+AV47+AV50+AV53+AV68-AV73-AV74 -> 1359.5 | AW9: =AW10+AW47+AW50+AW53+AW68 -> 123 | AX9: =IF(AV9<>0,IF(AS9/AV9*100<0,"<0",IF(AS9/AV9*100>200,">200",AS9/AV9*100))," ") -> 109.04744 | AY9: =AY10+AY47+AY50+AY53+AY68 -> 19548.2 | AZ9: =AZ10+AZ47+AZ50+AZ53+AZ68 -> 20844.1 | BA9: =AZ9-BB9 -> 20755.3 | BB9: =BB10+BB47+BB50+BB53+BB68 -> 88.8 | BC9: =BC10+BC47+BC50+BC53+BC68 -> 2975.5 | BD9: =BC9-BE9 -> 2956.6 | BE9: =BE10+BE47+BE50+BE53+BE68 -> 18.9 | BF9: =BC9-AZ9 -> -17868.6 | BG9: =IF(AZ9<>0,IF(BC9/AZ9*100<0,"<0",IF(BC9/AZ9*100>200,">200",BC9/AZ9*100))," ") -> 14.275023 | BH9: =BH10+BH47+BH50+BH53+BH68-BH73-BH74 -> 2756.4 | BI9: =BI10+BI47+BI50+BI53+BI68 -> 219.1 | BJ9: =IF(BH9<>0,IF(BC9/BH9*100<0,"<0",IF(BC9/BH9*100>200,">200",BC9/BH9*100))," ") -> 107.94877 | BL9: =BM9+BQ9-BL69 -> 2582 | BM9: =BN9+BO9+BP9-BM70 -> 2381.9 | BN9: 1582.9 | BO9: 1566.3 | BP9: 248.1 | BQ9: 603.6
A10: Impozite și taxe | B10: 11 | C10: =M10+AY10 -> 51311.2 | D10: =N10+AZ10 -> 51634.1 | E10: =O10+BC10 -> 7702.9 | F10: =AB10+AK10+AS10+BD10 -> 7702.9 | G10: =Q10+BE10 -> 0 | H10: =E10-D10 -> -43931.2 | I10: =IF(D10<>0,IF(E10/D10*100<0,"<0",IF(E10/D10*100>200,">200",E10/D10*100))," ") -> 14.918242 | J10: =T10+BH10 -> 6304.2 | K10: =E10-J10 -> 1398.7 | L10: =IF(J10<>0,IF(E10/J10*100<0,"<0",IF(E10/J10*100>200,">200",E10/J10*100))," ") -> 122.1868 | M10: =W10+AI10+AQ10 -> 46669.2 | N10: =X10+AJ10+AR10 -> 46669.2 | O10: =AA10+AK10+AS10 -> 7014.4 | P10: =AB10+AK10+AS10 -> 7014.4 | Q10: =AC10 -> 0 | R10: =O10-N10 -> -39654.8 | S10: =IF(N10<>0,IF(O10/N10*100<0,"<0",IF(O10/N10*100>200,">200",O10/N10*100))," ") -> 15.030041 | T10: =AF10+AN10+AV10 -> 5695.8 | U10: =O10-T10 -> 1318.6 | V10: =IF(T10<>0,IF(O10/T10*100<0,"<0",IF(O10/T10*100>200,">200",O10/T10*100))," ") -> 123.15039 | W10: =W11+W15+W21+W43 -> 46669.2 | X10: =X11+X15+X21+X43 -> 46669.2 | Y10: =X10-Z10 -> 46669.2 | Z10: =Z11+Z15+Z21+Z43 -> 0 | AA10: =AA11+AA15+AA21+AA43 -> 7014.4 | AB10: =AA10-AC10 -> 7014.4 | AC10: =AC11+AC15+AC21+AC43 -> 0 | AD10: =AD11+AD15+AD21+AD43 -> -39654.8 | AE10: =IF(X10<>0,IF(AA10/X10*100<0,"<0",IF(AA10/X10*100>200,">200",AA10/X10*100))," ") -> 15.030041 | AF10: =AF11+AF15+AF21+AF43 -> 5695.8 | AG10: =AG11+AG15+AG21+AG43 -> 1318.6 | AH10: =IF(AF10<>0,IF(AA10/AF10*100<0,"<0",IF(AA10/AF10*100>200,">200",AA10/AF10*100))," ") -> 123.15039 | AJ10: =AJ11+AJ15+AJ21+AJ43 -> 0 | AK10: =AK11+AK15+AK21+AK43 -> 0 | AL10: =AL11+AL15+AL21+AL43 -> 0 | AM10: =IF(AJ10<>0,IF(AK10/AJ10*100<0,"<0",IF(AK10/AJ10*100>200,">200",AK10/AJ10*100))," ") | AN10: =AN11+AN15+AN21+AN43 -> 0 | AO10: =AO11+AO15+AO21+AO43 -> 0 | AP10: =IF(AN10<>0,IF(AK10/AN10*100<0,"<0",IF(AK10/AN10*100>200,">200",AK10/AN10*100))," ") | AR10: =AR11+AR15+AR21+AR43 -> 0 | AS10: =AS11+AS15+AS21+AS43 -> 0 | AT10: =AT11+AT15+AT21+AT43 -> 0 | AU10: =IF(AR10<>0,IF(AS10/AR10*100<0,"<0",IF(AS10/AR10*100>200,">200",AS10/AR10*100))," ") | AV10: =AV11+AV15+AV21+AV43 -> 0 | AW10: =AW11+AW15+AW21+AW43 -> 0 | AX10: =IF(AV10<>0,IF(AS10/AV10*100<0,"<0",IF(AS10/AV10*100>200,">200",AS10/AV10*100))," ") | AY10: =AY11+AY15+AY21+AY43 -> 4642 | AZ10: =AZ11+AZ15+AZ21+AZ43 -> 4964.9 | BA10: =AZ10-BB10 -> 4964.9 | BB10: =BB11+BB15+BB21+BB43 -> 0 | BC10: =BC11+BC15+BC21+BC43 -> 688.5 | BD10: =BC10-BE10 -> 688.5 | BE10: =BE11+BE15+BE21+BE43 -> 0 | BF10: =BF11+BF15+BF21+BF43 -> -4276.4 | BG10: =IF(AZ10<>0,IF(BC10/AZ10*100<0,"<0",IF(BC10/AZ10*100>200,">200",BC10/AZ10*100))," ") -> 13.867349 | BH10: =BH11+BH15+BH21+BH43 -> 608.4 | BI10: =BI11+BI15+BI21+BI43 -> 80.1 | BJ10: =IF(BH10<>0,IF(BC10/BH10*100<0,"<0",IF(BC10/BH10*100>200,">200",BC10/BH10*100))," ") -> 113.16568 | BL10: =BM10+BQ10 -> 1681.6 | BM10: =BN10+BO10+BP10 -> 1499.1 | BN10: 1499.1 | BO10: 0 | BP10: 0 | BQ10: 182.5
A11: Impozite pe venit | B11: 111 formula | C11: =M11+AY11 -> 11707.3 | D11: =N11+AZ11 -> 11910.1 | E11: =O11+BC11 -> 1454.6 | F11: =AB11+AK11+AS11+BD11 -> 1454.6 | G11: =Q11+BE11 -> 0 | H11: =E11-D11 -> -10455.5 | I11: =IF(D11<>0,IF(E11/D11*100<0,"<0",IF(E11/D11*100>200,">200",E11/D11*100))," ") -> 12.213164 | J11: =T11+BH11 -> 1194.5 | K11: =E11-J11 -> 260.1 | L11: =IF(J11<>0,IF(E11/J11*100<0,"<0",IF(E11/J11*100>200,">200",E11/J11*100))," ") -> 121.7748 | M11: =W11+AI11+AQ11 -> 8419.2 | N11: =X11+AJ11+AR11 -> 8419.2 | O11: =AA11+AK11+AS11 -> 935.2 | P11: =AB11+AK11+AS11 -> 935.2 | Q11: =AC11 -> 0 | R11: =O11-N11 -> -7484 | S11: =IF(N11<>0,IF(O11/N11*100<0,"<0",IF(O11/N11*100>200,">200",O11/N11*100))," ") -> 11.107944 | T11: =AF11+AN11+AV11 -> 740.7 | U11: =O11-T11 -> 194.5 | V11: =IF(T11<>0,IF(O11/T11*100<0,"<0",IF(O11/T11*100>200,">200",O11/T11*100))," ") -> 126.25894 | W11: =W13+W14 -> 8419.2 | X11: =X13+X14 -> 8419.2 | Y11: =X11-Z11 -> 8419.2 | Z11: =Z13+Z14 -> 0 | AA11: =AA13+AA14 -> 935.2 | AB11: =AA11-AC11 -> 935.2 | AC11: =AC13+AC14 -> 0 | AD11: =AA11-X11 -> -7484 | AE11: =IF(X11<>0,IF(AA11/X11*100<0,"<0",IF(AA11/X11*100>200,">200",AA11/X11*100))," ") -> 11.107944 | AF11: =AF13+AF14 -> 740.7 | AG11: =AA11-AF11 -> 194.5 | AH11: =IF(AF11<>0,IF(AA11/AF11*100<0,"<0",IF(AA11/AF11*100>200,">200",AA11/AF11*100))," ") -> 126.25894 | AJ11: =AJ13+AJ14 -> 0 | AK11: =AK13+AK14 -> 0 | AL11: =AK11-AJ11 -> 0 | AM11: =IF(AJ11<>0,IF(AK11/AJ11*100<0,"<0",IF(AK11/AJ11*100>200,">200",AK11/AJ11*100))," ") | AN11: =AN13+AN14 -> 0 | AO11: =AK11-AN11 -> 0 | AP11: =IF(AN11<>0,IF(AK11/AN11*100<0,"<0",IF(AK11/AN11*100>200,">200",AK11/AN11*100))," ") | AR11: =AR13+AR14 -> 0 | AS11: =AS13+AS14 -> 0 | AT11: =AS11-AR11 -> 0 | AU11: =IF(AR11<>0,IF(AS11/AR11*100<0,"<0",IF(AS11/AR11*100>200,">200",AS11/AR11*100))," ") | AV11: =AV13+AV14 -> 0 | AW11: =AS11-AV11 -> 0 | AX11: =IF(AV11<>0,IF(AS11/AV11*100<0,"<0",IF(AS11/AV11*100>200,">200",AS11/AV11*100))," ") | AY11: =AY13+AY14 -> 3288.1 | AZ11: =AZ13+AZ14 -> 3490.9 | BA11: =AZ11-BB11 -> 3490.9 | BC11: =BC13+BC14 -> 519.4 | BD11: =BC11-BE11 -> 519.4 | BE11: =BE13+BE14 -> 0 | BF11: =BC11-AZ11 -> -2971.5 | BG11: =IF(AZ11<>0,IF(BC11/AZ11*100<0,"<0",IF(BC11/AZ11*100>200,">200",BC11/AZ11*100))," ") -> 14.878685 | BH11: =BH13+BH14 -> 453.8 | BI11: =BC11-BH11 -> 65.6 | BJ11: =IF(BH11<>0,IF(BC11/BH11*100<0,"<0",IF(BC11/BH11*100>200,">200",BC11/BH11*100))," ") -> 114.45571 | BL11: =BM11+BQ11 -> 316.6 | BM11: =BN11+BO11+BP11 -> 215.4 | BN11: 215.4 | BO11: 0 | BP11: 0 | BQ11: 101.2
A12: inclusiv: | H12: =E12-D12 -> 0 | I12: =IF(D12<>0,IF(E12/D12*100<0,"<0",IF(E12/D12*100>200,">200",E12/D12*100))," ") | AD12: =AA12-X12 -> 0 | AE12: =IF(X12<>0,IF(AA12/X12*100<0,"<0",IF(AA12/X12*100>200,">200",AA12/X12*100))," ") | AP12: =IF(AN12<>0,IF(AK12/AN12*100<0,"<0",IF(AK12/AN12*100>200,">200",AK12/AN12*100))," ") | AU12: =IF(AR12<>0,IF(AS12/AR12*100<0,"<0",IF(AS12/AR12*100>200,">200",AS12/AR12*100))," ") | AX12: =IF(AV12<>0,IF(AS12/AV12*100<0,"<0",IF(AS12/AV12*100>200,">200",AS12/AV12*100))," ") | BA12: =AZ12-BB12 -> 0 | BL12: =BM12+BQ12 -> 0 | BM12: =BN12+BO12+BP12 -> 0
A13: Impozit pe venitul persoanelor fizice | B13: 1111 | C13: =M13+AY13 -> 5260.8 | D13: =N13+AZ13 -> 5338.1 | E13: =O13+BC13 -> 791.9 | F13: =AB13+AK13+AS13+BD13 -> 791.9 | G13: =Q13+BE13 -> 0 | H13: =E13-D13 -> -4546.2 | I13: =IF(D13<>0,IF(E13/D13*100<0,"<0",IF(E13/D13*100>200,">200",E13/D13*100))," ") -> 14.834866 | J13: =T13+BH13 -> 702.4 | K13: =E13-J13 -> 89.5 | L13: =IF(J13<>0,IF(E13/J13*100<0,"<0",IF(E13/J13*100>200,">200",E13/J13*100))," ") -> 112.74203 | M13: =W13+AI13+AQ13 -> 1972.7 | N13: =X13+AJ13+AR13 -> 1972.7 | O13: =AA13+AK13+AS13 -> 288.6 | P13: =AB13+AK13+AS13 -> 288.6 | Q13: =AC13 -> 0 | R13: =O13-N13 -> -1684.1 | S13: =IF(N13<>0,IF(O13/N13*100<0,"<0",IF(O13/N13*100>200,">200",O13/N13*100))," ") -> 14.629695 | T13: =AF13+AN13+AV13 -> 256.6 | U13: =O13-T13 -> 32 | V13: =IF(T13<>0,IF(O13/T13*100<0,"<0",IF(O13/T13*100>200,">200",O13/T13*100))," ") -> 112.47077 | W13: 1972.7 | X13: 1972.7 | Y13: =X13-Z13 -> 1972.7 | AA13: 288.6 | AB13: =AA13-AC13 -> 288.6 | AD13: =AA13-X13 -> -1684.1 | AE13: =IF(X13<>0,IF(AA13/X13*100<0,"<0",IF(AA13/X13*100>200,">200",AA13/X13*100))," ") -> 14.629695 | AF13: 256.6 | AG13: =AA13-AF13 -> 32 | AH13: =IF(AF13<>0,IF(AA13/AF13*100<0,"<0",IF(AA13/AF13*100>200,">200",AA13/AF13*100))," ") -> 112.47077 | AL13: =AK13-AJ13 -> 0 | AM13: =IF(AJ13<>0,IF(AK13/AJ13*100<0,"<0",IF(AK13/AJ13*100>200,">200",AK13/AJ13*100))," ") | AO13: =AK13-AN13 -> 0 | AP13: =IF(AN13<>0,IF(AK13/AN13*100<0,"<0",IF(AK13/AN13*100>200,">200",AK13/AN13*100))," ") | AT13: =AS13-AR13 -> 0 | AU13: =IF(AR13<>0,IF(AS13/AR13*100<0,"<0",IF(AS13/AR13*100>200,">200",AS13/AR13*100))," ") | AW13: =AS13-AV13 -> 0 | AX13: =IF(AV13<>0,IF(AS13/AV13*100<0,"<0",IF(AS13/AV13*100>200,">200",AS13/AV13*100))," ") | AY13: 3288.1 | AZ13: 3365.4 | BA13: =AZ13-BB13 -> 3365.4 | BC13: 503.3 | BD13: =BC13-BE13 -> 503.3 | BF13: =BC13-AZ13 -> -2862.1 | BG13: =IF(AZ13<>0,IF(BC13/AZ13*100<0,"<0",IF(BC13/AZ13*100>200,">200",BC13/AZ13*100))," ") -> 14.955132 | BH13: 445.8 | BI13: =BC13-BH13 -> 57.5 | BJ13: =IF(BH13<>0,IF(BC13/BH13*100<0,"<0",IF(BC13/BH13*100>200,">200",BC13/BH13*100))," ") -> 112.89816 | BL13: =BM13+BQ13 -> 186.3 | BM13: =BN13+BO13+BP13 -> 86.8 | BN13: 86.8 | BQ13: 99.5
A14: Impozit pe venitul persoanelor juridice | B14: 1112 | C14: =M14+AY14 -> 6446.5 | D14: =N14+AZ14 -> 6572 | E14: =O14+BC14 -> 662.7 | F14: =AB14+AK14+AS14+BD14 -> 662.7 | G14: =Q14+BE14 -> 0 | H14: =E14-D14 -> -5909.3 | I14: =IF(D14<>0,IF(E14/D14*100<0,"<0",IF(E14/D14*100>200,">200",E14/D14*100))," ") -> 10.083688 | J14: =T14+BH14 -> 492.1 | K14: =E14-J14 -> 170.6 | L14: =IF(J14<>0,IF(E14/J14*100<0,"<0",IF(E14/J14*100>200,">200",E14/J14*100))," ") -> 134.66775 | M14: =W14+AI14+AQ14 -> 6446.5 | N14: =X14+AJ14+AR14 -> 6446.5 | O14: =AA14+AK14+AS14 -> 646.6 | P14: =AB14+AK14+AS14 -> 646.6 | Q14: =AC14 -> 0 | R14: =O14-N14 -> -5799.9 | S14: =IF(N14<>0,IF(O14/N14*100<0,"<0",IF(O14/N14*100>200,">200",O14/N14*100))," ") -> 10.030249 | T14: =AF14+AN14+AV14 -> 484.1 | U14: =O14-T14 -> 162.5 | V14: =IF(T14<>0,IF(O14/T14*100<0,"<0",IF(O14/T14*100>200,">200",O14/T14*100))," ") -> 133.56744 | W14: 6446.5 | X14: 6446.5 | Y14: =X14-Z14 -> 6446.5 | AA14: 646.6 | AB14: =AA14-AC14 -> 646.6 | AD14: =AA14-X14 -> -5799.9 | AE14: =IF(X14<>0,IF(AA14/X14*100<0,"<0",IF(AA14/X14*100>200,">200",AA14/X14*100))," ") -> 10.030249 | AF14: 484.1 | AG14: =AA14-AF14 -> 162.5 | AH14: =IF(AF14<>0,IF(AA14/AF14*100<0,"<0",IF(AA14/AF14*100>200,">200",AA14/AF14*100))," ") -> 133.56744 | AL14: =AK14-AJ14 -> 0 | AM14: =IF(AJ14<>0,IF(AK14/AJ14*100<0,"<0",IF(AK14/AJ14*100>200,">200",AK14/AJ14*100))," ") | AO14: =AK14-AN14 -> 0 | AP14: =IF(AN14<>0,IF(AK14/AN14*100<0,"<0",IF(AK14/AN14*100>200,">200",AK14/AN14*100))," ") | AT14: =AS14-AR14 -> 0 | AU14: =IF(AR14<>0,IF(AS14/AR14*100<0,"<0",IF(AS14/AR14*100>200,">200",AS14/AR14*100))," ") | AW14: =AS14-AV14 -> 0 | AX14: =IF(AV14<>0,IF(AS14/AV14*100<0,"<0",IF(AS14/AV14*100>200,">200",AS14/AV14*100))," ") | AZ14: 125.5 | BA14: =AZ14-BB14 -> 125.5 | BC14: 16.1 | BD14: =BC14-BE14 -> 16.1 | BF14: =BC14-AZ14 -> -109.4 | BG14: =IF(AZ14<>0,IF(BC14/AZ14*100<0,"<0",IF(BC14/AZ14*100>200,">200",BC14/AZ14*100))," ") -> 12.828685 | BH14: 8 | BI14: =BC14-BH14 -> 8.1 | BJ14: =IF(BH14<>0,IF(BC14/BH14*100<0,"<0",IF(BC14/BH14*100>200,">200",BC14/BH14*100))," ") -> >200 | BL14: =BM14+BQ14 -> 130.3 | BM14: =BN14+BO14+BP14 -> 128.6 | BN14: 128.6 | BQ14: 1.7
A15: Impozite pe proprietate | B15: 113 formula | C15: =M15+AY15 -> 740.3 | D15: =N15+AZ15 -> 749.1 | E15: =O15+BC15 -> 18.8 | F15: =AB15+AK15+AS15+BD15 -> 18.8 | G15: =Q15+BE15 -> 0 | H15: =E15-D15 -> -730.3 | I15: =IF(D15<>0,IF(E15/D15*100<0,"<0",IF(E15/D15*100>200,">200",E15/D15*100))," ") -> 2.5096783 | J15: =T15+BH15 -> 24.9 | K15: =E15-J15 -> -6.1 | L15: =IF(J15<>0,IF(E15/J15*100<0,"<0",IF(E15/J15*100>200,">200",E15/J15*100))," ") -> 75.502008 | M15: =W15+AI15+AQ15 -> 47 | N15: =X15+AJ15+AR15 -> 47 | O15: =AA15+AK15+AS15 -> 4.9 | P15: =AB15+AK15+AS15 -> 4.9 | Q15: =AC15 -> 0 | R15: =O15-N15 -> -42.1 | S15: =IF(N15<>0,IF(O15/N15*100<0,"<0",IF(O15/N15*100>200,">200",O15/N15*100))," ") -> 10.425532 | T15: =AF15+AN15+AV15 -> 5.6 | U15: =O15-T15 -> -0.7 | V15: =IF(T15<>0,IF(O15/T15*100<0,"<0",IF(O15/T15*100>200,">200",O15/T15*100))," ") -> 87.5 | W15: =W17+W18+W19+W20 -> 47 | X15: =X17+X18+X19+X20 -> 47 | Y15: =X15-Z15 -> 47 | Z15: =Z17+Z18+Z19+Z20 -> 0 | AA15: =AA17+AA18+AA19+AA20 -> 4.9 | AB15: =AA15-AC15 -> 4.9 | AC15: =AC17+AC18+AC19 -> 0 | AD15: =AA15-X15 -> -42.1 | AE15: =IF(X15<>0,IF(AA15/X15*100<0,"<0",IF(AA15/X15*100>200,">200",AA15/X15*100))," ") -> 10.425532 | AF15: =AF17+AF18+AF19+AF20 -> 5.6 | AG15: =AA15-AF15 -> -0.7 | AH15: =IF(AF15<>0,IF(AA15/AF15*100<0,"<0",IF(AA15/AF15*100>200,">200",AA15/AF15*100))," ") -> 87.5 | AK15: =AK17+AK18+AK19 -> 0 | AL15: =AK15-AJ15 -> 0 | AM15: =IF(AJ15<>0,IF(AK15/AJ15*100<0,"<0",IF(AK15/AJ15*100>200,">200",AK15/AJ15*100))," ") | AN15: =AN17+AN18+AN19 -> 0 | AO15: =AK15-AN15 -> 0 | AP15: =IF(AN15<>0,IF(AK15/AN15*100<0,"<0",IF(AK15/AN15*100>200,">200",AK15/AN15*100))," ") | AS15: =AS17+AS18+AS19 -> 0 | AT15: =AS15-AR15 -> 0 | AU15: =IF(AR15<>0,IF(AS15/AR15*100<0,"<0",IF(AS15/AR15*100>200,">200",AS15/AR15*100))," ") | AW15: =AS15-AV15 -> 0 | AX15: =IF(AV15<>0,IF(AS15/AV15*100<0,"<0",IF(AS15/AV15*100>200,">200",AS15/AV15*100))," ") | AY15: =AY17+AY18+AY19 -> 693.3 | AZ15: =AZ17+AZ18+AZ19 -> 702.1 | BA15: =AZ15-BB15 -> 702.1 | BB15: =BB17+BB18+BB19 -> 0 | BC15: =BC17+BC18+BC19 -> 13.9 | BD15: =BC15-BE15 -> 13.9 | BE15: =BE17+BE18+BE19 -> 0 | BF15: =BC15-AZ15 -> -688.2 | BG15: =IF(AZ15<>0,IF(BC15/AZ15*100<0,"<0",IF(BC15/AZ15*100>200,">200",BC15/AZ15*100))," ") -> 1.979775 | BH15: =BH17+BH18+BH19+BH20 -> 19.3 | BI15: =BC15-BH15 -> -5.4 | BJ15: =IF(BH15<>0,IF(BC15/BH15*100<0,"<0",IF(BC15/BH15*100>200,">200",BC15/BH15*100))," ") -> 72.020725 | BL15: =BM15+BQ15 -> 3.8 | BM15: =BN15+BO15+BP15 -> 0 | BN15: 0 | BQ15: 3.8
A16: inclusiv: | H16: =E16-D16 -> 0 | I16: =IF(D16<>0,IF(E16/D16*100<0,"<0",IF(E16/D16*100>200,">200",E16/D16*100))," ") | T16: =AF16+AN16+AV16 -> 0 | U16: =O16-T16 -> 0 | V16: =IF(T16<>0,IF(O16/T16*100<0,"<0",IF(O16/T16*100>200,">200",O16/T16*100))," ") | AD16: =AA16-X16 -> 0 | AE16: =IF(X16<>0,IF(AA16/X16*100<0,"<0",IF(AA16/X16*100>200,">200",AA16/X16*100))," ") | AH16: =IF(AF16<>0,IF(AA16/AF16*100<0,"<0",IF(AA16/AF16*100>200,">200",AA16/AF16*100))," ") | AP16: =IF(AN16<>0,IF(AK16/AN16*100<0,"<0",IF(AK16/AN16*100>200,">200",AK16/AN16*100))," ") | AU16: =IF(AR16<>0,IF(AS16/AR16*100<0,"<0",IF(AS16/AR16*100>200,">200",AS16/AR16*100))," ") | AX16: =IF(AV16<>0,IF(AS16/AV16*100<0,"<0",IF(AS16/AV16*100>200,">200",AS16/AV16*100))," ") | BA16: =AZ16-BB16 -> 0 | BI16: =BC16-BH16 -> 0 | BJ16: =IF(BH16<>0,IF(BC16/BH16*100<0,"<0",IF(BC16/BH16*100>200,">200",BC16/BH16*100))," ") | BL16: =BM16+BQ16 -> 0 | BM16: =BN16+BO16+BP16 -> 0
A17: Impozitul funciar | B17: 1131 | C17: =M17+AY17 -> 193.6 | D17: =N17+AZ17 -> 196.3 | E17: =O17+BC17 -> 5.9 | F17: =AB17+AK17+AS17+BD17 -> 5.9 | G17: =Q17+BE17 -> 0 | H17: =E17-D17 -> -190.4 | I17: =IF(D17<>0,IF(E17/D17*100<0,"<0",IF(E17/D17*100>200,">200",E17/D17*100))," ") -> 3.0056037 | J17: =T17+BH17 -> 7.2 | K17: =E17-J17 -> -1.3 | L17: =IF(J17<>0,IF(E17/J17*100<0,"<0",IF(E17/J17*100>200,">200",E17/J17*100))," ") -> 81.944444 | M17: =W17+AI17+AQ17 -> 0 | N17: =X17+AJ17+AR17 -> 0 | O17: =AA17+AK17+AS17 -> 0 | P17: =AB17+AK17+AS17 -> 0 | Q17: =AC17 -> 0 | R17: =O17-N17 -> 0 | S17: =IF(N17<>0,IF(O17/N17*100<0,"<0",IF(O17/N17*100>200,">200",O17/N17*100))," ") | T17: =AF17+AN17+AV17 -> 0 | U17: =O17-T17 -> 0 | V17: =IF(T17<>0,IF(O17/T17*100<0,"<0",IF(O17/T17*100>200,">200",O17/T17*100))," ") | Y17: =X17-Z17 -> 0 | AB17: =AA17-AC17 -> 0 | AD17: =AA17-X17 -> 0 | AE17: =IF(X17<>0,IF(AA17/X17*100<0,"<0",IF(AA17/X17*100>200,">200",AA17/X17*100))," ") | AG17: =AA17-AF17 -> 0 | AH17: =IF(AF17<>0,IF(AA17/AF17*100<0,"<0",IF(AA17/AF17*100>200,">200",AA17/AF17*100))," ") | AP17: =IF(AN17<>0,IF(AK17/AN17*100<0,"<0",IF(AK17/AN17*100>200,">200",AK17/AN17*100))," ") | AU17: =IF(AR17<>0,IF(AS17/AR17*100<0,"<0",IF(AS17/AR17*100>200,">200",AS17/AR17*100))," ") | AX17: =IF(AV17<>0,IF(AS17/AV17*100<0,"<0",IF(AS17/AV17*100>200,">200",AS17/AV17*100))," ") | AY17: 193.6 | AZ17: 196.3 | BA17: =AZ17-BB17 -> 196.3 | BC17: 5.9 | BD17: =BC17-BE17 -> 5.9 | BF17: =BC17-AZ17 -> -190.4 | BG17: =IF(AZ17<>0,IF(BC17/AZ17*100<0,"<0",IF(BC17/AZ17*100>200,">200",BC17/AZ17*100))," ") -> 3.0056037 | BH17: 7.2 | BI17: =BC17-BH17 -> -1.3 | BJ17: =IF(BH17<>0,IF(BC17/BH17*100<0,"<0",IF(BC17/BH17*100>200,">200",BC17/BH17*100))," ") -> 81.944444 | BL17: =BM17+BQ17 -> 2.2 | BM17: =BN17+BO17+BP17 -> 0 | BQ17: 2.2
A18: Impozitul pe bunurile imobiliare | B18: 1132 | C18: =M18+AY18 -> 499 | D18: =N18+AZ18 -> 505.1 | E18: =O18+BC18 -> 6.5 | F18: =AB18+AK18+AS18+BD18 -> 6.5 | G18: =Q18+BE18 -> 0 | H18: =E18-D18 -> -498.6 | I18: =IF(D18<>0,IF(E18/D18*100<0,"<0",IF(E18/D18*100>200,">200",E18/D18*100))," ") -> 1.2868739 | J18: =T18+BH18 -> 11.8 | K18: =E18-J18 -> -5.3 | L18: =IF(J18<>0,IF(E18/J18*100<0,"<0",IF(E18/J18*100>200,">200",E18/J18*100))," ") -> 55.084746 | M18: =W18+AI18+AQ18 -> 0 | N18: =X18+AJ18+AR18 -> 0 | O18: =AA18+AK18+AS18 -> 0 | P18: =AB18+AK18+AS18 -> 0 | Q18: =AC18 -> 0 | R18: =O18-N18 -> 0 | S18: =IF(N18<>0,IF(O18/N18*100<0,"<0",IF(O18/N18*100>200,">200",O18/N18*100))," ") | T18: =AF18+AN18+AV18 -> 0 | U18: =O18-T18 -> 0 | V18: =IF(T18<>0,IF(O18/T18*100<0,"<0",IF(O18/T18*100>200,">200",O18/T18*100))," ") | Y18: =X18-Z18 -> 0 | AB18: =AA18-AC18 -> 0 | AD18: =AA18-X18 -> 0 | AE18: =IF(X18<>0,IF(AA18/X18*100<0,"<0",IF(AA18/X18*100>200,">200",AA18/X18*100))," ") | AG18: =AA18-AF18 -> 0 | AH18: =IF(AF18<>0,IF(AA18/AF18*100<0,"<0",IF(AA18/AF18*100>200,">200",AA18/AF18*100))," ") | AP18: =IF(AN18<>0,IF(AK18/AN18*100<0,"<0",IF(AK18/AN18*100>200,">200",AK18/AN18*100))," ") | AU18: =IF(AR18<>0,IF(AS18/AR18*100<0,"<0",IF(AS18/AR18*100>200,">200",AS18/AR18*100))," ") | AX18: =IF(AV18<>0,IF(AS18/AV18*100<0,"<0",IF(AS18/AV18*100>200,">200",AS18/AV18*100))," ") | AY18: 499 | AZ18: 505.1 | BA18: =AZ18-BB18 -> 505.1 | BC18: 6.5 | BD18: =BC18-BE18 -> 6.5 | BF18: =BC18-AZ18 -> -498.6 | BG18: =IF(AZ18<>0,IF(BC18/AZ18*100<0,"<0",IF(BC18/AZ18*100>200,">200",BC18/AZ18*100))," ") -> 1.2868739 | BH18: 11.8 | BI18: =BC18-BH18 -> -5.3 | BJ18: =IF(BH18<>0,IF(BC18/BH18*100<0,"<0",IF(BC18/BH18*100>200,">200",BC18/BH18*100))," ") -> 55.084746 | BL18: =BM18+BQ18 -> 1.6 | BM18: =BN18+BO18+BP18 -> 0 | BQ18: 1.6
A19: Impozite pe proprietate cu caracter ocazional | B19: 1133 | C19: =M19+AY19 -> 5.7 | D19: =N19+AZ19 -> 5.7 | E19: =O19+BC19 -> 1.5 | F19: =AB19+AK19+AS19+BD19 -> 1.5 | G19: =Q19+BE19 -> 0 | H19: =E19-D19 -> -4.2 | I19: =IF(D19<>0,IF(E19/D19*100<0,"<0",IF(E19/D19*100>200,">200",E19/D19*100))," ") -> 26.315789 | J19: =T19+BH19 -> 0.4 | K19: =E19-J19 -> 1.1 | L19: =IF(J19<>0,IF(E19/J19*100<0,"<0",IF(E19/J19*100>200,">200",E19/J19*100))," ") -> >200 | M19: =W19+AI19+AQ19 -> 5 | N19: =X19+AJ19+AR19 -> 5 | O19: =AA19+AK19+AS19 -> 0 | P19: =AB19+AK19+AS19 -> 0 | Q19: =AC19 -> 0 | R19: =O19-N19 -> -5 | S19: =IF(N19<>0,IF(O19/N19*100<0,"<0",IF(O19/N19*100>200,">200",O19/N19*100))," ") -> 0 | T19: =AF19+AN19+AV19 -> 0.1 | U19: =O19-T19 -> -0.1 | V19: =IF(T19<>0,IF(O19/T19*100<0,"<0",IF(O19/T19*100>200,">200",O19/T19*100))," ") -> 0 | W19: 5 | X19: 5 | Y19: =X19-Z19 -> 5 | AB19: =AA19-AC19 -> 0 | AD19: =AA19-X19 -> -5 | AE19: =IF(X19<>0,IF(AA19/X19*100<0,"<0",IF(AA19/X19*100>200,">200",AA19/X19*100))," ") -> 0 | AF19: 0.1 | AG19: =AA19-AF19 -> -0.1 | AH19: =IF(AF19<>0,IF(AA19/AF19*100<0,"<0",IF(AA19/AF19*100>200,">200",AA19/AF19*100))," ") -> 0 | AP19: =IF(AN19<>0,IF(AK19/AN19*100<0,"<0",IF(AK19/AN19*100>200,">200",AK19/AN19*100))," ") | AY19: 0.7 | AZ19: 0.7 | BA19: =AZ19-BB19 -> 0.7 | BC19: 1.5 | BD19: =BC19-BE19 -> 1.5 | BF19: =BC19-AZ19 -> 0.8 | BG19: =IF(AZ19<>0,IF(BC19/AZ19*100<0,"<0",IF(BC19/AZ19*100>200,">200",BC19/AZ19*100))," ") -> >200 | BH19: 0.3 | BI19: =BC19-BH19 -> 1.2 | BJ19: =IF(BH19<>0,IF(BC19/BH19*100<0,"<0",IF(BC19/BH19*100>200,">200",BC19/BH19*100))," ") -> >200 | BL19: =BM19+BQ19 -> 0 | BM19: =BN19+BO19+BP19 -> 0
A20: Alte impozite pe proprietate | B20: 1136 | C20: =M20+AY20 -> 42 | D20: =N20+AZ20 -> 42 | E20: =O20+BC20 -> 4.9 | H20: =E20-D20 -> -37.1 | I20: =IF(D20<>0,IF(E20/D20*100<0,"<0",IF(E20/D20*100>200,">200",E20/D20*100))," ") -> 11.666667 | J20: =T20+BH20 -> 5.5 | K20: =E20-J20 -> -0.6 | L20: =IF(J20<>0,IF(E20/J20*100<0,"<0",IF(E20/J20*100>200,">200",E20/J20*100))," ") -> 89.090909 | M20: =W20+AI20+AQ20 -> 42 | N20: =X20+AJ20+AR20 -> 42 | O20: =AA20+AK20+AS20 -> 4.9 | P20: =AB20+AK20+AS20 -> 4.9 | Q20: =AC20 -> 0 | R20: =O20-N20 -> -37.1 | S20: =IF(N20<>0,IF(O20/N20*100<0,"<0",IF(O20/N20*100>200,">200",O20/N20*100))," ") -> 11.666667 | T20: =AF20+AN20+AV20 -> 5.5 | U20: =O20-T20 -> -0.6 | V20: =IF(T20<>0,IF(O20/T20*100<0,"<0",IF(O20/T20*100>200,">200",O20/T20*100))," ") -> 89.090909 | W20: 42 | X20: 42 | Y20: =X20-Z20 -> 42 | AA20: 4.9 | AB20: =AA20-AC20 -> 4.9 | AD20: =AA20-X20 -> -37.1 | AE20: =IF(X20<>0,IF(AA20/X20*100<0,"<0",IF(AA20/X20*100>200,">200",AA20/X20*100))," ") -> 11.666667 | AF20: 5.5 | AG20: =AA20-AF20 -> -0.6 | AH20: =IF(AF20<>0,IF(AA20/AF20*100<0,"<0",IF(AA20/AF20*100>200,">200",AA20/AF20*100))," ") -> 89.090909 | AP20: =IF(AN20<>0,IF(AK20/AN20*100<0,"<0",IF(AK20/AN20*100>200,">200",AK20/AN20*100))," ") | BA20: =AZ20-BB20 -> 0 | BJ20: =IF(BH20<>0,IF(BC20/BH20*100<0,"<0",IF(BC20/BH20*100>200,">200",BC20/BH20*100))," ") | BL20: =BM20+BQ20 -> 0 | BM20: =BN20+BO20+BP20 -> 0
A21: Impozite și taxe pe mărfuri și servicii | B21: 114 formula | C21: =M21+AY21 -> 36398.6 | D21: =N21+AZ21 -> 36509.9 | E21: =O21+BC21 -> 5894.6 | F21: =AB21+AK21+AS21+BD21 -> 5894.6 | G21: =Q21+BE21 -> 0 | H21: =E21-D21 -> -30615.3 | I21: =IF(D21<>0,IF(E21/D21*100<0,"<0",IF(E21/D21*100>200,">200",E21/D21*100))," ") -> 16.14521 | J21: =T21+BH21 -> 4778.8 | K21: =E21-J21 -> 1115.8 | L21: =IF(J21<>0,IF(E21/J21*100<0,"<0",IF(E21/J21*100>200,">200",E21/J21*100))," ") -> 123.34896 | M21: =W21+AI21+AQ21 -> 35738 | N21: =X21+AJ21+AR21 -> 35738 | O21: =AA21+AK21+AS21 -> 5739.4 | P21: =AB21+AK21+AS21 -> 5739.4 | Q21: =AC21 -> 0 | R21: =O21-N21 -> -29998.6 | S21: =IF(N21<>0,IF(O21/N21*100<0,"<0",IF(O21/N21*100>200,">200",O21/N21*100))," ") -> 16.059656 | T21: =AF21+AN21+AV21 -> 4643.5 | U21: =O21-T21 -> 1095.9 | V21: =IF(T21<>0,IF(O21/T21*100<0,"<0",IF(O21/T21*100>200,">200",O21/T21*100))," ") -> 123.60073 | W21: =W23+W28+W40+W41+W42 -> 35738 | X21: =X23+X28+X40+X41+X42 -> 35738 | Y21: =X21-Z21 -> 35738 | Z21: =Z23+Z28+Z40+Z41+Z42 -> 0 | AA21: =AA23+AA28+AA40+AA41+AA42 -> 5739.4 | AB21: =AA21-AC21 -> 5739.4 | AC21: =AC23+AC28+AC40+AC41+AC42 -> 0 | AD21: =AA21-X21 -> -29998.6 | AE21: =IF(X21<>0,IF(AA21/X21*100<0,"<0",IF(AA21/X21*100>200,">200",AA21/X21*100))," ") -> 16.059656 | AF21: =AF23+AF28+AF40+AF41+AF42 -> 4643.5 | AG21: =AA21-AF21 -> 1095.9 | AH21: =IF(AF21<>0,IF(AA21/AF21*100<0,"<0",IF(AA21/AF21*100>200,">200",AA21/AF21*100))," ") -> 123.60073 | AK21: =AK23+AK28+AK40+AK41+AK42 -> 0 | AL21: =AK21-AJ21 -> 0 | AM21: =IF(AJ21<>0,IF(AK21/AJ21*100<0,"<0",IF(AK21/AJ21*100>200,">200",AK21/AJ21*100))," ") | AN21: =AN23+AN28+AN40+AN41+AN42 -> 0 | AO21: =AK21-AN21 -> 0 | AP21: =IF(AN21<>0,IF(AK21/AN21*100<0,"<0",IF(AK21/AN21*100>200,">200",AK21/AN21*100))," ") | AS21: =AS23+AS28+AS40+AS41+AS42 -> 0 | AT21: =AS21-AR21 -> 0 | AU21: =IF(AR21<>0,IF(AS21/AR21*100<0,"<0",IF(AS21/AR21*100>200,">200",AS21/AR21*100))," ") | AW21: =AS21-AV21 -> 0 | AX21: =IF(AV21<>0,IF(AS21/AV21*100<0,"<0",IF(AS21/AV21*100>200,">200",AS21/AV21*100))," ") | AY21: =AY23+AY28+AY40+AY41+AY42 -> 660.6 | AZ21: =AZ23+AZ28+AZ40+AZ41+AZ42 -> 771.9 | BA21: =AZ21-BB21 -> 771.9 | BB21: =BB23+BB28+BB40+BB41+BB42 -> 0 | BC21: =BC23+BC28+BC40+BC41+BC42 -> 155.2 | BD21: =BC21-BE21 -> 155.2 | BE21: =BE23+BE28+BE40+BE41+BE42 -> 0 | BF21: =BC21-AZ21 -> -616.7 | BG21: =IF(AZ21<>0,IF(BC21/AZ21*100<0,"<0",IF(BC21/AZ21*100>200,">200",BC21/AZ21*100))," ") -> 20.106231 | BH21: =BH23+BH28+BH40+BH41+BH42 -> 135.3 | BI21: =BC21-BH21 -> 19.9 | BJ21: =IF(BH21<>0,IF(BC21/BH21*100<0,"<0",IF(BC21/BH21*100>200,">200",BC21/BH21*100))," ") -> 114.70806 | BL21: =BM21+BQ21 -> 1293.5 | BM21: =BN21+BO21+BP21 -> 1216 | BN21: 1216 | BQ21: 77.5
A22: inclusiv: | H22: =E22-D22 -> 0 | I22: =IF(D22<>0,IF(E22/D22*100<0,"<0",IF(E22/D22*100>200,">200",E22/D22*100))," ") | AD22: =AA22-X22 -> 0 | AE22: =IF(X22<>0,IF(AA22/X22*100<0,"<0",IF(AA22/X22*100>200,">200",AA22/X22*100))," ") | AP22: =IF(AN22<>0,IF(AK22/AN22*100<0,"<0",IF(AK22/AN22*100>200,">200",AK22/AN22*100))," ") | AU22: =IF(AR22<>0,IF(AS22/AR22*100<0,"<0",IF(AS22/AR22*100>200,">200",AS22/AR22*100))," ") | AX22: =IF(AV22<>0,IF(AS22/AV22*100<0,"<0",IF(AS22/AV22*100>200,">200",AS22/AV22*100))," ") | BA22: =AZ22-BB22 -> 0 | BL22: =BM22+BQ22 -> 0 | BM22: =BN22+BO22+BP22 -> 0 | BO22: 0 | BP22: 0
A23: Taxa pe valoarea adaugata, total | B23: 1141 formula | C23: =M23+AY23 -> 26157 | D23: =N23+AZ23 -> 26255.3 | E23: =O23+BC23 -> 4394.2 | F23: =AB23+AK23+AS23+BD23 -> 4394.2 | G23: =Q23+BE23 -> 0 | H23: =E23-D23 -> -21861.1 | I23: =IF(D23<>0,IF(E23/D23*100<0,"<0",IF(E23/D23*100>200,">200",E23/D23*100))," ") -> 16.73643 | J23: =T23+BH23 -> 3457.7 | K23: =E23-J23 -> 936.5 | L23: =IF(J23<>0,IF(E23/J23*100<0,"<0",IF(E23/J23*100>200,">200",E23/J23*100))," ") -> 127.08448 | M23: =W23+AI23+AQ23 -> 26157 | N23: =X23+AJ23+AR23 -> 26157 | O23: =AA23+AK23+AS23 -> 4370.6 | P23: =AB23+AK23+AS23 -> 4370.6 | Q23: =AC23 -> 0 | R23: =O23-N23 -> -21786.4 | S23: =IF(N23<>0,IF(O23/N23*100<0,"<0",IF(O23/N23*100>200,">200",O23/N23*100))," ") -> 16.709103 | T23: =AF23+AN23+AV23 -> 3440.1 | U23: =O23-T23 -> 930.5 | V23: =IF(T23<>0,IF(O23/T23*100<0,"<0",IF(O23/T23*100>200,">200",O23/T23*100))," ") -> 127.04863 | W23: =SUM(W25:W27) -> 26157 | X23: =SUM(X25:X27) -> 26157 | Y23: =X23-Z23 -> 26157 | Z23: =SUM(Z25:Z27) -> 0 | AA23: =SUM(AA25:AA27) -> 4370.6 | AB23: =AA23-AC23 -> 4370.6 | AC23: =SUM(AC25:AC27) -> 0 | AD23: =AA23-X23 -> -21786.4 | AE23: =IF(X23<>0,IF(AA23/X23*100<0,"<0",IF(AA23/X23*100>200,">200",AA23/X23*100))," ") -> 16.709103 | AF23: =SUM(AF25:AF27) -> 3440.1 | AG23: =AA23-AF23 -> 930.5 | AH23: =IF(AF23<>0,IF(AA23/AF23*100<0,"<0",IF(AA23/AF23*100>200,">200",AA23/AF23*100))," ") -> 127.04863 | AJ23: =SUM(AJ25:AJ27) -> 0 | AK23: =SUM(AK25:AK27) -> 0 | AL23: =SUM(AL25:AL27) -> 0 | AM23: =IF(AJ23<>0,IF(AK23/AJ23*100<0,"<0",IF(AK23/AJ23*100>200,">200",AK23/AJ23*100))," ") | AN23: =SUM(AN25:AN27) -> 0 | AO23: =AK23-AN23 -> 0 | AP23: =IF(AN23<>0,IF(AK23/AN23*100<0,"<0",IF(AK23/AN23*100>200,">200",AK23/AN23*100))," ") | AR23: =SUM(AR25:AR27) -> 0 | AS23: =SUM(AS25:AS27) -> 0 | AT23: =SUM(AT25:AT27) -> 0 | AU23: =IF(AR23<>0,IF(AS23/AR23*100<0,"<0",IF(AS23/AR23*100>200,">200",AS23/AR23*100))," ") | AV23: =SUM(AV25:AV27) -> 0 | AW23: =AS23-AV23 -> 0 | AX23: =IF(AV23<>0,IF(AS23/AV23*100<0,"<0",IF(AS23/AV23*100>200,">200",AS23/AV23*100))," ") | AY23: =SUM(AY25:AY27) -> 0 | AZ23: =SUM(AZ25:AZ27) -> 98.3 | BA23: =AZ23-BB23 -> 98.3 | BB23: =SUM(BB25:BB27) -> 0 | BC23: =SUM(BC25:BC27) -> 23.6 | BD23: =BC23-BE23 -> 23.6 | BE23: =SUM(BE25:BE27) -> 0 | BF23: =SUM(BF25:BF27) -> -74.7 | BG23: =IF(AZ23<>0,IF(BC23/AZ23*100<0,"<0",IF(BC23/AZ23*100>200,">200",BC23/AZ23*100))," ") -> 24.008138 | BH23: =SUM(BH25:BH27) -> 17.6 | BI23: =BC23-BH23 -> 6 | BJ23: =IF(BH23<>0,IF(BC23/BH23*100<0,"<0",IF(BC23/BH23*100>200,">200",BC23/BH23*100))," ") -> 134.09091 | BL23: =BM23+BQ23 -> 917.5 | BM23: =BN23+BO23+BP23 -> 914.5 | BN23: 914.5 | BQ23: 3
A24: dintre care: | H24: =E24-D24 -> 0 | I24: =IF(D24<>0,IF(E24/D24*100<0,"<0",IF(E24/D24*100>200,">200",E24/D24*100))," ") | U24: =O24-T24 -> 0 | AD24: =AA24-X24 -> 0 | AE24: =IF(X24<>0,IF(AA24/X24*100<0,"<0",IF(AA24/X24*100>200,">200",AA24/X24*100))," ") | AP24: =IF(AN24<>0,IF(AK24/AN24*100<0,"<0",IF(AK24/AN24*100>200,">200",AK24/AN24*100))," ") | AU24: =IF(AR24<>0,IF(AS24/AR24*100<0,"<0",IF(AS24/AR24*100>200,">200",AS24/AR24*100))," ") | AX24: =IF(AV24<>0,IF(AS24/AV24*100<0,"<0",IF(AS24/AV24*100>200,">200",AS24/AV24*100))," ") | BA24: =AZ24-BB24 -> 0 | BL24: =BM24+BQ24 -> 0 | BM24: =BN24+BO24+BP24 -> 0
A25: TVA la marfurile produse şi serviciile prestate pe teritoriul Republicii Moldova | B25: 11411 | C25: =M25+AY25 -> 9519 | D25: =N25+AZ25 -> 9617.3 | E25: =O25+BC25 -> 1567.2 | F25: =AB25+AK25+AS25+BD25 -> 1567.2 | G25: =Q25+BE25 -> 0 | H25: =E25-D25 -> -8050.1 | I25: =IF(D25<>0,IF(E25/D25*100<0,"<0",IF(E25/D25*100>200,">200",E25/D25*100))," ") -> 16.295634 | J25: =T25+BH25 -> 1533.5 | K25: =E25-J25 -> 33.7 | L25: =IF(J25<>0,IF(E25/J25*100<0,"<0",IF(E25/J25*100>200,">200",E25/J25*100))," ") -> 102.19759 | M25: =W25+AI25+AQ25 -> 9519 | N25: =X25+AJ25+AR25 -> 9519 | O25: =AA25+AK25+AS25 -> 1543.6 | P25: =AB25+AK25+AS25 -> 1543.6 | Q25: =AC25 -> 0 | R25: =O25-N25 -> -7975.4 | S25: =IF(N25<>0,IF(O25/N25*100<0,"<0",IF(O25/N25*100>200,">200",O25/N25*100))," ") -> 16.215989 | T25: =AF25+AN25+AV25 -> 1515.9 | U25: =O25-T25 -> 27.7 | V25: =IF(T25<>0,IF(O25/T25*100<0,"<0",IF(O25/T25*100>200,">200",O25/T25*100))," ") -> 101.8273 | W25: 9519 | X25: 9519 | Y25: =X25-Z25 -> 9519 | AA25: 1543.6 | AB25: =AA25-AC25 -> 1543.6 | AD25: =AA25-X25 -> -7975.4 | AE25: =IF(X25<>0,IF(AA25/X25*100<0,"<0",IF(AA25/X25*100>200,">200",AA25/X25*100))," ") -> 16.215989 | AF25: 1515.9 | AG25: =AA25-AF25 -> 27.7 | AH25: =IF(AF25<>0,IF(AA25/AF25*100<0,"<0",IF(AA25/AF25*100>200,">200",AA25/AF25*100))," ") -> 101.8273 | AL25: =AK25-AJ25 -> 0 | AM25: =IF(AJ25<>0,IF(AK25/AJ25*100<0,"<0",IF(AK25/AJ25*100>200,">200",AK25/AJ25*100))," ") | AO25: =AK25-AN25 -> 0 | AP25: =IF(AN25<>0,IF(AK25/AN25*100<0,"<0",IF(AK25/AN25*100>200,">200",AK25/AN25*100))," ") | AT25: =AS25-AR25 -> 0 | AU25: =IF(AR25<>0,IF(AS25/AR25*100<0,"<0",IF(AS25/AR25*100>200,">200",AS25/AR25*100))," ") | AW25: =AS25-AV25 -> 0 | AX25: =IF(AV25<>0,IF(AS25/AV25*100<0,"<0",IF(AS25/AV25*100>200,">200",AS25/AV25*100))," ") | AZ25: 98.3 | BA25: =AZ25-BB25 -> 98.3 | BC25: 23.6 | BD25: =BC25-BE25 -> 23.6 | BF25: =BC25-AZ25 -> -74.7 | BG25: =IF(AZ25<>0,IF(BC25/AZ25*100<0,"<0",IF(BC25/AZ25*100>200,">200",BC25/AZ25*100))," ") -> 24.008138 | BH25: 17.6 | BI25: =BC25-BH25 -> 6 | BJ25: =IF(BH25<>0,IF(BC25/BH25*100<0,"<0",IF(BC25/BH25*100>200,">200",BC25/BH25*100))," ") -> 134.09091 | BL25: =BM25+BQ25 -> 417.3 | BM25: =BN25+BO25+BP25 -> 414.3 | BN25: 414.3 | BQ25: 3
A26: TVA la marfurile importate | B26: 11412 | C26: =M26+AY26 -> 20216 | D26: =N26+AZ26 -> 20216 | E26: =O26+BC26 -> 3266.2 | F26: =AB26+AK26+AS26+BD26 -> 3266.2 | G26: =Q26+BE26 -> 0 | H26: =E26-D26 -> -16949.8 | I26: =IF(D26<>0,IF(E26/D26*100<0,"<0",IF(E26/D26*100>200,">200",E26/D26*100))," ") -> 16.15651 | J26: =T26+BH26 -> 2354.4 | K26: =E26-J26 -> 911.8 | L26: =IF(J26<>0,IF(E26/J26*100<0,"<0",IF(E26/J26*100>200,">200",E26/J26*100))," ") -> 138.72749 | M26: =W26+AI26+AQ26 -> 20216 | N26: =X26+AJ26+AR26 -> 20216 | O26: =AA26+AK26+AS26 -> 3266.2 | P26: =AB26+AK26+AS26 -> 3266.2 | Q26: =AC26 -> 0 | R26: =O26-N26 -> -16949.8 | S26: =IF(N26<>0,IF(O26/N26*100<0,"<0",IF(O26/N26*100>200,">200",O26/N26*100))," ") -> 16.15651 | T26: =AF26+AN26+AV26 -> 2354.4 | U26: =O26-T26 -> 911.8 | V26: =IF(T26<>0,IF(O26/T26*100<0,"<0",IF(O26/T26*100>200,">200",O26/T26*100))," ") -> 138.72749 | W26: 20216 | X26: 20216 | Y26: =X26-Z26 -> 20216 | AA26: 3266.2 | AB26: =AA26-AC26 -> 3266.2 | AD26: =AA26-X26 -> -16949.8 | AE26: =IF(X26<>0,IF(AA26/X26*100<0,"<0",IF(AA26/X26*100>200,">200",AA26/X26*100))," ") -> 16.15651 | AF26: 2354.4 | AG26: =AA26-AF26 -> 911.8 | AH26: =IF(AF26<>0,IF(AA26/AF26*100<0,"<0",IF(AA26/AF26*100>200,">200",AA26/AF26*100))," ") -> 138.72749 | AL26: =AK26-AJ26 -> 0 | AM26: =IF(AJ26<>0,IF(AK26/AJ26*100<0,"<0",IF(AK26/AJ26*100>200,">200",AK26/AJ26*100))," ") | AO26: =AK26-AN26 -> 0 | AP26: =IF(AN26<>0,IF(AK26/AN26*100<0,"<0",IF(AK26/AN26*100>200,">200",AK26/AN26*100))," ") | AT26: =AS26-AR26 -> 0 | AU26: =IF(AR26<>0,IF(AS26/AR26*100<0,"<0",IF(AS26/AR26*100>200,">200",AS26/AR26*100))," ") | AW26: =AS26-AV26 -> 0 | AX26: =IF(AV26<>0,IF(AS26/AV26*100<0,"<0",IF(AS26/AV26*100>200,">200",AS26/AV26*100))," ") | BA26: =AZ26-BB26 -> 0 | BD26: =BC26-BE26 -> 0 | BF26: =BC26-AZ26 -> 0 | BG26: =IF(AZ26<>0,IF(BC26/AZ26*100<0,"<0",IF(BC26/AZ26*100>200,">200",BC26/AZ26*100))," ") | BI26: =BC26-BH26 -> 0 | BJ26: =IF(BH26<>0,IF(BC26/BH26*100<0,"<0",IF(BC26/BH26*100>200,">200",BC26/BH26*100))," ") | BL26: =BM26+BQ26 -> 514.3 | BM26: =BN26+BO26+BP26 -> 514.3 | BN26: 514.3
A27: Restituirea TVA | B27: 11413 | C27: =M27+AY27 -> -3578 | D27: =N27+AZ27 -> -3578 | E27: =O27+BC27 -> -439.2 | F27: =AB27+AK27+AS27+BD27 -> -439.2 | G27: =Q27+BE27 -> 0 | H27: =E27-D27 -> 3138.8 | I27: =IF(D27<>0,IF(E27/D27*100<0,"<0",IF(E27/D27*100>200,">200",E27/D27*100))," ") -> 12.275014 | J27: =T27+BH27 -> -430.2 | K27: =E27-J27 -> -9 | L27: =IF(J27<>0,IF(E27/J27*100<0,"<0",IF(E27/J27*100>200,">200",E27/J27*100))," ") -> 102.09205 | M27: =W27+AI27+AQ27 -> -3578 | N27: =X27+AJ27+AR27 -> -3578 | O27: =AA27+AK27+AS27 -> -439.2 | P27: =AB27+AK27+AS27 -> -439.2 | Q27: =AC27 -> 0 | R27: =O27-N27 -> 3138.8 | S27: =IF(N27<>0,IF(O27/N27*100<0,"<0",IF(O27/N27*100>200,">200",O27/N27*100))," ") -> 12.275014 | T27: =AF27+AN27+AV27 -> -430.2 | U27: =O27-T27 -> -9 | V27: =IF(T27<>0,IF(O27/T27*100<0,"<0",IF(O27/T27*100>200,">200",O27/T27*100))," ") -> 102.09205 | W27: -3578 | X27: -3578 | Y27: =X27-Z27 -> -3578 | AA27: -439.2 | AB27: =AA27-AC27 -> -439.2 | AD27: =AA27-X27 -> 3138.8 | AE27: =IF(X27<>0,IF(AA27/X27*100<0,"<0",IF(AA27/X27*100>200,">200",AA27/X27*100))," ") -> 12.275014 | AF27: -430.2 | AG27: =AA27-AF27 -> -9 | AH27: =IF(AF27<>0,IF(AA27/AF27*100<0,"<0",IF(AA27/AF27*100>200,">200",AA27/AF27*100))," ") -> 102.09205 | AL27: =AK27-AJ27 -> 0 | AM27: =IF(AJ27<>0,IF(AK27/AJ27*100<0,"<0",IF(AK27/AJ27*100>200,">200",AK27/AJ27*100))," ") | AO27: =AK27-AN27 -> 0 | AP27: =IF(AN27<>0,IF(AK27/AN27*100<0,"<0",IF(AK27/AN27*100>200,">200",AK27/AN27*100))," ") | AT27: =AS27-AR27 -> 0 | AU27: =IF(AR27<>0,IF(AS27/AR27*100<0,"<0",IF(AS27/AR27*100>200,">200",AS27/AR27*100))," ") | AW27: =AS27-AV27 -> 0 | AX27: =IF(AV27<>0,IF(AS27/AV27*100<0,"<0",IF(AS27/AV27*100>200,">200",AS27/AV27*100))," ") | BA27: =AZ27-BB27 -> 0 | BD27: =BC27-BE27 -> 0 | BF27: =BC27-AZ27 -> 0 | BG27: =IF(AZ27<>0,IF(BC27/AZ27*100<0,"<0",IF(BC27/AZ27*100>200,">200",BC27/AZ27*100))," ") | BI27: =BC27-BH27 -> 0 | BJ27: =IF(BH27<>0,IF(BC27/BH27*100<0,"<0",IF(BC27/BH27*100>200,">200",BC27/BH27*100))," ") | BL27: =BM27+BQ27 -> -14.1 | BM27: =BN27+BO27+BP27 -> -14.1 | BN27: -14.1
A28: Accize, total | B28: 1142 formula | C28: =M28+AY28 -> 8036 | D28: =N28+AZ28 -> 8039.2 | E28: =O28+BC28 -> 1119.2 | F28: =AB28+AK28+AS28+BD28 -> 1119.2 | G28: =Q28+BE28 -> 0 | H28: =E28-D28 -> -6920 | I28: =IF(D28<>0,IF(E28/D28*100<0,"<0",IF(E28/D28*100>200,">200",E28/D28*100))," ") -> 13.921783 | J28: =T28+BH28 -> 987.7 | K28: =E28-J28 -> 131.5 | L28: =IF(J28<>0,IF(E28/J28*100<0,"<0",IF(E28/J28*100>200,">200",E28/J28*100))," ") -> 113.31376 | M28: =W28+AI28+AQ28 -> 8036 | N28: =X28+AJ28+AR28 -> 8036 | O28: =AA28+AK28+AS28 -> 1117.6 | P28: =AB28+AK28+AS28 -> 1117.6 | Q28: =AC28 -> 0 | R28: =O28-N28 -> -6918.4 | S28: =IF(N28<>0,IF(O28/N28*100<0,"<0",IF(O28/N28*100>200,">200",O28/N28*100))," ") -> 13.907417 | T28: =AF28+AN28+AV28 -> 987.1 | U28: =O28-T28 -> 130.5 | V28: =IF(T28<>0,IF(O28/T28*100<0,"<0",IF(O28/T28*100>200,">200",O28/T28*100))," ") -> 113.22055 | W28: =W30+W31+W39 -> 8036 | X28: =X30+X31+X39 -> 8036 | Y28: =X28-Z28 -> 8036 | Z28: =Z30+Z31+Z39 -> 0 | AA28: =AA30+AA31+AA39 -> 1117.6 | AB28: =AA28-AC28 -> 1117.6 | AC28: =AC30+AC31+AC39 -> 0 | AD28: =AA28-X28 -> -6918.4 | AE28: =IF(X28<>0,IF(AA28/X28*100<0,"<0",IF(AA28/X28*100>200,">200",AA28/X28*100))," ") -> 13.907417 | AF28: =AF30+AF31+AF39 -> 987.1 | AG28: =AA28-AF28 -> 130.5 | AH28: =IF(AF28<>0,IF(AA28/AF28*100<0,"<0",IF(AA28/AF28*100>200,">200",AA28/AF28*100))," ") -> 113.22055 | AK28: =AK30+AK31+AK39 -> 0 | AL28: =AK28-AJ28 -> 0 | AM28: =IF(AJ28<>0,IF(AK28/AJ28*100<0,"<0",IF(AK28/AJ28*100>200,">200",AK28/AJ28*100))," ") | AO28: =AK28-AN28 -> 0 | AP28: =IF(AN28<>0,IF(AK28/AN28*100<0,"<0",IF(AK28/AN28*100>200,">200",AK28/AN28*100))," ") | AS28: =AS30+AS31+AS39 -> 0 | AT28: =AS28-AR28 -> 0 | AU28: =IF(AR28<>0,IF(AS28/AR28*100<0,"<0",IF(AS28/AR28*100>200,">200",AS28/AR28*100))," ") | AW28: =AS28-AV28 -> 0 | AX28: =IF(AV28<>0,IF(AS28/AV28*100<0,"<0",IF(AS28/AV28*100>200,">200",AS28/AV28*100))," ") | AY28: =AY30+AY31+AY39 -> 0 | AZ28: =AZ30+AZ31+AZ39 -> 3.2 | BA28: =AZ28-BB28 -> 3.2 | BB28: =BB30+BB31+BB39 -> 0 | BC28: =BC30+BC31+BC39 -> 1.6 | BD28: =BC28-BE28 -> 1.6 | BE28: =BE30+BE31+BE39 -> 0 | BF28: =BC28-AZ28 -> -1.6 | BG28: =IF(AZ28<>0,IF(BC28/AZ28*100<0,"<0",IF(BC28/AZ28*100>200,">200",BC28/AZ28*100))," ") -> 50 | BH28: =BH30+BH31+BH39 -> 0.6 | BI28: =BC28-BH28 -> 1 | BJ28: =IF(BH28<>0,IF(BC28/BH28*100<0,"<0",IF(BC28/BH28*100>200,">200",BC28/BH28*100))," ") -> >200 | BL28: =BM28+BQ28 -> 250.4 | BM28: =BN28+BO28+BP28 -> 250.4 | BN28: 250.4 | BQ28: 0
A29: dintre care: | F29: =AB29+AK29+AS29+BD29 -> 0 | G29: =Q29+BE29 -> 0 | H29: =E29-D29 -> 0 | I29: =IF(D29<>0,IF(E29/D29*100<0,"<0",IF(E29/D29*100>200,">200",E29/D29*100))," ") | J29: =T29+BH29 -> 0 | L29: =IF(J29<>0,IF(E29/J29*100<0,"<0",IF(E29/J29*100>200,">200",E29/J29*100))," ") | U29: =O29-T29 -> 0 | V29: =IF(T29<>0,IF(O29/T29*100<0,"<0",IF(O29/T29*100>200,">200",O29/T29*100))," ") | AH29: =IF(AF29<>0,IF(AA29/AF29*100<0,"<0",IF(AA29/AF29*100>200,">200",AA29/AF29*100))," ") | AP29: =IF(AN29<>0,IF(AK29/AN29*100<0,"<0",IF(AK29/AN29*100>200,">200",AK29/AN29*100))," ") | AU29: =IF(AR29<>0,IF(AS29/AR29*100<0,"<0",IF(AS29/AR29*100>200,">200",AS29/AR29*100))," ") | AX29: =IF(AV29<>0,IF(AS29/AV29*100<0,"<0",IF(AS29/AV29*100>200,">200",AS29/AV29*100))," ") | BA29: =AZ29-BB29 -> 0 | BF29: =BC29-AZ29 -> 0 | BG29: =IF(AZ29<>0,IF(BC29/AZ29*100<0,"<0",IF(BC29/AZ29*100>200,">200",BC29/AZ29*100))," ") | BI29: =BC29-BH29 -> 0 | BJ29: =IF(BH29<>0,IF(BC29/BH29*100<0,"<0",IF(BC29/BH29*100>200,">200",BC29/BH29*100))," ") | BL29: =BM29+BQ29 -> 0 | BM29: =BN29+BO29+BP29 -> 0
A30: Accize la marfurile produse pe teritoriul Republicii Moldova | C30: =M30+AY30 -> 823.2 | D30: =N30+AZ30 -> 826.4 | E30: =O30+BC30 -> 197.9 | F30: =AB30+AK30+AS30+BD30 -> 197.9 | G30: =Q30+BE30 -> 0 | H30: =E30-D30 -> -628.5 | I30: =IF(D30<>0,IF(E30/D30*100<0,"<0",IF(E30/D30*100>200,">200",E30/D30*100))," ") -> 23.947241 | J30: =T30+BH30 -> 164.3 | K30: =E30-J30 -> 33.6 | L30: =IF(J30<>0,IF(E30/J30*100<0,"<0",IF(E30/J30*100>200,">200",E30/J30*100))," ") -> 120.4504 | M30: =W30+AI30+AQ30 -> 823.2 | N30: =X30+AJ30+AR30 -> 823.2 | O30: =AA30+AK30+AS30 -> 196.3 | P30: =AB30+AK30+AS30 -> 196.3 | Q30: =AC30 -> 0 | R30: =O30-N30 -> -626.9 | S30: =IF(N30<>0,IF(O30/N30*100<0,"<0",IF(O30/N30*100>200,">200",O30/N30*100))," ") -> 23.845967 | T30: =AF30+AN30+AV30 -> 163.7 | U30: =O30-T30 -> 32.6 | V30: =IF(T30<>0,IF(O30/T30*100<0,"<0",IF(O30/T30*100>200,">200",O30/T30*100))," ") -> 119.91448 | W30: 823.2 | X30: 823.2 | Y30: =X30-Z30 -> 823.2 | AA30: 196.3 | AB30: =AA30-AC30 -> 196.3 | AD30: =AA30-X30 -> -626.9 | AE30: =IF(X30<>0,IF(AA30/X30*100<0,"<0",IF(AA30/X30*100>200,">200",AA30/X30*100))," ") -> 23.845967 | AF30: 163.7 | AG30: =AA30-AF30 -> 32.6 | AH30: =IF(AF30<>0,IF(AA30/AF30*100<0,"<0",IF(AA30/AF30*100>200,">200",AA30/AF30*100))," ") -> 119.91448 | AP30: =IF(AN30<>0,IF(AK30/AN30*100<0,"<0",IF(AK30/AN30*100>200,">200",AK30/AN30*100))," ") | AZ30: 3.2 | BA30: =AZ30-BB30 -> 3.2 | BC30: 1.6 | BD30: =BC30-BE30 -> 1.6 | BF30: =BC30-AZ30 -> -1.6 | BG30: =IF(AZ30<>0,IF(BC30/AZ30*100<0,"<0",IF(BC30/AZ30*100>200,">200",BC30/AZ30*100))," ") -> 50 | BH30: 0.6 | BI30: =BC30-BH30 -> 1 | BJ30: =IF(BH30<>0,IF(BC30/BH30*100<0,"<0",IF(BC30/BH30*100>200,">200",BC30/BH30*100))," ") -> >200 | BL30: =BM30+BQ30 -> 23.8 | BM30: =BN30+BO30+BP30 -> 23.8 | BN30: 23.8
A31: Accize la marfurile importate | C31: =M31+AY31 -> 7227.8 | D31: =N31+AZ31 -> 7227.8 | E31: =O31+BC31 -> 921.3 | F31: =AB31+AK31+AS31+BD31 -> 921.3 | G31: =Q31+BE31 -> 0 | H31: =E31-D31 -> -6306.5 | I31: =IF(D31<>0,IF(E31/D31*100<0,"<0",IF(E31/D31*100>200,">200",E31/D31*100))," ") -> 12.746617 | J31: =T31+BH31 -> 825.2 | K31: =E31-J31 -> 96.1 | L31: =IF(J31<>0,IF(E31/J31*100<0,"<0",IF(E31/J31*100>200,">200",E31/J31*100))," ") -> 111.64566 | M31: =W31+AI31+AQ31 -> 7227.8 | N31: =X31+AJ31+AR31 -> 7227.8 | O31: =AA31+AK31+AS31 -> 921.3 | P31: =AB31+AK31+AS31 -> 921.3 | Q31: =AC31 -> 0 | R31: =O31-N31 -> -6306.5 | S31: =IF(N31<>0,IF(O31/N31*100<0,"<0",IF(O31/N31*100>200,">200",O31/N31*100))," ") -> 12.746617 | T31: =AF31+AN31+AV31 -> 825.2 | U31: =O31-T31 -> 96.1 | V31: =IF(T31<>0,IF(O31/T31*100<0,"<0",IF(O31/T31*100>200,">200",O31/T31*100))," ") -> 111.64566 | W31: 7227.8 | X31: 7227.8 | Y31: =X31-Z31 -> 7227.8 | AA31: 921.3 | AB31: =AA31-AC31 -> 921.3 | AD31: =AA31-X31 -> -6306.5 | AE31: =IF(X31<>0,IF(AA31/X31*100<0,"<0",IF(AA31/X31*100>200,">200",AA31/X31*100))," ") -> 12.746617 | AF31: 825.2 | AG31: =AA31-AF31 -> 96.1 | AH31: =IF(AF31<>0,IF(AA31/AF31*100<0,"<0",IF(AA31/AF31*100>200,">200",AA31/AF31*100))," ") -> 111.64566 | AP31: =IF(AN31<>0,IF(AK31/AN31*100<0,"<0",IF(AK31/AN31*100>200,">200",AK31/AN31*100))," ") | BA31: =AZ31-BB31 -> 0 | BD31: =BC31-BE31 -> 0 | BF31: =BC31-AZ31 -> 0 | BG31: =IF(AZ31<>0,IF(BC31/AZ31*100<0,"<0",IF(BC31/AZ31*100>200,">200",BC31/AZ31*100))," ") | BI31: =BC31-BH31 -> 0 | BJ31: =IF(BH31<>0,IF(BC31/BH31*100<0,"<0",IF(BC31/BH31*100>200,">200",BC31/BH31*100))," ") | BL31: =BM31+BQ31 -> 226.6 | BM31: =BN31+BO31+BP31 -> 226.6 | BN31: 226.6
A32: Accize la produse alcoolice, vinuri și bere | B32: 11421 | D32: =N32+AZ32 -> 536.3 | E32: =O32+BC32 -> 22 | F32: =AB32+AK32+AS32+BD32 -> 22 | G32: =Q32+BE32 -> 0 | H32: =E32-D32 -> -514.3 | I32: =IF(D32<>0,IF(E32/D32*100<0,"<0",IF(E32/D32*100>200,">200",E32/D32*100))," ") -> 4.1021816 | K32: =E32-J32 -> 22 | N32: =X32+AJ32+AR32 -> 535.9 | O32: =AA32+AK32+AS32 -> 22 | P32: =AB32+AK32+AS32 -> 22 | Q32: =AC32 -> 0 | R32: =O32-N32 -> -513.9 | S32: =IF(N32<>0,IF(O32/N32*100<0,"<0",IF(O32/N32*100>200,">200",O32/N32*100))," ") -> 4.1052435 | T32: =AF32+AN32+AV32 -> 22 | V32: =IF(T32<>0,IF(O32/T32*100<0,"<0",IF(O32/T32*100>200,">200",O32/T32*100))," ") -> 100 | W32: 535.9 | X32: 535.9 | Y32: =X32-Z32 -> 535.9 | AA32: 22 | AB32: =AA32-AC32 -> 22 | AD32: =AA32-X32 -> -513.9 | AE32: =IF(X32<>0,IF(AA32/X32*100<0,"<0",IF(AA32/X32*100>200,">200",AA32/X32*100))," ") -> 4.1052435 | AF32: 22 | AG32: =AA32-AF32 -> 0 | AH32: =IF(AF32<>0,IF(AA32/AF32*100<0,"<0",IF(AA32/AF32*100>200,">200",AA32/AF32*100))," ") -> 100 | AP32: =IF(AN32<>0,IF(AK32/AN32*100<0,"<0",IF(AK32/AN32*100>200,">200",AK32/AN32*100))," ") | AZ32: 0.4 | BA32: =AZ32-BB32 -> 0.4 | BD32: =BC32-BE32 -> 0 | BF32: =BC32-AZ32 -> -0.4 | BG32: =IF(AZ32<>0,IF(BC32/AZ32*100<0,"<0",IF(BC32/AZ32*100>200,">200",BC32/AZ32*100))," ") -> 0 | BI32: =BC32-BH32 -> 0 | BJ32: =IF(BH32<>0,IF(BC32/BH32*100<0,"<0",IF(BC32/BH32*100>200,">200",BC32/BH32*100))," ") | BL32: =BM32+BQ32 -> 22 | BM32: =BN32+BO32+BP32 -> 22 | BN32: 22
A33: Accize la produsele din tutun | B33: 11422 | D33: =N33+AZ33 -> 1326 | E33: =O33+BC33 -> 88 | F33: =AB33+AK33+AS33+BD33 -> 88 | G33: =Q33+BE33 -> 0 | H33: =E33-D33 -> -1238 | I33: =IF(D33<>0,IF(E33/D33*100<0,"<0",IF(E33/D33*100>200,">200",E33/D33*100))," ") -> 6.6365008 | K33: =E33-J33 -> 88 | N33: =X33+AJ33+AR33 -> 1326 | O33: =AA33+AK33+AS33 -> 88 | P33: =AB33+AK33+AS33 -> 88 | Q33: =AC33 -> 0 | R33: =O33-N33 -> -1238 | S33: =IF(N33<>0,IF(O33/N33*100<0,"<0",IF(O33/N33*100>200,">200",O33/N33*100))," ") -> 6.6365008 | T33: =AF33+AN33+AV33 -> 88 | V33: =IF(T33<>0,IF(O33/T33*100<0,"<0",IF(O33/T33*100>200,">200",O33/T33*100))," ") -> 100 | W33: 1326 | X33: 1326 | Y33: =X33-Z33 -> 1326 | AA33: 88 | AB33: =AA33-AC33 -> 88 | AD33: =AA33-X33 -> -1238 | AE33: =IF(X33<>0,IF(AA33/X33*100<0,"<0",IF(AA33/X33*100>200,">200",AA33/X33*100))," ") -> 6.6365008 | AF33: 88 | AG33: =AA33-AF33 -> 0 | AH33: =IF(AF33<>0,IF(AA33/AF33*100<0,"<0",IF(AA33/AF33*100>200,">200",AA33/AF33*100))," ") -> 100 | AP33: =IF(AN33<>0,IF(AK33/AN33*100<0,"<0",IF(AK33/AN33*100>200,">200",AK33/AN33*100))," ") | BA33: =AZ33-BB33 -> 0 | BD33: =BC33-BE33 -> 0 | BF33: =BC33-AZ33 -> 0 | BG33: =IF(AZ33<>0,IF(BC33/AZ33*100<0,"<0",IF(BC33/AZ33*100>200,">200",BC33/AZ33*100))," ") | BI33: =BC33-BH33 -> 0 | BJ33: =IF(BH33<>0,IF(BC33/BH33*100<0,"<0",IF(BC33/BH33*100>200,">200",BC33/BH33*100))," ") | BL33: =BM33+BQ33 -> 88 | BM33: =BN33+BO33+BP33 -> 88 | BN33: 88
A34: Accize la autoturisme | B34: 11423 | D34: =N34+AZ34 -> 585 | E34: =O34+BC34 -> 34.4 | F34: =AB34+AK34+AS34+BD34 -> 34.4 | G34: =Q34+BE34 -> 0 | H34: =E34-D34 -> -550.6 | I34: =IF(D34<>0,IF(E34/D34*100<0,"<0",IF(E34/D34*100>200,">200",E34/D34*100))," ") -> 5.8803419 | K34: =E34-J34 -> 34.4 | N34: =X34+AJ34+AR34 -> 585 | O34: =AA34+AK34+AS34 -> 34.4 | P34: =AB34+AK34+AS34 -> 34.4 | Q34: =AC34 -> 0 | R34: =O34-N34 -> -550.6 | S34: =IF(N34<>0,IF(O34/N34*100<0,"<0",IF(O34/N34*100>200,">200",O34/N34*100))," ") -> 5.8803419 | T34: =AF34+AN34+AV34 -> 34.4 | V34: =IF(T34<>0,IF(O34/T34*100<0,"<0",IF(O34/T34*100>200,">200",O34/T34*100))," ") -> 100 | W34: 585 | X34: 585 | Y34: =X34-Z34 -> 585 | AA34: 34.4 | AB34: =AA34-AC34 -> 34.4 | AD34: =AA34-X34 -> -550.6 | AE34: =IF(X34<>0,IF(AA34/X34*100<0,"<0",IF(AA34/X34*100>200,">200",AA34/X34*100))," ") -> 5.8803419 | AF34: 34.4 | AG34: =AA34-AF34 -> 0 | AH34: =IF(AF34<>0,IF(AA34/AF34*100<0,"<0",IF(AA34/AF34*100>200,">200",AA34/AF34*100))," ") -> 100 | AP34: =IF(AN34<>0,IF(AK34/AN34*100<0,"<0",IF(AK34/AN34*100>200,">200",AK34/AN34*100))," ") | BA34: =AZ34-BB34 -> 0 | BD34: =BC34-BE34 -> 0 | BF34: =BC34-AZ34 -> 0 | BG34: =IF(AZ34<>0,IF(BC34/AZ34*100<0,"<0",IF(BC34/AZ34*100>200,">200",BC34/AZ34*100))," ") | BI34: =BC34-BH34 -> 0 | BJ34: =IF(BH34<>0,IF(BC34/BH34*100<0,"<0",IF(BC34/BH34*100>200,">200",BC34/BH34*100))," ") | BL34: =BM34+BQ34 -> 34.4 | BM34: =BN34+BO34+BP34 -> 34.4 | BN34: 34.4
A35: Accize la produsele petroliere | B35: 11424 | D35: =N35+AZ35 -> 1427.3 | E35: =O35+BC35 -> 91.1 | F35: =AB35+AK35+AS35+BD35 -> 91.1 | G35: =Q35+BE35 -> 0 | H35: =E35-D35 -> -1336.2 | I35: =IF(D35<>0,IF(E35/D35*100<0,"<0",IF(E35/D35*100>200,">200",E35/D35*100))," ") -> 6.3826806 | K35: =E35-J35 -> 91.1 | N35: =X35+AJ35+AR35 -> 1427 | O35: =AA35+AK35+AS35 -> 91.1 | P35: =AB35+AK35+AS35 -> 91.1 | Q35: =AC35 -> 0 | R35: =O35-N35 -> -1335.9 | S35: =IF(N35<>0,IF(O35/N35*100<0,"<0",IF(O35/N35*100>200,">200",O35/N35*100))," ") -> 6.3840224 | T35: =AF35+AN35+AV35 -> 91.1 | V35: =IF(T35<>0,IF(O35/T35*100<0,"<0",IF(O35/T35*100>200,">200",O35/T35*100))," ") -> 100 | W35: 1427 | X35: 1427 | Y35: =X35-Z35 -> 1427 | AA35: 91.1 | AB35: =AA35-AC35 -> 91.1 | AD35: =AA35-X35 -> -1335.9 | AE35: =IF(X35<>0,IF(AA35/X35*100<0,"<0",IF(AA35/X35*100>200,">200",AA35/X35*100))," ") -> 6.3840224 | AF35: 91.1 | AG35: =AA35-AF35 -> 0 | AH35: =IF(AF35<>0,IF(AA35/AF35*100<0,"<0",IF(AA35/AF35*100>200,">200",AA35/AF35*100))," ") -> 100 | AP35: =IF(AN35<>0,IF(AK35/AN35*100<0,"<0",IF(AK35/AN35*100>200,">200",AK35/AN35*100))," ") | AZ35: 0.3 | BA35: =AZ35-BB35 -> 0.3 | BD35: =BC35-BE35 -> 0 | BF35: =BC35-AZ35 -> -0.3 | BG35: =IF(AZ35<>0,IF(BC35/AZ35*100<0,"<0",IF(BC35/AZ35*100>200,">200",BC35/AZ35*100))," ") -> 0 | BI35: =BC35-BH35 -> 0 | BJ35: =IF(BH35<>0,IF(BC35/BH35*100<0,"<0",IF(BC35/BH35*100>200,">200",BC35/BH35*100))," ") | BL35: =BM35+BQ35 -> 91.1 | BM35: =BN35+BO35+BP35 -> 91.1 | BN35: 91.1
A36: Acciza la gazele lichefiate | B36: 11425 | D36: =N36+AZ36 -> 173.6 | E36: =O36+BC36 -> 12.6 | F36: =AB36+AK36+AS36+BD36 -> 12.6 | G36: =Q36+BE36 -> 0 | H36: =E36-D36 -> -161 | I36: =IF(D36<>0,IF(E36/D36*100<0,"<0",IF(E36/D36*100>200,">200",E36/D36*100))," ") -> 7.2580645 | K36: =E36-J36 -> 12.6 | N36: =X36+AJ36+AR36 -> 173.6 | O36: =AA36+AK36+AS36 -> 12.6 | P36: =AB36+AK36+AS36 -> 12.6 | Q36: =AC36 -> 0 | R36: =O36-N36 -> -161 | S36: =IF(N36<>0,IF(O36/N36*100<0,"<0",IF(O36/N36*100>200,">200",O36/N36*100))," ") -> 7.2580645 | T36: =AF36+AN36+AV36 -> 12.6 | V36: =IF(T36<>0,IF(O36/T36*100<0,"<0",IF(O36/T36*100>200,">200",O36/T36*100))," ") -> 100 | W36: 173.6 | X36: 173.6 | Y36: =X36-Z36 -> 173.6 | AA36: 12.6 | AB36: =AA36-AC36 -> 12.6 | AD36: =AA36-X36 -> -161 | AE36: =IF(X36<>0,IF(AA36/X36*100<0,"<0",IF(AA36/X36*100>200,">200",AA36/X36*100))," ") -> 7.2580645 | AF36: 12.6 | AG36: =AA36-AF36 -> 0 | AH36: =IF(AF36<>0,IF(AA36/AF36*100<0,"<0",IF(AA36/AF36*100>200,">200",AA36/AF36*100))," ") -> 100 | AP36: =IF(AN36<>0,IF(AK36/AN36*100<0,"<0",IF(AK36/AN36*100>200,">200",AK36/AN36*100))," ") | BA36: =AZ36-BB36 -> 0 | BD36: =BC36-BE36 -> 0 | BF36: =BC36-AZ36 -> 0 | BG36: =IF(AZ36<>0,IF(BC36/AZ36*100<0,"<0",IF(BC36/AZ36*100>200,">200",BC36/AZ36*100))," ") | BI36: =BC36-BH36 -> 0 | BJ36: =IF(BH36<>0,IF(BC36/BH36*100<0,"<0",IF(BC36/BH36*100>200,">200",BC36/BH36*100))," ") | BL36: =BM36+BQ36 -> 12.6 | BM36: =BN36+BO36+BP36 -> 12.6 | BN36: 12.6 | BO36: 0 | BP36: 0
A37: Accize la bijuterii (inclusiv bijuterii cu briliante) | B37: 11426 | D37: =N37+AZ37 -> 10.9 | E37: =O37+BC37 -> 0.7 | F37: =AB37+AK37+AS37+BD37 -> 0.7 | G37: =Q37+BE37 -> 0 | H37: =E37-D37 -> -10.2 | I37: =IF(D37<>0,IF(E37/D37*100<0,"<0",IF(E37/D37*100>200,">200",E37/D37*100))," ") -> 6.4220183 | J37: =T37+BH37 -> 1.3 | K37: =E37-J37 -> -0.6 | L37: =IF(J37<>0,IF(E37/J37*100<0,"<0",IF(E37/J37*100>200,">200",E37/J37*100))," ") -> 53.846154 | N37: =X37+AJ37+AR37 -> 10.9 | O37: =AA37+AK37+AS37 -> 0.7 | P37: =AB37+AK37+AS37 -> 0.7 | Q37: =AC37 -> 0 | R37: =O37-N37 -> -10.2 | S37: =IF(N37<>0,IF(O37/N37*100<0,"<0",IF(O37/N37*100>200,">200",O37/N37*100))," ") -> 6.4220183 | T37: =AF37+AN37+AV37 -> 0.7 | U37: =O37-T37 -> 0 | V37: =IF(T37<>0,IF(O37/T37*100<0,"<0",IF(O37/T37*100>200,">200",O37/T37*100))," ") -> 100 | W37: 10.9 | X37: 10.9 | Y37: =X37-Z37 -> 10.9 | AA37: 0.7 | AB37: =AA37-AC37 -> 0.7 | AD37: =AA37-X37 -> -10.2 | AE37: =IF(X37<>0,IF(AA37/X37*100<0,"<0",IF(AA37/X37*100>200,">200",AA37/X37*100))," ") -> 6.4220183 | AF37: 0.7 | AG37: =AA37-AF37 -> 0 | AH37: =IF(AF37<>0,IF(AA37/AF37*100<0,"<0",IF(AA37/AF37*100>200,">200",AA37/AF37*100))," ") -> 100 | AJ37: =AJ28-AJ39 -> 0 | AL37: =AL28-AL39 -> 0 | AM37: =IF(AJ37<>0,IF(AK37/AJ37*100<0,"<0",IF(AK37/AJ37*100>200,">200",AK37/AJ37*100))," ") | AN37: =AN28-AN39 -> 0 | AO37: =AK37-AN37 -> 0 | AP37: =IF(AN37<>0,IF(AK37/AN37*100<0,"<0",IF(AK37/AN37*100>200,">200",AK37/AN37*100))," ") | AR37: =AR28-AR39 -> 0 | AT37: =AT28-AT39 -> 0 | AU37: =IF(AR37<>0,IF(AS37/AR37*100<0,"<0",IF(AS37/AR37*100>200,">200",AS37/AR37*100))," ") | AV37: =AV28-AV39 -> 0 | AW37: =AS37-AV37 -> 0 | AX37: =IF(AV37<>0,IF(AS37/AV37*100<0,"<0",IF(AS37/AV37*100>200,">200",AS37/AV37*100))," ") | BA37: =AZ37-BB37 -> 0 | BD37: =BC37-BE37 -> 0 | BF37: =BC37-AZ37 -> 0 | BG37: =IF(AZ37<>0,IF(BC37/AZ37*100<0,"<0",IF(BC37/AZ37*100>200,">200",BC37/AZ37*100))," ") | BH37: =BH28-BH39 -> 0.6 | BI37: =BC37-BH37 -> -0.6 | BJ37: =IF(BH37<>0,IF(BC37/BH37*100<0,"<0",IF(BC37/BH37*100>200,">200",BC37/BH37*100))," ") -> 0 | BL37: =BM37+BQ37 -> 0.7 | BM37: =BN37+BO37+BP37 -> 0.7 | BN37: 0.7
A38: Accize la alte mărfuri | B38: 11427 | D38: =N38+AZ38 -> 22.1 | E38: =O38+BC38 -> 1.6 | F38: =AB38+AK38+AS38+BD38 -> 1.6 | G38: =Q38+BE38 -> 0 | H38: =E38-D38 -> -20.5 | I38: =IF(D38<>0,IF(E38/D38*100<0,"<0",IF(E38/D38*100>200,">200",E38/D38*100))," ") -> 7.239819 | K38: =E38-J38 -> 1.6 | N38: =X38+AJ38+AR38 -> 22 | O38: =AA38+AK38+AS38 -> 1.6 | P38: =AB38+AK38+AS38 -> 1.6 | Q38: =AC38 -> 0 | R38: =O38-N38 -> -20.4 | S38: =IF(N38<>0,IF(O38/N38*100<0,"<0",IF(O38/N38*100>200,">200",O38/N38*100))," ") -> 7.2727273 | T38: =AF38+AN38+AV38 -> 1.6 | V38: =IF(T38<>0,IF(O38/T38*100<0,"<0",IF(O38/T38*100>200,">200",O38/T38*100))," ") -> 100 | W38: 22 | X38: 22 | Y38: =X38-Z38 -> 22 | AA38: 1.6 | AB38: =AA38-AC38 -> 1.6 | AD38: =AA38-X38 -> -20.4 | AE38: =IF(X38<>0,IF(AA38/X38*100<0,"<0",IF(AA38/X38*100>200,">200",AA38/X38*100))," ") -> 7.2727273 | AF38: 1.6 | AG38: =AA38-AF38 -> 0 | AH38: =IF(AF38<>0,IF(AA38/AF38*100<0,"<0",IF(AA38/AF38*100>200,">200",AA38/AF38*100))," ") -> 100 | AP38: =IF(AN38<>0,IF(AK38/AN38*100<0,"<0",IF(AK38/AN38*100>200,">200",AK38/AN38*100))," ") | AZ38: 0.1 | BA38: =AZ38-BB38 -> 0.1 | BD38: =BC38-BE38 -> 0 | BF38: =BC38-AZ38 -> -0.1 | BG38: =IF(AZ38<>0,IF(BC38/AZ38*100<0,"<0",IF(BC38/AZ38*100>200,">200",BC38/AZ38*100))," ") -> 0 | BI38: =BC38-BH38 -> 0 | BJ38: =IF(BH38<>0,IF(BC38/BH38*100<0,"<0",IF(BC38/BH38*100>200,">200",BC38/BH38*100))," ") | BL38: =BM38+BQ38 -> 1.6 | BM38: =BN38+BO38+BP38 -> 1.6 | BN38: 1.6
A39: Restituirea accizelor | B39: 11429 | C39: =M39+AY39 -> -15 | D39: =N39+AZ39 -> -15 | E39: =O39+BC39 -> 0 | F39: =AB39+AK39+AS39+BD39 -> 0 | G39: =Q39+BE39 -> 0 | H39: =E39-D39 -> 15 | I39: =IF(D39<>0,IF(E39/D39*100<0,"<0",IF(E39/D39*100>200,">200",E39/D39*100))," ") -> 0 | J39: =T39+BH39 -> -1.8 | K39: =E39-J39 -> 1.8 | L39: =IF(J39<>0,IF(E39/J39*100<0,"<0",IF(E39/J39*100>200,">200",E39/J39*100))," ") -> 0 | M39: =W39+AI39+AQ39 -> -15 | N39: =X39+AJ39+AR39 -> -15 | O39: =AA39+AK39+AS39 -> 0 | P39: =AB39+AK39+AS39 -> 0 | Q39: =AC39 -> 0 | R39: =O39-N39 -> 15 | S39: =IF(N39<>0,IF(O39/N39*100<0,"<0",IF(O39/N39*100>200,">200",O39/N39*100))," ") -> 0 | T39: =AF39+AN39+AV39 -> -1.8 | U39: =O39-T39 -> 1.8 | V39: =IF(T39<>0,IF(O39/T39*100<0,"<0",IF(O39/T39*100>200,">200",O39/T39*100))," ") -> 0 | W39: -15 | X39: -15 | Y39: =X39-Z39 -> -15 | AB39: =AA39-AC39 -> 0 | AD39: =AA39-X39 -> 15 | AE39: =IF(X39<>0,IF(AA39/X39*100<0,"<0",IF(AA39/X39*100>200,">200",AA39/X39*100))," ") -> 0 | AF39: -1.8 | AG39: =AA39-AF39 -> 1.8 | AH39: =IF(AF39<>0,IF(AA39/AF39*100<0,"<0",IF(AA39/AF39*100>200,">200",AA39/AF39*100))," ") -> 0 | AL39: =AK39-AJ39 -> 0 | AM39: =IF(AJ39<>0,IF(AK39/AJ39*100<0,"<0",IF(AK39/AJ39*100>200,">200",AK39/AJ39*100))," ") | AO39: =AK39-AN39 -> 0 | AP39: =IF(AN39<>0,IF(AK39/AN39*100<0,"<0",IF(AK39/AN39*100>200,">200",AK39/AN39*100))," ") | AT39: =AS39-AR39 -> 0 | AU39: =IF(AR39<>0,IF(AS39/AR39*100<0,"<0",IF(AS39/AR39*100>200,">200",AS39/AR39*100))," ") | AW39: =AS39-AV39 -> 0 | AX39: =IF(AV39<>0,IF(AS39/AV39*100<0,"<0",IF(AS39/AV39*100>200,">200",AS39/AV39*100))," ") | BA39: =AZ39-BB39 -> 0 | BD39: =BC39-BE39 -> 0 | BF39: =BC39-AZ39 -> 0 | BG39: =IF(AZ39<>0,IF(BC39/AZ39*100<0,"<0",IF(BC39/AZ39*100>200,">200",BC39/AZ39*100))," ") | BI39: =BC39-BH39 -> 0 | BJ39: =IF(BH39<>0,IF(BC39/BH39*100<0,"<0",IF(BC39/BH39*100>200,">200",BC39/BH39*100))," ") | BL39: =BM39+BQ39 -> 0 | BM39: =BN39+BO39+BP39 -> 0
A40: Taxe pentru servicii specifice | B40: 1144 | C40: =M40+AY40 -> 586 | D40: =N40+AZ40 -> 594 | E40: =O40+BC40 -> 109.5 | F40: =AB40+AK40+AS40+BD40 -> 109.5 | G40: =Q40+BE40 -> 0 | H40: =E40-D40 -> -484.5 | I40: =IF(D40<>0,IF(E40/D40*100<0,"<0",IF(E40/D40*100>200,">200",E40/D40*100))," ") -> 18.434343 | J40: =T40+BH40 -> 102.1 | K40: =E40-J40 -> 7.4 | L40: =IF(J40<>0,IF(E40/J40*100<0,"<0",IF(E40/J40*100>200,">200",E40/J40*100))," ") -> 107.2478 | M40: =W40+AI40+AQ40 -> 8.7 | N40: =X40+AJ40+AR40 -> 8.7 | O40: =AA40+AK40+AS40 -> 1.7 | P40: =AB40+AK40+AS40 -> 1.7 | Q40: =AC40 -> 0 | R40: =O40-N40 -> -7 | S40: =IF(N40<>0,IF(O40/N40*100<0,"<0",IF(O40/N40*100>200,">200",O40/N40*100))," ") -> 19.54023 | T40: =AF40+AN40+AV40 -> 1.7 | U40: =O40-T40 -> 0 | V40: =IF(T40<>0,IF(O40/T40*100<0,"<0",IF(O40/T40*100>200,">200",O40/T40*100))," ") -> 100 | W40: 8.7 | X40: 8.7 | Y40: =X40-Z40 -> 8.7 | AA40: 1.7 | AB40: =AA40-AC40 -> 1.7 | AD40: =AA40-X40 -> -7 | AE40: =IF(X40<>0,IF(AA40/X40*100<0,"<0",IF(AA40/X40*100>200,">200",AA40/X40*100))," ") -> 19.54023 | AF40: 1.7 | AG40: =AA40-AF40 -> 0 | AH40: =IF(AF40<>0,IF(AA40/AF40*100<0,"<0",IF(AA40/AF40*100>200,">200",AA40/AF40*100))," ") -> 100 | AP40: =IF(AN40<>0,IF(AK40/AN40*100<0,"<0",IF(AK40/AN40*100>200,">200",AK40/AN40*100))," ") | AY40: 577.3 | AZ40: 585.3 | BA40: =AZ40-BB40 -> 585.3 | BC40: 107.8 | BD40: =BC40-BE40 -> 107.8 | BF40: =BC40-AZ40 -> -477.5 | BG40: =IF(AZ40<>0,IF(BC40/AZ40*100<0,"<0",IF(BC40/AZ40*100>200,">200",BC40/AZ40*100))," ") -> 18.417905 | BH40: 100.4 | BI40: =BC40-BH40 -> 7.4 | BJ40: =IF(BH40<>0,IF(BC40/BH40*100<0,"<0",IF(BC40/BH40*100>200,">200",BC40/BH40*100))," ") -> 107.37052 | BL40: =BM40+BQ40 -> 53.6 | BM40: =BN40+BO40+BP40 -> 0.9 | BN40: 0.9 | BQ40: 52.7
A41: Taxe şi plăţi pentru utilizarea mărfurilor şi pentru practicarea unor genuri de activitate | B41: 1145 | C41: =M41+AY41 -> 518.3 | D41: =N41+AZ41 -> 519.6 | E41: =O41+BC41 -> 95.8 | F41: =AB41+AK41+AS41+BD41 -> 95.8 | G41: =Q41+BE41 -> 0 | H41: =E41-D41 -> -423.8 | I41: =IF(D41<>0,IF(E41/D41*100<0,"<0",IF(E41/D41*100>200,">200",E41/D41*100))," ") -> 18.437259 | J41: =T41+BH41 -> 74.9 | K41: =E41-J41 -> 20.9 | L41: =IF(J41<>0,IF(E41/J41*100<0,"<0",IF(E41/J41*100>200,">200",E41/J41*100))," ") -> 127.90387 | M41: =W41+AI41+AQ41 -> 486.6 | N41: =X41+AJ41+AR41 -> 486.6 | O41: =AA41+AK41+AS41 -> 88.2 | P41: =AB41+AK41+AS41 -> 88.2 | Q41: =AC41 -> 0 | R41: =O41-N41 -> -398.4 | S41: =IF(N41<>0,IF(O41/N41*100<0,"<0",IF(O41/N41*100>200,">200",O41/N41*100))," ") -> 18.125771 | T41: =AF41+AN41+AV41 -> 67.2 | U41: =O41-T41 -> 21 | V41: =IF(T41<>0,IF(O41/T41*100<0,"<0",IF(O41/T41*100>200,">200",O41/T41*100))," ") -> 131.25 | W41: 486.6 | X41: 486.6 | Y41: =X41-Z41 -> 486.6 | AA41: 88.2 | AB41: =AA41-AC41 -> 88.2 | AD41: =AA41-X41 -> -398.4 | AE41: =IF(X41<>0,IF(AA41/X41*100<0,"<0",IF(AA41/X41*100>200,">200",AA41/X41*100))," ") -> 18.125771 | AF41: 67.2 | AG41: =AA41-AF41 -> 21 | AH41: =IF(AF41<>0,IF(AA41/AF41*100<0,"<0",IF(AA41/AF41*100>200,">200",AA41/AF41*100))," ") -> 131.25 | AP41: =IF(AN41<>0,IF(AK41/AN41*100<0,"<0",IF(AK41/AN41*100>200,">200",AK41/AN41*100))," ") | AY41: 31.7 | AZ41: 33 | BA41: =AZ41-BB41 -> 33 | BC41: 7.6 | BD41: =BC41-BE41 -> 7.6 | BF41: =BC41-AZ41 -> -25.4 | BG41: =IF(AZ41<>0,IF(BC41/AZ41*100<0,"<0",IF(BC41/AZ41*100>200,">200",BC41/AZ41*100))," ") -> 23.030303 | BH41: 7.7 | BI41: =BC41-BH41 -> -0.1 | BJ41: =IF(BH41<>0,IF(BC41/BH41*100<0,"<0",IF(BC41/BH41*100>200,">200",BC41/BH41*100))," ") -> 98.701299 | BL41: =BM41+BQ41 -> 31.9 | BM41: =BN41+BO41+BP41 -> 27.4 | BN41: 27.4 | BQ41: 4.5
A42: Alte taxe pentru mărfuri şi servicii | B42: 1146 | C42: =M42+AY42 -> 1101.3 | D42: =N42+AZ42 -> 1101.8 | E42: =O42+BC42 -> 175.9 | F42: =AB42+AK42+AS42+BD42 -> 175.9 | G42: =Q42+BE42 -> 0 | H42: =E42-D42 -> -925.9 | I42: =IF(D42<>0,IF(E42/D42*100<0,"<0",IF(E42/D42*100>200,">200",E42/D42*100))," ") -> 15.964785 | J42: =T42+BH42 -> 156.4 | K42: =E42-J42 -> 19.5 | L42: =IF(J42<>0,IF(E42/J42*100<0,"<0",IF(E42/J42*100>200,">200",E42/J42*100))," ") -> 112.46803 | M42: =W42+AI42+AQ42 -> 1049.7 | N42: =X42+AJ42+AR42 -> 1049.7 | O42: =AA42+AK42+AS42 -> 161.3 | P42: =AB42+AK42+AS42 -> 161.3 | Q42: =AC42 -> 0 | R42: =O42-N42 -> -888.4 | S42: =IF(N42<>0,IF(O42/N42*100<0,"<0",IF(O42/N42*100>200,">200",O42/N42*100))," ") -> 15.366295 | T42: =AF42+AN42+AV42 -> 147.4 | U42: =O42-T42 -> 13.9 | V42: =IF(T42<>0,IF(O42/T42*100<0,"<0",IF(O42/T42*100>200,">200",O42/T42*100))," ") -> 109.43012 | W42: 1049.7 | X42: 1049.7 | Y42: =X42-Z42 -> 1049.7 | AA42: 161.3 | AB42: =AA42-AC42 -> 161.3 | AD42: =AA42-X42 -> -888.4 | AE42: =IF(X42<>0,IF(AA42/X42*100<0,"<0",IF(AA42/X42*100>200,">200",AA42/X42*100))," ") -> 15.366295 | AF42: 147.4 | AG42: =AA42-AF42 -> 13.9 | AH42: =IF(AF42<>0,IF(AA42/AF42*100<0,"<0",IF(AA42/AF42*100>200,">200",AA42/AF42*100))," ") -> 109.43012 | AP42: =IF(AN42<>0,IF(AK42/AN42*100<0,"<0",IF(AK42/AN42*100>200,">200",AK42/AN42*100))," ") | AY42: 51.6 | AZ42: 52.1 | BA42: =AZ42-BB42 -> 52.1 | BC42: 14.6 | BD42: =BC42-BE42 -> 14.6 | BF42: =BC42-AZ42 -> -37.5 | BG42: =IF(AZ42<>0,IF(BC42/AZ42*100<0,"<0",IF(BC42/AZ42*100>200,">200",BC42/AZ42*100))," ") -> 28.023033 | BH42: 9 | BI42: =BC42-BH42 -> 5.6 | BJ42: =IF(BH42<>0,IF(BC42/BH42*100<0,"<0",IF(BC42/BH42*100>200,">200",BC42/BH42*100))," ") -> 162.22222 | BL42: =BM42+BQ42 -> 40.1 | BM42: =BN42+BO42+BP42 -> 22.8 | BN42: 22.8 | BQ42: 17.3
A43: Taxa asupra comerțului exterior şi operaţiunilor externe | B43: 115 formula | C43: =M43+AY43 -> 2465 | D43: =N43+AZ43 -> 2465 | E43: =O43+BC43 -> 334.9 | F43: =AB43+AK43+AS43+BD43 -> 334.9 | G43: =Q43+BE43 -> 0 | H43: =E43-D43 -> -2130.1 | I43: =IF(D43<>0,IF(E43/D43*100<0,"<0",IF(E43/D43*100>200,">200",E43/D43*100))," ") -> 13.586207 | J43: =T43+BH43 -> 306 | K43: =E43-J43 -> 28.9 | L43: =IF(J43<>0,IF(E43/J43*100<0,"<0",IF(E43/J43*100>200,">200",E43/J43*100))," ") -> 109.44444 | M43: =W43+AI43+AQ43 -> 2465 | N43: =X43+AJ43+AR43 -> 2465 | O43: =AA43+AK43+AS43 -> 334.9 | P43: =AB43+AK43+AS43 -> 334.9 | Q43: =AC43 -> 0 | R43: =O43-N43 -> -2130.1 | S43: =IF(N43<>0,IF(O43/N43*100<0,"<0",IF(O43/N43*100>200,">200",O43/N43*100))," ") -> 13.586207 | T43: =AF43+AN43+AV43 -> 306 | U43: =O43-T43 -> 28.9 | V43: =IF(T43<>0,IF(O43/T43*100<0,"<0",IF(O43/T43*100>200,">200",O43/T43*100))," ") -> 109.44444 | W43: =W45+W46 -> 2465 | X43: =X45+X46 -> 2465 | Y43: =Y45+Y46 -> 2465 | Z43: =Z45+Z46 -> 0 | AA43: =AA45+AA46 -> 334.9 | AB43: =AA43-AC43 -> 334.9 | AC43: =AC45+AC46 -> 0 | AD43: =AA43-X43 -> -2130.1 | AE43: =IF(X43<>0,IF(AA43/X43*100<0,"<0",IF(AA43/X43*100>200,">200",AA43/X43*100))," ") -> 13.586207 | AF43: =AF45+AF46 -> 306 | AG43: =AA43-AF43 -> 28.9 | AH43: =IF(AF43<>0,IF(AA43/AF43*100<0,"<0",IF(AA43/AF43*100>200,">200",AA43/AF43*100))," ") -> 109.44444 | AL43: =AK43-AJ43 -> 0 | AM43: =IF(AJ43<>0,IF(AK43/AJ43*100<0,"<0",IF(AK43/AJ43*100>200,">200",AK43/AJ43*100))," ") | AO43: =AK43-AN43 -> 0 | AP43: =IF(AN43<>0,IF(AK43/AN43*100<0,"<0",IF(AK43/AN43*100>200,">200",AK43/AN43*100))," ") | AT43: =AS43-AR43 -> 0 | AU43: =IF(AR43<>0,IF(AS43/AR43*100<0,"<0",IF(AS43/AR43*100>200,">200",AS43/AR43*100))," ") | AW43: =AS43-AV43 -> 0 | AX43: =IF(AV43<>0,IF(AS43/AV43*100<0,"<0",IF(AS43/AV43*100>200,">200",AS43/AV43*100))," ") | BA43: =AZ43-BB43 -> 0 | BD43: =BC43-BE43 -> 0 | BF43: =BC43-AZ43 -> 0 | BG43: =IF(AZ43<>0,IF(BC43/AZ43*100<0,"<0",IF(BC43/AZ43*100>200,">200",BC43/AZ43*100))," ") | BI43: =BC43-BH43 -> 0 | BJ43: =IF(BH43<>0,IF(BC43/BH43*100<0,"<0",IF(BC43/BH43*100>200,">200",BC43/BH43*100))," ") | BL43: =BM43+BQ43 -> 67.7 | BM43: =BN43+BO43+BP43 -> 67.7 | BN43: 67.7
A44: inclusiv: | F44: =AB44+AK44+AS44+BD44 -> 0 | G44: =Q44+BE44 -> 0 | H44: =E44-D44 -> 0 | I44: =IF(D44<>0,IF(E44/D44*100<0,"<0",IF(E44/D44*100>200,">200",E44/D44*100))," ") | J44: =T44+BH44 -> 0 | K44: =E44-J44 -> 0 | L44: =IF(J44<>0,IF(E44/J44*100<0,"<0",IF(E44/J44*100>200,">200",E44/J44*100))," ") | U44: =O44-T44 -> 0 | V44: =IF(T44<>0,IF(O44/T44*100<0,"<0",IF(O44/T44*100>200,">200",O44/T44*100))," ") | AG44: =AA44-AF44 -> 0 | AH44: =IF(AF44<>0,IF(AA44/AF44*100<0,"<0",IF(AA44/AF44*100>200,">200",AA44/AF44*100))," ") | AP44: =IF(AN44<>0,IF(AK44/AN44*100<0,"<0",IF(AK44/AN44*100>200,">200",AK44/AN44*100))," ") | BA44: =AZ44-BB44 -> 0 | BJ44: =IF(BH44<>0,IF(BC44/BH44*100<0,"<0",IF(BC44/BH44*100>200,">200",BC44/BH44*100))," ") | BL44: =BM44+BQ44 -> 0 | BM44: =BN44+BO44+BP44 -> 0
A45: Taxe vamale si alte taxe de import | B45: 1151 | C45: =M45+AY45 -> 1646.9 | D45: =N45+AZ45 -> 1646.9 | E45: =O45+BC45 -> 223.6 | F45: =AB45+AK45+AS45+BD45 -> 223.6 | G45: =Q45+BE45 -> 0 | H45: =E45-D45 -> -1423.3 | I45: =IF(D45<>0,IF(E45/D45*100<0,"<0",IF(E45/D45*100>200,">200",E45/D45*100))," ") -> 13.577023 | J45: =T45+BH45 -> 215.9 | K45: =E45-J45 -> 7.7 | L45: =IF(J45<>0,IF(E45/J45*100<0,"<0",IF(E45/J45*100>200,">200",E45/J45*100))," ") -> 103.56647 | M45: =W45+AI45+AQ45 -> 1646.9 | N45: =X45+AJ45+AR45 -> 1646.9 | O45: =AA45+AK45+AS45 -> 223.6 | P45: =AB45+AK45+AS45 -> 223.6 | Q45: =AC45 -> 0 | R45: =O45-N45 -> -1423.3 | S45: =IF(N45<>0,IF(O45/N45*100<0,"<0",IF(O45/N45*100>200,">200",O45/N45*100))," ") -> 13.577023 | T45: =AF45+AN45+AV45 -> 215.9 | U45: =O45-T45 -> 7.7 | V45: =IF(T45<>0,IF(O45/T45*100<0,"<0",IF(O45/T45*100>200,">200",O45/T45*100))," ") -> 103.56647 | W45: 1646.9 | X45: 1646.9 | Y45: =X45-Z45 -> 1646.9 | AA45: 223.6 | AB45: =AA45-AC45 -> 223.6 | AD45: =AA45-X45 -> -1423.3 | AE45: =IF(X45<>0,IF(AA45/X45*100<0,"<0",IF(AA45/X45*100>200,">200",AA45/X45*100))," ") -> 13.577023 | AF45: 215.9 | AG45: =AA45-AF45 -> 7.7 | AH45: =IF(AF45<>0,IF(AA45/AF45*100<0,"<0",IF(AA45/AF45*100>200,">200",AA45/AF45*100))," ") -> 103.56647 | AP45: =IF(AN45<>0,IF(AK45/AN45*100<0,"<0",IF(AK45/AN45*100>200,">200",AK45/AN45*100))," ") | BA45: =AZ45-BB45 -> 0 | BD45: =BC45-BE45 -> 0 | BF45: =BC45-AZ45 -> 0 | BG45: =IF(AZ45<>0,IF(BC45/AZ45*100<0,"<0",IF(BC45/AZ45*100>200,">200",BC45/AZ45*100))," ") | BJ45: =IF(BH45<>0,IF(BC45/BH45*100<0,"<0",IF(BC45/BH45*100>200,">200",BC45/BH45*100))," ") | BL45: =BM45+BQ45 -> 48.8 | BM45: =BN45+BO45+BP45 -> 48.8 | BN45: 48.8
A46: Alte taxe asupra comerţului exterior şi operaţiunilor externe | B46: 1156 | C46: =M46+AY46 -> 818.1 | D46: =N46+AZ46 -> 818.1 | E46: =O46+BC46 -> 111.3 | F46: =AB46+AK46+AS46+BD46 -> 111.3 | G46: =Q46+BE46 -> 0 | H46: =E46-D46 -> -706.8 | I46: =IF(D46<>0,IF(E46/D46*100<0,"<0",IF(E46/D46*100>200,">200",E46/D46*100))," ") -> 13.604694 | J46: =T46+BH46 -> 90.1 | K46: =E46-J46 -> 21.2 | L46: =IF(J46<>0,IF(E46/J46*100<0,"<0",IF(E46/J46*100>200,">200",E46/J46*100))," ") -> 123.52941 | M46: =W46+AI46+AQ46 -> 818.1 | N46: =X46+AJ46+AR46 -> 818.1 | O46: =AA46+AK46+AS46 -> 111.3 | P46: =AB46+AK46+AS46 -> 111.3 | Q46: =AC46 -> 0 | R46: =O46-N46 -> -706.8 | S46: =IF(N46<>0,IF(O46/N46*100<0,"<0",IF(O46/N46*100>200,">200",O46/N46*100))," ") -> 13.604694 | T46: =AF46+AN46+AV46 -> 90.1 | U46: =O46-T46 -> 21.2 | V46: =IF(T46<>0,IF(O46/T46*100<0,"<0",IF(O46/T46*100>200,">200",O46/T46*100))," ") -> 123.52941 | W46: 818.1 | X46: 818.1 | Y46: =X46-Z46 -> 818.1 | AA46: 111.3 | AB46: =AA46-AC46 -> 111.3 | AD46: =AA46-X46 -> -706.8 | AE46: =IF(X46<>0,IF(AA46/X46*100<0,"<0",IF(AA46/X46*100>200,">200",AA46/X46*100))," ") -> 13.604694 | AF46: 90.1 | AG46: =AA46-AF46 -> 21.2 | AH46: =IF(AF46<>0,IF(AA46/AF46*100<0,"<0",IF(AA46/AF46*100>200,">200",AA46/AF46*100))," ") -> 123.52941 | AP46: =IF(AN46<>0,IF(AK46/AN46*100<0,"<0",IF(AK46/AN46*100>200,">200",AK46/AN46*100))," ") | BA46: =AZ46-BB46 -> 0 | BD46: =BC46-BE46 -> 0 | BF46: =BC46-AZ46 -> 0 | BG46: =IF(AZ46<>0,IF(BC46/AZ46*100<0,"<0",IF(BC46/AZ46*100>200,">200",BC46/AZ46*100))," ") | BJ46: =IF(BH46<>0,IF(BC46/BH46*100<0,"<0",IF(BC46/BH46*100>200,">200",BC46/BH46*100))," ") | BL46: =BM46+BQ46 -> 18.9 | BM46: =BN46+BO46+BP46 -> 18.9 | BN46: 18.9
A47: Contribuții și prime de asigurări obligatorii | B47: 12 | C47: =M47+AY47 -> 24484.9 | D47: =N47+AZ47 -> 24484.9 | E47: =O47+BC47 -> 3622.5 | F47: =AB47+AK47+AS47+BD47 -> 3622.5 | G47: =Q47+BE47 -> 0 | H47: =E47-D47 -> -20862.4 | I47: =IF(D47<>0,IF(E47/D47*100<0,"<0",IF(E47/D47*100>200,">200",E47/D47*100))," ") -> 14.794833 | J47: =T47+BH47 -> 3198.7 | K47: =E47-J47 -> 423.8 | L47: =IF(J47<>0,IF(E47/J47*100<0,"<0",IF(E47/J47*100>200,">200",E47/J47*100))," ") -> 113.24913 | M47: =W47+AI47+AQ47 -> 24484.9 | N47: =X47+AJ47+AR47 -> 24484.9 | O47: =AA47+AK47+AS47 -> 3622.5 | P47: =AB47+AK47+AS47 -> 3622.5 | Q47: =AC47 -> 0 | R47: =O47-N47 -> -20862.4 | S47: =IF(N47<>0,IF(O47/N47*100<0,"<0",IF(O47/N47*100>200,">200",O47/N47*100))," ") -> 14.794833 | T47: =AF47+AN47+AV47 -> 3198.7 | U47: =O47-T47 -> 423.8 | V47: =IF(T47<>0,IF(O47/T47*100<0,"<0",IF(O47/T47*100>200,">200",O47/T47*100))," ") -> 113.24913 | W47: =W48+W49 -> 0 | X47: =X48+X49 -> 0 | Y47: =X47-Z47 -> 0 | Z47: =Z48+Z49 -> 0 | AA47: =AA48+AA49 -> 0 | AB47: =AA47-AC47 -> 0 | AC47: =AC48+AC49 -> 0 | AD47: =AA47-X47 -> 0 | AE47: =IF(X47<>0,IF(AA47/X47*100<0,"<0",IF(AA47/X47*100>200,">200",AA47/X47*100))," ") | AF47: =AF48+AF49 -> 0 | AG47: =AA47-AF47 -> 0 | AH47: =IF(AF47<>0,IF(AA47/AF47*100<0,"<0",IF(AA47/AF47*100>200,">200",AA47/AF47*100))," ") | AI47: =AI48+AI49 -> 18367.7 | AJ47: =AJ48+AJ49 -> 18367.7 | AK47: =AK48+AK49 -> 2663.8 | AL47: =AK47-AJ47 -> -15703.9 | AM47: =IF(AJ47<>0,IF(AK47/AJ47*100<0,"<0",IF(AK47/AJ47*100>200,">200",AK47/AJ47*100))," ") -> 14.502632 | AN47: =AN48+AN49 -> 2338.8 | AO47: =AK47-AN47 -> 325 | AP47: =IF(AN47<>0,IF(AK47/AN47*100<0,"<0",IF(AK47/AN47*100>200,">200",AK47/AN47*100))," ") -> 113.89602 | AQ47: =AQ48+AQ49 -> 6117.2 | AR47: =AR48+AR49 -> 6117.2 | AS47: =AS48+AS49 -> 958.7 | AT47: =AS47-AR47 -> -5158.5 | AU47: =IF(AR47<>0,IF(AS47/AR47*100<0,"<0",IF(AS47/AR47*100>200,">200",AS47/AR47*100))," ") -> 15.672203 | AV47: =AV48+AV49 -> 859.9 | AW47: =AS47-AV47 -> 98.8 | AX47: =IF(AV47<>0,IF(AS47/AV47*100<0,"<0",IF(AS47/AV47*100>200,">200",AS47/AV47*100))," ") -> 111.48971 | AZ47: =AZ48+AZ49 -> 0 | BA47: =AZ47-BB47 -> 0 | BC47: =BC48+BC49 -> 0 | BD47: =BC47-BE47 -> 0 | BE47: =BE48+BE49 -> 0 | BF47: =BC47-AZ47 -> 0 | BG47: =IF(AZ47<>0,IF(BC47/AZ47*100<0,"<0",IF(BC47/AZ47*100>200,">200",BC47/AZ47*100))," ") | BH47: =BH48+BH49 -> 0 | BI47: =BC47-BH47 -> 0 | BJ47: =IF(BH47<>0,IF(BC47/BH47*100<0,"<0",IF(BC47/BH47*100>200,">200",BC47/BH47*100))," ") | BL47: =BM47+BQ47 -> 798.2 | BM47: =BN47+BO47+BP47 -> 798.2 | BN47: 0 | BO47: 600.4 | BP47: 197.8 | BQ47: 0
A48: Contribuţii de asigurări sociale de stat obligatorii | B48: 121 | C48: =M48+AY48 -> 18367.7 | D48: =N48+AZ48 -> 18367.7 | E48: =O48+BC48 -> 2663.8 | F48: =AB48+AK48+AS48+BD48 -> 2663.8 | G48: =Q48+BE48 -> 0 | H48: =E48-D48 -> -15703.9 | I48: =IF(D48<>0,IF(E48/D48*100<0,"<0",IF(E48/D48*100>200,">200",E48/D48*100))," ") -> 14.502632 | J48: =T48+BH48 -> 2338.8 | K48: =E48-J48 -> 325 | L48: =IF(J48<>0,IF(E48/J48*100<0,"<0",IF(E48/J48*100>200,">200",E48/J48*100))," ") -> 113.89602 | M48: =W48+AI48+AQ48 -> 18367.7 | N48: =X48+AJ48+AR48 -> 18367.7 | O48: =AA48+AK48+AS48 -> 2663.8 | P48: =AB48+AK48+AS48 -> 2663.8 | Q48: =AC48 -> 0 | R48: =O48-N48 -> -15703.9 | S48: =IF(N48<>0,IF(O48/N48*100<0,"<0",IF(O48/N48*100>200,">200",O48/N48*100))," ") -> 14.502632 | T48: =AF48+AN48+AV48 -> 2338.8 | U48: =O48-T48 -> 325 | V48: =IF(T48<>0,IF(O48/T48*100<0,"<0",IF(O48/T48*100>200,">200",O48/T48*100))," ") -> 113.89602 | Y48: =X48-Z48 -> 0 | AB48: =AA48-AC48 -> 0 | AD48: =AA48-X48 -> 0 | AE48: =IF(X48<>0,IF(AA48/X48*100<0,"<0",IF(AA48/X48*100>200,">200",AA48/X48*100))," ") | AG48: =AA48-AF48 -> 0 | AH48: =IF(AF48<>0,IF(AA48/AF48*100<0,"<0",IF(AA48/AF48*100>200,">200",AA48/AF48*100))," ") | AI48: 18367.7 | AJ48: 18367.7 | AK48: 2663.8 | AL48: =AK48-AJ48 -> -15703.9 | AM48: =IF(AJ48<>0,IF(AK48/AJ48*100<0,"<0",IF(AK48/AJ48*100>200,">200",AK48/AJ48*100))," ") -> 14.502632 | AN48: 2338.8 | AO48: =AK48-AN48 -> 325 | AP48: =IF(AN48<>0,IF(AK48/AN48*100<0,"<0",IF(AK48/AN48*100>200,">200",AK48/AN48*100))," ") -> 113.89602 | AT48: =AS48-AR48 -> 0 | AU48: =IF(AR48<>0,IF(AS48/AR48*100<0,"<0",IF(AS48/AR48*100>200,">200",AS48/AR48*100))," ") | AW48: =AS48-AV48 -> 0 | AX48: =IF(AV48<>0,IF(AS48/AV48*100<0,"<0",IF(AS48/AV48*100>200,">200",AS48/AV48*100))," ") | BA48: =AZ48-BB48 -> 0 | BD48: =BC48-BE48 -> 0 | BF48: =BC48-AZ48 -> 0 | BG48: =IF(AZ48<>0,IF(BC48/AZ48*100<0,"<0",IF(BC48/AZ48*100>200,">200",BC48/AZ48*100))," ") | BI48: =BC48-BH48 -> 0 | BJ48: =IF(BH48<>0,IF(BC48/BH48*100<0,"<0",IF(BC48/BH48*100>200,">200",BC48/BH48*100))," ") | BL48: =BM48+BQ48 -> 600.4 | BM48: =BN48+BO48+BP48 -> 600.4 | BO48: 600.4
A49: Prime pentru asigurările obligatorii de asistenţă medicală | B49: 122 | C49: =M49+AY49 -> 6117.2 | D49: =N49+AZ49 -> 6117.2 | E49: =O49+BC49 -> 958.7 | F49: =AB49+AK49+AS49+BD49 -> 958.7 | G49: =Q49+BE49 -> 0 | H49: =E49-D49 -> -5158.5 | I49: =IF(D49<>0,IF(E49/D49*100<0,"<0",IF(E49/D49*100>200,">200",E49/D49*100))," ") -> 15.672203 | J49: =T49+BH49 -> 859.9 | K49: =E49-J49 -> 98.8 | L49: =IF(J49<>0,IF(E49/J49*100<0,"<0",IF(E49/J49*100>200,">200",E49/J49*100))," ") -> 111.48971 | M49: =W49+AI49+AQ49 -> 6117.2 | N49: =X49+AJ49+AR49 -> 6117.2 | O49: =AA49+AK49+AS49 -> 958.7 | P49: =AB49+AK49+AS49 -> 958.7 | Q49: =AC49 -> 0 | R49: =O49-N49 -> -5158.5 | S49: =IF(N49<>0,IF(O49/N49*100<0,"<0",IF(O49/N49*100>200,">200",O49/N49*100))," ") -> 15.672203 | T49: =AF49+AN49+AV49 -> 859.9 | U49: =O49-T49 -> 98.8 | V49: =IF(T49<>0,IF(O49/T49*100<0,"<0",IF(O49/T49*100>200,">200",O49/T49*100))," ") -> 111.48971 | Y49: =X49-Z49 -> 0 | AB49: =AA49-AC49 -> 0 | AD49: =AA49-X49 -> 0 | AE49: =IF(X49<>0,IF(AA49/X49*100<0,"<0",IF(AA49/X49*100>200,">200",AA49/X49*100))," ") | AG49: =AA49-AF49 -> 0 | AH49: =IF(AF49<>0,IF(AA49/AF49*100<0,"<0",IF(AA49/AF49*100>200,">200",AA49/AF49*100))," ") | AL49: =AK49-AJ49 -> 0 | AM49: =IF(AJ49<>0,IF(AK49/AJ49*100<0,"<0",IF(AK49/AJ49*100>200,">200",AK49/AJ49*100))," ") | AO49: =AK49-AN49 -> 0 | AP49: =IF(AN49<>0,IF(AK49/AN49*100<0,"<0",IF(AK49/AN49*100>200,">200",AK49/AN49*100))," ") | AQ49: 6117.2 | AR49: 6117.2 | AS49: 958.7 | AT49: 1331.1 | AU49: =IF(AR49<>0,IF(AS49/AR49*100<0,"<0",IF(AS49/AR49*100>200,">200",AS49/AR49*100))," ") -> 15.672203 | AV49: 859.9 | AW49: =AS49-AV49 -> 98.8 | AX49: =IF(AV49<>0,IF(AS49/AV49*100<0,"<0",IF(AS49/AV49*100>200,">200",AS49/AV49*100))," ") -> 111.48971 | BA49: =AZ49-BB49 -> 0 | BD49: =BC49-BE49 -> 0 | BF49: =BC49-AZ49 -> 0 | BG49: =IF(AZ49<>0,IF(BC49/AZ49*100<0,"<0",IF(BC49/AZ49*100>200,">200",BC49/AZ49*100))," ") | BI49: =BC49-BH49 -> 0 | BJ49: =IF(BH49<>0,IF(BC49/BH49*100<0,"<0",IF(BC49/BH49*100>200,">200",BC49/BH49*100))," ") | BL49: =BM49+BQ49 -> 197.8 | BM49: =BN49+BO49+BP49 -> 197.8 | BP49: 197.8
A50: Granturi primite | B50: 13 | C50: =M50+AY50 -> 1324.1 | D50: =N50+AZ50 -> 1406.7 | E50: =O50+BC50 -> 29.1 | F50: =AB50+AK50+AS50+BD50 -> 0 | G50: =Q50+BE50 -> 29.1 | H50: =E50-D50 -> -1377.6 | I50: =IF(D50<>0,IF(E50/D50*100<0,"<0",IF(E50/D50*100>200,">200",E50/D50*100))," ") -> 2.0686714 | J50: =T50+BH50 -> 216.7 | K50: =E50-J50 -> -187.6 | L50: =IF(J50<>0,IF(E50/J50*100<0,"<0",IF(E50/J50*100>200,">200",E50/J50*100))," ") -> 13.428703 | M50: =W50+AI50+AQ50 -> 1317.9 | N50: =X50+AJ50+AR50 -> 1317.9 | O50: =AA50+AK50+AS50 -> 10.2 | P50: =AB50+AK50+AS50 -> 0 | Q50: =AC50 -> 10.2 | R50: =O50-N50 -> -1307.7 | S50: =IF(N50<>0,IF(O50/N50*100<0,"<0",IF(O50/N50*100>200,">200",O50/N50*100))," ") -> 0.77395857 | T50: =AF50+AN50+AV50 -> 182.2 | U50: =O50-T50 -> -172 | V50: =IF(T50<>0,IF(O50/T50*100<0,"<0",IF(O50/T50*100>200,">200",O50/T50*100))," ") -> 5.5982437 | W50: =W51+W52 -> 1317.9 | X50: =X51+X52 -> 1317.9 | Y50: =X50-Z50 -> 440 | Z50: =Z51+Z52 -> 877.9 | AA50: =AA51+AA52 -> 10.2 | AB50: =AA50-AC50 -> 0 | AC50: =AC51+AC52 -> 10.2 | AD50: =AA50-X50 -> -1307.7 | AE50: =IF(X50<>0,IF(AA50/X50*100<0,"<0",IF(AA50/X50*100>200,">200",AA50/X50*100))," ") -> 0.77395857 | AF50: =AF51+AF52 -> 182.2 | AG50: =AA50-AF50 -> -172 | AH50: =IF(AF50<>0,IF(AA50/AF50*100<0,"<0",IF(AA50/AF50*100>200,">200",AA50/AF50*100))," ") -> 5.5982437 | AJ50: =AJ51+AJ52 -> 0 | AK50: =AK51+AK52 -> 0 | AL50: =AL51+AL52 -> 0 | AM50: =IF(AJ50<>0,IF(AK50/AJ50*100<0,"<0",IF(AK50/AJ50*100>200,">200",AK50/AJ50*100))," ") | AN50: =AN51+AN52 -> 0 | AO50: =AK50-AN50 -> 0 | AP50: =IF(AN50<>0,IF(AK50/AN50*100<0,"<0",IF(AK50/AN50*100>200,">200",AK50/AN50*100))," ") | AR50: =AR51+AR52 -> 0 | AS50: =AS51+AS52 -> 0 | AT50: =AT51+AT52 -> 0 | AU50: =IF(AR50<>0,IF(AS50/AR50*100<0,"<0",IF(AS50/AR50*100>200,">200",AS50/AR50*100))," ") | AV50: =AV51+AV52 -> 0 | AW50: =AS50-AV50 -> 0 | AX50: =IF(AV50<>0,IF(AS50/AV50*100<0,"<0",IF(AS50/AV50*100>200,">200",AS50/AV50*100))," ") | AY50: =AY51+AY52 -> 6.2 | AZ50: =AZ51+AZ52 -> 88.8 | BA50: =AZ50-BB50 -> 0 | BB50: =BB51+BB52 -> 88.8 | BC50: =BC51+BC52 -> 18.9 | BD50: =BC50-BE50 -> 0 | BE50: =BE51+BE52 -> 18.9 | BF50: =BC50-AZ50 -> -69.9 | BG50: =IF(AZ50<>0,IF(BC50/AZ50*100<0,"<0",IF(BC50/AZ50*100>200,">200",BC50/AZ50*100))," ") -> 21.283784 | BH50: =BH51+BH52 -> 34.5 | BI50: =BC50-BH50 -> -15.6 | BJ50: =IF(BH50<>0,IF(BC50/BH50*100<0,"<0",IF(BC50/BH50*100>200,">200",BC50/BH50*100))," ") -> 54.782609 | BL50: =BM50+BQ50 -> 1.3 | BM50: =BN50+BO50+BP50 -> 0.3 | BN50: 0.3 | BO50: 0 | BP50: 0 | BQ50: 1
A51: Granturi primite de la Guvernele altor state | B51: 131 | C51: =M51+AY51 -> 107 | D51: =N51+AZ51 -> 107 | E51: =O51+BC51 -> 0.3 | F51: =AB51+AK51+AS51+BD51 -> 0 | G51: =Q51+BE51 -> 0.3 | H51: =E51-D51 -> -106.7 | I51: =IF(D51<>0,IF(E51/D51*100<0,"<0",IF(E51/D51*100>200,">200",E51/D51*100))," ") -> 0.28037383 | J51: =T51+BH51 -> 5.8 | K51: =E51-J51 -> -5.5 | L51: =IF(J51<>0,IF(E51/J51*100<0,"<0",IF(E51/J51*100>200,">200",E51/J51*100))," ") -> 5.1724138 | M51: =W51+AI51+AQ51 -> 106.1 | N51: =X51+AJ51+AR51 -> 106.1 | O51: =AA51+AK51+AS51 -> 0.3 | P51: =AB51+AK51+AS51 -> 0 | Q51: =AC51 -> 0.3 | R51: =O51-N51 -> -105.8 | S51: =IF(N51<>0,IF(O51/N51*100<0,"<0",IF(O51/N51*100>200,">200",O51/N51*100))," ") -> 0.28275212 | T51: =AF51+AN51+AV51 -> 0 | U51: =O51-T51 -> 0.3 | V51: =IF(T51<>0,IF(O51/T51*100<0,"<0",IF(O51/T51*100>200,">200",O51/T51*100))," ") | W51: 106.1 | X51: 106.1 | Y51: =X51-Z51 -> 0 | Z51: 106.1 | AA51: 0.3 | AB51: =AA51-AC51 -> 0 | AC51: 0.3 | AD51: =AA51-X51 -> -105.8 | AE51: =IF(X51<>0,IF(AA51/X51*100<0,"<0",IF(AA51/X51*100>200,">200",AA51/X51*100))," ") -> 0.28275212 | AG51: =AA51-AF51 -> 0.3 | AH51: =IF(AF51<>0,IF(AA51/AF51*100<0,"<0",IF(AA51/AF51*100>200,">200",AA51/AF51*100))," ") | AL51: =AK51-AJ51 -> 0 | AM51: =IF(AJ51<>0,IF(AK51/AJ51*100<0,"<0",IF(AK51/AJ51*100>200,">200",AK51/AJ51*100))," ") | AO51: =AK51-AN51 -> 0 | AP51: =IF(AN51<>0,IF(AK51/AN51*100<0,"<0",IF(AK51/AN51*100>200,">200",AK51/AN51*100))," ") | AT51: =AS51-AR51 -> 0 | AU51: =IF(AR51<>0,IF(AS51/AR51*100<0,"<0",IF(AS51/AR51*100>200,">200",AS51/AR51*100))," ") | AW51: =AS51-AV51 -> 0 | AX51: =IF(AV51<>0,IF(AS51/AV51*100<0,"<0",IF(AS51/AV51*100>200,">200",AS51/AV51*100))," ") | AY51: 0.9 | AZ51: 0.9 | BA51: =AZ51-BB51 -> 0 | BB51: 0.9 | BD51: =BC51-BE51 -> 0 | BF51: =BC51-AZ51 -> -0.9 | BG51: =IF(AZ51<>0,IF(BC51/AZ51*100<0,"<0",IF(BC51/AZ51*100>200,">200",BC51/AZ51*100))," ") -> 0 | BH51: 5.8 | BI51: =BC51-BH51 -> -5.8 | BJ51: =IF(BH51<>0,IF(BC51/BH51*100<0,"<0",IF(BC51/BH51*100>200,">200",BC51/BH51*100))," ") -> 0 | BL51: =BM51+BQ51 -> 0 | BM51: =BN51+BO51+BP51 -> 0
A52: Granturi primite de la organizaţiile internaţionale | B52: 132 | C52: =M52+AY52 -> 1217.1 | D52: =N52+AZ52 -> 1299.7 | E52: =O52+BC52 -> 28.8 | F52: =AB52+AK52+AS52+BD52 -> 0 | G52: =Q52+BE52 -> 28.8 | H52: =E52-D52 -> -1270.9 | I52: =IF(D52<>0,IF(E52/D52*100<0,"<0",IF(E52/D52*100>200,">200",E52/D52*100))," ") -> 2.215896 | J52: =T52+BH52 -> 210.9 | K52: =E52-J52 -> -182.1 | L52: =IF(J52<>0,IF(E52/J52*100<0,"<0",IF(E52/J52*100>200,">200",E52/J52*100))," ") -> 13.655761 | M52: =W52+AI52+AQ52 -> 1211.8 | N52: =X52+AJ52+AR52 -> 1211.8 | O52: =AA52+AK52+AS52 -> 9.9 | P52: =AB52+AK52+AS52 -> 0 | Q52: =AC52 -> 9.9 | R52: =O52-N52 -> -1201.9 | S52: =IF(N52<>0,IF(O52/N52*100<0,"<0",IF(O52/N52*100>200,">200",O52/N52*100))," ") -> 0.8169665 | T52: =AF52+AN52+AV52 -> 182.2 | U52: =O52-T52 -> -172.3 | V52: =IF(T52<>0,IF(O52/T52*100<0,"<0",IF(O52/T52*100>200,">200",O52/T52*100))," ") -> 5.4335895 | W52: 1211.8 | X52: 1211.8 | Y52: =X52-Z52 -> 440 | Z52: 771.8 | AA52: 9.9 | AB52: =AA52-AC52 -> 0 | AC52: 9.9 | AD52: =AA52-X52 -> -1201.9 | AE52: =IF(X52<>0,IF(AA52/X52*100<0,"<0",IF(AA52/X52*100>200,">200",AA52/X52*100))," ") -> 0.8169665 | AF52: 182.2 | AG52: =AA52-AF52 -> -172.3 | AH52: =IF(AF52<>0,IF(AA52/AF52*100<0,"<0",IF(AA52/AF52*100>200,">200",AA52/AF52*100))," ") -> 5.4335895 | AL52: =AK52-AJ52 -> 0 | AM52: =IF(AJ52<>0,IF(AK52/AJ52*100<0,"<0",IF(AK52/AJ52*100>200,">200",AK52/AJ52*100))," ") | AO52: =AK52-AN52 -> 0 | AP52: =IF(AN52<>0,IF(AK52/AN52*100<0,"<0",IF(AK52/AN52*100>200,">200",AK52/AN52*100))," ") | AT52: =AS52-AR52 -> 0 | AU52: =IF(AR52<>0,IF(AS52/AR52*100<0,"<0",IF(AS52/AR52*100>200,">200",AS52/AR52*100))," ") | AW52: =AS52-AV52 -> 0 | AX52: =IF(AV52<>0,IF(AS52/AV52*100<0,"<0",IF(AS52/AV52*100>200,">200",AS52/AV52*100))," ") | AY52: 5.3 | AZ52: 87.9 | BA52: =AZ52-BB52 -> 0 | BB52: 87.9 | BC52: 18.9 | BD52: =BC52-BE52 -> 0 | BE52: 18.9 | BF52: =BC52-AZ52 -> -69 | BG52: =IF(AZ52<>0,IF(BC52/AZ52*100<0,"<0",IF(BC52/AZ52*100>200,">200",BC52/AZ52*100))," ") -> 21.501706 | BH52: 28.7 | BI52: =BC52-BH52 -> -9.8 | BJ52: =IF(BH52<>0,IF(BC52/BH52*100<0,"<0",IF(BC52/BH52*100>200,">200",BC52/BH52*100))," ") -> 65.853659 | BL52: =BM52+BQ52 -> 1.3 | BM52: =BN52+BO52+BP52 -> 0.3 | BN52: 0.3 | BQ52: 1
A53: Alte venituri | B53: 14 | C53: =M53+AY53-C57 -> 3139.7 | D53: =N53+AZ53-D57 -> 3166.7 | E53: =O53+BC53-E57 -> 512.6 | F53: =P53+BD53-F57 -> 512.7 | G53: =Q53+BE53 -> -0.1 | H53: =E53-D53 -> -2654.1 | I53: =IF(D53<>0,IF(E53/D53*100<0,"<0",IF(E53/D53*100>200,">200",E53/D53*100))," ") -> 16.187198 | J53: =T53+BH53-J57 -> 422.9 | K53: =E53-J53 -> 89.7 | L53: =IF(J53<>0,IF(E53/J53*100<0,"<0",IF(E53/J53*100>200,">200",E53/J53*100))," ") -> 121.21069 | M53: =W53+AI53+AQ53 -> 2467.5 | N53: =X53+AJ53+AR53 -> 2467.5 | O53: =AA53+AK53+AS53 -> 396.5 | P53: =AB53+AK53+AS53 -> 396.6 | Q53: =AC53 -> -0.1 | R53: =O53-N53 -> -2071 | S53: =IF(N53<>0,IF(O53/N53*100<0,"<0",IF(O53/N53*100>200,">200",O53/N53*100))," ") -> 16.068896 | T53: =AF53+AN53+AV53 -> 319.2 | U53: =O53-T53 -> 77.3 | V53: =IF(T53<>0,IF(O53/T53*100<0,"<0",IF(O53/T53*100>200,">200",O53/T53*100))," ") -> 124.21679 | W53: =W54+W60+W64+W65+W66 -> 2062.5 | X53: =X54+X60+X64+X65+X66+X67 -> 2062.5 | Y53: =X53-Z53 -> 2054.4 | Z53: =Z54+Z60+Z64+Z65+Z66+Z67 -> 8.1 | AA53: =AA54+AA60+AA64+AA65+AA66 -> 318.7 | AB53: =AA53-AC53 -> 318.8 | AC53: =AC54+AC60+AC64+AC65+AC66 -> -0.1 | AD53: =AA53-X53 -> -1743.8 | AE53: =IF(X53<>0,IF(AA53/X53*100<0,"<0",IF(AA53/X53*100>200,">200",AA53/X53*100))," ") -> 15.452121 | AF53: =AF54+AF60+AF64+AF65+AF66 -> 263.4 | AG53: =AA53-AF53 -> 55.3 | AH53: =IF(AF53<>0,IF(AA53/AF53*100<0,"<0",IF(AA53/AF53*100>200,">200",AA53/AF53*100))," ") -> 120.99468 | AI53: =AI54+AI60+AI64+AI65+AI66 -> 306.5 | AJ53: =AJ54+AJ60+AJ64+AJ65+AJ66 -> 306.5 | AK53: =AK54+AK60+AK64+AK65+AK66 -> 60 | AL53: =AL54+AL60+AL64+AL65+AL66 -> -246.5 | AM53: =IF(AJ53<>0,IF(AK53/AJ53*100<0,"<0",IF(AK53/AJ53*100>200,">200",AK53/AJ53*100))," ") -> 19.575856 | AN53: =AN54+AN60+AN64+AN65+AN66 -> 42.5 | AO53: =AK53-AN53 -> 17.5 | AP53: =IF(AN53<>0,IF(AK53/AN53*100<0,"<0",IF(AK53/AN53*100>200,">200",AK53/AN53*100))," ") -> 141.17647 | AQ53: =AQ54+AQ60+AQ64+AQ65+AQ66 -> 98.5 | AR53: =AR54+AR60+AR64+AR65+AR66 -> 98.5 | AS53: =AS54+AS60+AS64+AS65+AS66 -> 17.8 | AT53: =AT54+AT60+AT64+AT65+AT66 -> -80.7 | AU53: =IF(AR53<>0,IF(AS53/AR53*100<0,"<0",IF(AS53/AR53*100>200,">200",AS53/AR53*100))," ") -> 18.071066 | AV53: =AV54+AV60+AV64+AV66 -> 13.3 | AW53: =AS53-AV53 -> 4.5 | AX53: =IF(AV53<>0,IF(AS53/AV53*100<0,"<0",IF(AS53/AV53*100>200,">200",AS53/AV53*100))," ") -> 133.83459 | AY53: =AY54+AY60+AY64+AY65+AY66 -> 676.8 | AZ53: =AZ54+AZ60+AZ64+AZ65+AZ66 -> 703.8 | BA53: =AZ53-BB53 -> 703.8 | BB53: =BB54+BB60+BB64+BB65+BB66 -> 0 | BC53: =BC54+BC60+BC64+BC65+BC66 -> 116.3 | BD53: =BC53-BE53 -> 116.3 | BE53: =BE54+BE60+BE64+BE65+BE66 -> 0 | BF53: =BC53-AZ53 -> -587.5 | BG53: =IF(AZ53<>0,IF(BC53/AZ53*100<0,"<0",IF(BC53/AZ53*100>200,">200",BC53/AZ53*100))," ") -> 16.524581 | BH53: =BH54+BH60+BH64+BH65+BH66 -> 103.9 | BI53: =BC53-BH53 -> 12.4 | BJ53: =IF(BH53<>0,IF(BC53/BH53*100<0,"<0",IF(BC53/BH53*100>200,">200",BC53/BH53*100))," ") -> 111.93455 | BL53: =BM53+BQ53 -> 100.9 | BM53: =BN53+BO53+BP53 -> 84.3 | BN53: 83.5 | BO53: 0.5 | BP53: 0.3 | BQ53: 16.6
A54: Venituri din proprietate | B54: 141 formula | C54: =M54+AY54-C57 -> 551.1 | D54: =N54+AZ54-D57 -> 552.7 | E54: =O54+BC54-E57 -> 36.4 | F54: =AB54+AK54+AS54+BD54-F57 -> 36.4 | G54: =Q54+BE54 -> 0 | H54: =E54-D54 -> -516.3 | I54: =IF(D54<>0,IF(E54/D54*100<0,"<0",IF(E54/D54*100>200,">200",E54/D54*100))," ") -> 6.5858513 | J54: =T54+BH54-J57 -> 27.2 | K54: =E54-J54 -> 9.2 | L54: =IF(J54<>0,IF(E54/J54*100<0,"<0",IF(E54/J54*100>200,">200",E54/J54*100))," ") -> 133.82353 | M54: =W54+AI54+AQ54 -> 419.1 | N54: =X54+AJ54+AR54 -> 419.1 | O54: =AA54+AK54+AS54 -> 16.9 | P54: =AB54+AK54+AS54 -> 16.9 | Q54: =AC54 -> 0 | R54: =O54-N54 -> -402.2 | S54: =IF(N54<>0,IF(O54/N54*100<0,"<0",IF(O54/N54*100>200,">200",O54/N54*100))," ") -> 4.0324505 | T54: =AF54+AN54+AV54 -> 9.4 | U54: =O54-T54 -> 7.5 | V54: =IF(T54<>0,IF(O54/T54*100<0,"<0",IF(O54/T54*100>200,">200",O54/T54*100))," ") -> 179.78723 | W54: =W56+W58+W59 -> 413.8 | X54: =X56+X58+X59 -> 413.8 | Y54: =X54-Z54 -> 413.8 | Z54: =Z56+Z58+Z59 -> 0 | AA54: =AA56+AA58+AA59 -> 16.9 | AB54: =AA54-AC54 -> 16.9 | AC54: =AC56+AC58+AC59 -> 0 | AD54: =AA54-X54 -> -396.9 | AE54: =IF(X54<>0,IF(AA54/X54*100<0,"<0",IF(AA54/X54*100>200,">200",AA54/X54*100))," ") -> 4.0840986 | AF54: =AF56+AF58+AF59 -> 9.4 | AG54: =AA54-AF54 -> 7.5 | AH54: =IF(AF54<>0,IF(AA54/AF54*100<0,"<0",IF(AA54/AF54*100>200,">200",AA54/AF54*100))," ") -> 179.78723 | AI54: =AI56+AI58 -> 3 | AJ54: =AJ56+AJ58 -> 3 | AK54: =AK56+AK58+AK59 -> 0 | AL54: =AK54-AJ54 -> -3 | AM54: =IF(AJ54<>0,IF(AK54/AJ54*100<0,"<0",IF(AK54/AJ54*100>200,">200",AK54/AJ54*100))," ") -> 0 | AN54: =AN56+AN58+AN59 -> 0 | AO54: =AK54-AN54 -> 0 | AP54: =IF(AN54<>0,IF(AK54/AN54*100<0,"<0",IF(AK54/AN54*100>200,">200",AK54/AN54*100))," ") | AQ54: =AQ56+AQ58 -> 2.3 | AR54: =AR56+AR58 -> 2.3 | AS54: =AS56+AS58+AS59 -> 0 | AT54: =AS54-AR54 -> -2.3 | AU54: =IF(AR54<>0,IF(AS54/AR54*100<0,"<0",IF(AS54/AR54*100>200,">200",AS54/AR54*100))," ") -> 0 | AV54: =AV56+AV58 -> 0 | AW54: =AS54-AV54 -> 0 | AX54: =IF(AV54<>0,IF(AS54/AV54*100<0,"<0",IF(AS54/AV54*100>200,">200",AS54/AV54*100))," ") | AY54: =AY56+AY58+AY59 -> 136.6 | AZ54: =AZ56+AZ58+AZ59 -> 138.2 | BA54: =AZ54-BB54 -> 138.2 | BB54: =BB56+BB58+BB59 -> 0 | BC54: =BC56+BC58+BC59 -> 19.7 | BD54: =BC54-BE54 -> 19.7 | BE54: =BE56+BE58+BE59 -> 0 | BF54: =BC54-AZ54 -> -118.5 | BG54: =IF(AZ54<>0,IF(BC54/AZ54*100<0,"<0",IF(BC54/AZ54*100>200,">200",BC54/AZ54*100))," ") -> 14.254703 | BH54: =BH56+BH58+BH59 -> 18 | BI54: =BC54-BH54 -> 1.7 | BJ54: =IF(BH54<>0,IF(BC54/BH54*100<0,"<0",IF(BC54/BH54*100>200,">200",BC54/BH54*100))," ") -> 109.44444 | BL54: =BM54+BQ54 -> 7.3 | BM54: =BN54+BO54+BP54 -> 4.1 | BN54: 4.1 | BO54: 0 | BQ54: 3.2
A55: dintre care: | F55: =AB55+AK55+AS55+BD55 -> 0 | G55: =Q55+BE55 -> 0 | H55: =E55-D55 -> 0 | I55: =IF(D55<>0,IF(E55/D55*100<0,"<0",IF(E55/D55*100>200,">200",E55/D55*100))," ") | J55: =T55+BH55 -> 0 | K55: =E55-J55 -> 0 | L55: =IF(J55<>0,IF(E55/J55*100<0,"<0",IF(E55/J55*100>200,">200",E55/J55*100))," ") | T55: =AF55+AN55+AV55 -> 0 | U55: =O55-T55 -> 0 | V55: =IF(T55<>0,IF(O55/T55*100<0,"<0",IF(O55/T55*100>200,">200",O55/T55*100))," ") | AD55: =AA55-X55 -> 0 | AE55: =IF(X55<>0,IF(AA55/X55*100<0,"<0",IF(AA55/X55*100>200,">200",AA55/X55*100))," ") | AG55: =AA55-AF55 -> 0 | AH55: =IF(AF55<>0,IF(AA55/AF55*100<0,"<0",IF(AA55/AF55*100>200,">200",AA55/AF55*100))," ") | AL55: =AK55-AJ55 -> 0 | AM55: =IF(AJ55<>0,IF(AK55/AJ55*100<0,"<0",IF(AK55/AJ55*100>200,">200",AK55/AJ55*100))," ") | AO55: =AK55-AN55 -> 0 | AP55: =IF(AN55<>0,IF(AK55/AN55*100<0,"<0",IF(AK55/AN55*100>200,">200",AK55/AN55*100))," ") | AT55: =AS55-AR55 -> 0 | AU55: =IF(AR55<>0,IF(AS55/AR55*100<0,"<0",IF(AS55/AR55*100>200,">200",AS55/AR55*100))," ") | AW55: =AS55-AV55 -> 0 | AX55: =IF(AV55<>0,IF(AS55/AV55*100<0,"<0",IF(AS55/AV55*100>200,">200",AS55/AV55*100))," ") | BA55: =AZ55-BB55 -> 0 | BF55: =BC55-AZ55 -> 0 | BG55: =IF(AZ55<>0,IF(BC55/AZ55*100<0,"<0",IF(BC55/AZ55*100>200,">200",BC55/AZ55*100))," ") | BI55: =BC55-BH55 -> 0 | BJ55: =IF(BH55<>0,IF(BC55/BH55*100<0,"<0",IF(BC55/BH55*100>200,">200",BC55/BH55*100))," ") | BL55: =BM55+BQ55 -> 0 | BM55: =BN55+BO55+BP55 -> 0
A56: Dobînzi încasate | B56: 1411 | C56: =M56+AY56-C57 -> 128 | D56: =N56+AZ56-D57 -> 128.5 | E56: =O56+BC56-E57 -> 1.8 | F56: =AB56+AK56+AS56+BD56-F57 -> 1.8 | G56: =Q56+BE56 -> 0 | H56: =E56-D56 -> -126.7 | I56: =IF(D56<>0,IF(E56/D56*100<0,"<0",IF(E56/D56*100>200,">200",E56/D56*100))," ") -> 1.4007782 | J56: =T56+BH56-J57 -> 1.6 | K56: =E56-J56 -> 0.2 | L56: =IF(J56<>0,IF(E56/J56*100<0,"<0",IF(E56/J56*100>200,">200",E56/J56*100))," ") -> 112.5 | M56: =W56+AI56+AQ56 -> 131.2 | N56: =X56+AJ56+AR56 -> 131.2 | O56: =AA56+AK56+AS56 -> 2 | P56: =AB56+AK56+AS56 -> 2 | Q56: =AC56 -> 0 | R56: =O56-N56 -> -129.2 | S56: =IF(N56<>0,IF(O56/N56*100<0,"<0",IF(O56/N56*100>200,">200",O56/N56*100))," ") -> 1.5243902 | T56: =AF56+AN56+AV56 -> 1.8 | U56: =O56-T56 -> 0.2 | V56: =IF(T56<>0,IF(O56/T56*100<0,"<0",IF(O56/T56*100>200,">200",O56/T56*100))," ") -> 111.11111 | W56: 125.9 | X56: 125.9 | Y56: =X56-Z56 -> 125.9 | AA56: 2 | AB56: =AA56-AC56 -> 2 | AD56: =AA56-X56 -> -123.9 | AE56: =IF(X56<>0,IF(AA56/X56*100<0,"<0",IF(AA56/X56*100>200,">200",AA56/X56*100))," ") -> 1.5885624 | AF56: 1.8 | AG56: =AA56-AF56 -> 0.2 | AH56: =IF(AF56<>0,IF(AA56/AF56*100<0,"<0",IF(AA56/AF56*100>200,">200",AA56/AF56*100))," ") -> 111.11111 | AI56: 3 | AJ56: 3 | AL56: =AK56-AJ56 -> -3 | AM56: =IF(AJ56<>0,IF(AK56/AJ56*100<0,"<0",IF(AK56/AJ56*100>200,">200",AK56/AJ56*100))," ") -> 0 | AO56: =AK56-AN56 -> 0 | AP56: =IF(AN56<>0,IF(AK56/AN56*100<0,"<0",IF(AK56/AN56*100>200,">200",AK56/AN56*100))," ") | AQ56: 2.3 | AR56: 2.3 | AT56: =AS56-AR56 -> -2.3 | AU56: =IF(AR56<>0,IF(AS56/AR56*100<0,"<0",IF(AS56/AR56*100>200,">200",AS56/AR56*100))," ") -> 0 | AW56: =AS56-AV56 -> 0 | AX56: =IF(AV56<>0,IF(AS56/AV56*100<0,"<0",IF(AS56/AV56*100>200,">200",AS56/AV56*100))," ") | AY56: 1.4 | AZ56: 1.9 | BA56: =AZ56-BB56 -> 1.9 | BD56: =BC56-BE56 -> 0 | BF56: =BC56-AZ56 -> -1.9 | BG56: =IF(AZ56<>0,IF(BC56/AZ56*100<0,"<0",IF(BC56/AZ56*100>200,">200",BC56/AZ56*100))," ") -> 0 | BI56: =BC56-BH56 -> 0 | BJ56: =IF(BH56<>0,IF(BC56/BH56*100<0,"<0",IF(BC56/BH56*100>200,">200",BC56/BH56*100))," ") | BL56: =BM56+BQ56 -> 3.2 | BM56: =BN56+BO56+BP56 -> 3.2 | BN56: 3.2
A57: Dobînzi încasate la împrumuturile în interiorul sistemului bugetar | C57: =M57+AY57 -> 4.6 | D57: =N57+AZ57 -> 4.6 | E57: =O57+BC57 -> 0.2 | F57: =AB57+AK57+AS57+BD57 -> 0.2 | G57: =Q57+BE57 -> 0 | H57: =E57-D57 -> -4.4 | I57: =IF(D57<>0,IF(E57/D57*100<0,"<0",IF(E57/D57*100>200,">200",E57/D57*100))," ") -> 4.3478261 | J57: =T57+BH57 -> 0.2 | K57: =E57-J57 -> 0 | L57: =IF(J57<>0,IF(E57/J57*100<0,"<0",IF(E57/J57*100>200,">200",E57/J57*100))," ") -> 100 | M57: =W57+AI57+AQ57 -> 4.6 | N57: =X57+AJ57+AR57 -> 4.6 | O57: =AA57+AK57+AS57 -> 0.2 | P57: =AB57+AK57+AS57 -> 0.2 | Q57: =AC57 -> 0 | R57: =O57-N57 -> -4.4 | S57: =IF(N57<>0,IF(O57/N57*100<0,"<0",IF(O57/N57*100>200,">200",O57/N57*100))," ") -> 4.3478261 | T57: =AF57+AN57+AV57 -> 0.2 | U57: =O57-T57 -> 0 | V57: =IF(T57<>0,IF(O57/T57*100<0,"<0",IF(O57/T57*100>200,">200",O57/T57*100))," ") -> 100 | W57: 4.6 | X57: 4.6 | Y57: =X57-Z57 -> 4.6 | AA57: 0.2 | AB57: =AA57-AC57 -> 0.2 | AD57: =AA57-X57 -> -4.4 | AE57: =IF(X57<>0,IF(AA57/X57*100<0,"<0",IF(AA57/X57*100>200,">200",AA57/X57*100))," ") -> 4.3478261 | AF57: 0.2 | AG57: =AA57-AF57 -> 0 | AH57: =IF(AF57<>0,IF(AA57/AF57*100<0,"<0",IF(AA57/AF57*100>200,">200",AA57/AF57*100))," ") -> 100 | BA57: =AZ57-BB57 -> 0
A58: Dividende primite | B58: 1412 | C58: =M58+AY58 -> 268.1 | D58: =N58+AZ58 -> 268.3 | E58: =O58+BC58 -> 9.6 | F58: =AB58+AK58+AS58+BD58 -> 9.6 | G58: =Q58+BE58 -> 0 | H58: =E58-D58 -> -258.7 | I58: =IF(D58<>0,IF(E58/D58*100<0,"<0",IF(E58/D58*100>200,">200",E58/D58*100))," ") -> 3.5780842 | J58: =T58+BH58 -> 5.4 | K58: =E58-J58 -> 4.2 | L58: =IF(J58<>0,IF(E58/J58*100<0,"<0",IF(E58/J58*100>200,">200",E58/J58*100))," ") -> 177.77778 | M58: =W58+AI58+AQ58 -> 255.2 | N58: =X58+AJ58+AR58 -> 255.2 | O58: =AA58+AK58+AS58 -> 9.6 | P58: =AB58+AK58+AS58 -> 9.6 | Q58: =AC58 -> 0 | R58: =O58-N58 -> -245.6 | S58: =IF(N58<>0,IF(O58/N58*100<0,"<0",IF(O58/N58*100>200,">200",O58/N58*100))," ") -> 3.7617555 | T58: =AF58+AN58+AV58 -> 5.4 | U58: =O58-T58 -> 4.2 | V58: =IF(T58<>0,IF(O58/T58*100<0,"<0",IF(O58/T58*100>200,">200",O58/T58*100))," ") -> 177.77778 | W58: 255.2 | X58: 255.2 | Y58: =X58-Z58 -> 255.2 | AA58: 9.6 | AB58: =AA58-AC58 -> 9.6 | AD58: =AA58-X58 -> -245.6 | AE58: =IF(X58<>0,IF(AA58/X58*100<0,"<0",IF(AA58/X58*100>200,">200",AA58/X58*100))," ") -> 3.7617555 | AF58: 5.4 | AG58: =AA58-AF58 -> 4.2 | AH58: =IF(AF58<>0,IF(AA58/AF58*100<0,"<0",IF(AA58/AF58*100>200,">200",AA58/AF58*100))," ") -> 177.77778 | AL58: =AK58-AJ58 -> 0 | AM58: =IF(AJ58<>0,IF(AK58/AJ58*100<0,"<0",IF(AK58/AJ58*100>200,">200",AK58/AJ58*100))," ") | AP58: =IF(AN58<>0,IF(AK58/AN58*100<0,"<0",IF(AK58/AN58*100>200,">200",AK58/AN58*100))," ") | AT58: =AS58-AR58 -> 0 | AU58: =IF(AR58<>0,IF(AS58/AR58*100<0,"<0",IF(AS58/AR58*100>200,">200",AS58/AR58*100))," ") | AY58: 12.9 | AZ58: 13.1 | BA58: =AZ58-BB58 -> 13.1 | BD58: =BC58-BE58 -> 0 | BF58: =BC58-AZ58 -> -13.1 | BG58: =IF(AZ58<>0,IF(BC58/AZ58*100<0,"<0",IF(BC58/AZ58*100>200,">200",BC58/AZ58*100))," ") -> 0 | BI58: =BC58-BH58 -> 0 | BJ58: =IF(BH58<>0,IF(BC58/BH58*100<0,"<0",IF(BC58/BH58*100>200,">200",BC58/BH58*100))," ") | BL58: =BM58+BQ58 -> 1.3 | BM58: =BN58+BO58+BP58 -> 0.6 | BN58: 0.6 | BQ58: 0.7
A59: Renta | B59: 1415 | C59: =M59+AY59 -> 155 | D59: =N59+AZ59 -> 155.9 | E59: =O59+BC59 -> 25 | F59: =AB59+AK59+AS59+BD59 -> 25 | G59: =Q59+BE59 -> 0 | H59: =E59-D59 -> -130.9 | I59: =IF(D59<>0,IF(E59/D59*100<0,"<0",IF(E59/D59*100>200,">200",E59/D59*100))," ") -> 16.03592 | J59: =T59+BH59 -> 20.2 | K59: =E59-J59 -> 4.8 | L59: =IF(J59<>0,IF(E59/J59*100<0,"<0",IF(E59/J59*100>200,">200",E59/J59*100))," ") -> 123.76238 | M59: =W59+AI59+AQ59 -> 32.7 | N59: =X59+AJ59+AR59 -> 32.7 | O59: =AA59+AK59+AS59 -> 5.3 | P59: =AB59+AK59+AS59 -> 5.3 | Q59: =AC59 -> 0 | R59: =O59-N59 -> -27.4 | S59: =IF(N59<>0,IF(O59/N59*100<0,"<0",IF(O59/N59*100>200,">200",O59/N59*100))," ") -> 16.207951 | T59: =AF59+AN59+AV59 -> 2.2 | U59: =O59-T59 -> 3.1 | V59: =IF(T59<>0,IF(O59/T59*100<0,"<0",IF(O59/T59*100>200,">200",O59/T59*100))," ") -> >200 | W59: 32.7 | X59: 32.7 | Y59: =X59-Z59 -> 32.7 | AA59: 5.3 | AB59: =AA59-AC59 -> 5.3 | AD59: =AA59-X59 -> -27.4 | AE59: =IF(X59<>0,IF(AA59/X59*100<0,"<0",IF(AA59/X59*100>200,">200",AA59/X59*100))," ") -> 16.207951 | AF59: 2.2 | AG59: =AA59-AF59 -> 3.1 | AH59: =IF(AF59<>0,IF(AA59/AF59*100<0,"<0",IF(AA59/AF59*100>200,">200",AA59/AF59*100))," ") -> >200 | AP59: =IF(AN59<>0,IF(AK59/AN59*100<0,"<0",IF(AK59/AN59*100>200,">200",AK59/AN59*100))," ") | AY59: 122.3 | AZ59: 123.2 | BA59: =AZ59-BB59 -> 123.2 | BC59: 19.7 | BD59: =BC59-BE59 -> 19.7 | BF59: =BC59-AZ59 -> -103.5 | BG59: =IF(AZ59<>0,IF(BC59/AZ59*100<0,"<0",IF(BC59/AZ59*100>200,">200",BC59/AZ59*100))," ") -> 15.99026 | BH59: 18 | BI59: =BC59-BH59 -> 1.7 | BJ59: =IF(BH59<>0,IF(BC59/BH59*100<0,"<0",IF(BC59/BH59*100>200,">200",BC59/BH59*100))," ") -> 109.44444 | BL59: =BM59+BQ59 -> 0 | BM59: =BN59+BO59+BP59 -> 0
A60: Venituri din vînzarea mărfurilor și serviciilor | B60: 142 formula | C60: =M60+AY60 -> 1626.6 | D60: =N60+AZ60 -> 1638.3 | E60: =O60+BC60 -> 295.9 | F60: =AB60+AK60+AS60+BD60 -> 295.9 | G60: =Q60+BE60 -> 0 | H60: =E60-D60 -> -1342.4 | I60: =IF(D60<>0,IF(E60/D60*100<0,"<0",IF(E60/D60*100>200,">200",E60/D60*100))," ") -> 18.061405 | J60: =T60+BH60 -> 217.1 | K60: =E60-J60 -> 78.8 | L60: =IF(J60<>0,IF(E60/J60*100<0,"<0",IF(E60/J60*100>200,">200",E60/J60*100))," ") -> 136.29664 | M60: =W60+AI60+AQ60 -> 1142.7 | N60: =X60+AJ60+AR60 -> 1142.7 | O60: =AA60+AK60+AS60 -> 212.5 | P60: =AB60+AK60+AS60 -> 212.5 | Q60: =AC60 -> 0 | R60: =O60-N60 -> -930.2 | S60: =IF(N60<>0,IF(O60/N60*100<0,"<0",IF(O60/N60*100>200,">200",O60/N60*100))," ") -> 18.596307 | T60: =AF60+AN60+AV60 -> 160.1 | U60: =O60-T60 -> 52.4 | V60: =IF(T60<>0,IF(O60/T60*100<0,"<0",IF(O60/T60*100>200,">200",O60/T60*100))," ") -> 132.72954 | W60: =W62+W63 -> 1142.7 | X60: =X62+X63 -> 1142.7 | Y60: =X60-Z60 -> 1142.7 | Z60: =Z62+Z63 -> 0 | AA60: =AA62+AA63 -> 212.5 | AB60: =AA60-AC60 -> 212.5 | AC60: =AC62+AC63 -> 0 | AD60: =AA60-X60 -> -930.2 | AE60: =IF(X60<>0,IF(AA60/X60*100<0,"<0",IF(AA60/X60*100>200,">200",AA60/X60*100))," ") -> 18.596307 | AF60: =AF62+AF63 -> 160.1 | AG60: =AA60-AF60 -> 52.4 | AH60: =IF(AF60<>0,IF(AA60/AF60*100<0,"<0",IF(AA60/AF60*100>200,">200",AA60/AF60*100))," ") -> 132.72954 | AK60: =AK62+AK63 -> 0 | AL60: =AK60-AJ60 -> 0 | AM60: =IF(AJ60<>0,IF(AK60/AJ60*100<0,"<0",IF(AK60/AJ60*100>200,">200",AK60/AJ60*100))," ") | AN60: =AN62+AN63 -> 0 | AO60: =AK60-AN60 -> 0 | AP60: =IF(AN60<>0,IF(AK60/AN60*100<0,"<0",IF(AK60/AN60*100>200,">200",AK60/AN60*100))," ") | AQ60: =AQ62+AQ63 -> 0 | AR60: =AR62+AR63 -> 0 | AS60: =AS62+AS63 -> 0 | AT60: =AS60-AR60 -> 0 | AU60: =IF(AR60<>0,IF(AS60/AR60*100<0,"<0",IF(AS60/AR60*100>200,">200",AS60/AR60*100))," ") | AW60: =AS60-AV60 -> 0 | AX60: =IF(AV60<>0,IF(AS60/AV60*100<0,"<0",IF(AS60/AV60*100>200,">200",AS60/AV60*100))," ") | AY60: =AY62+AY63 -> 483.9 | AZ60: =AZ62+AZ63 -> 495.6 | BA60: =AZ60-BB60 -> 495.6 | BB60: =BB62+BB63 -> 0 | BC60: =BC62+BC63 -> 83.4 | BD60: =BC60-BE60 -> 83.4 | BE60: =BE62+BE63 -> 0 | BF60: =BC60-AZ60 -> -412.2 | BG60: =IF(AZ60<>0,IF(BC60/AZ60*100<0,"<0",IF(BC60/AZ60*100>200,">200",BC60/AZ60*100))," ") -> 16.828087 | BH60: =BH62+BH63 -> 57 | BI60: =BC60-BH60 -> 26.4 | BJ60: =IF(BH60<>0,IF(BC60/BH60*100<0,"<0",IF(BC60/BH60*100>200,">200",BC60/BH60*100))," ") -> 146.31579 | BL60: =BM60+BQ60 -> 58.8 | BM60: =BN60+BO60+BP60 -> 48.7 | BN60: 48.7 | BQ60: 10.1
A61: inclusiv: | F61: =AB61+AK61+AS61+BD61 -> 0 | G61: =Q61+BE61 -> 0 | H61: =E61-D61 -> 0 | I61: =IF(D61<>0,IF(E61/D61*100<0,"<0",IF(E61/D61*100>200,">200",E61/D61*100))," ") | J61: =T61+BH61 -> 0 | K61: =E61-J61 -> 0 | L61: =IF(J61<>0,IF(E61/J61*100<0,"<0",IF(E61/J61*100>200,">200",E61/J61*100))," ") | V61: =IF(T61<>0,IF(O61/T61*100<0,"<0",IF(O61/T61*100>200,">200",O61/T61*100))," ") | AG61: =AA61-AF61 -> 0 | AH61: =IF(AF61<>0,IF(AA61/AF61*100<0,"<0",IF(AA61/AF61*100>200,">200",AA61/AF61*100))," ") | AL61: =AK61-AJ61 -> 0 | AM61: =IF(AJ61<>0,IF(AK61/AJ61*100<0,"<0",IF(AK61/AJ61*100>200,">200",AK61/AJ61*100))," ") | AP61: =IF(AN61<>0,IF(AK61/AN61*100<0,"<0",IF(AK61/AN61*100>200,">200",AK61/AN61*100))," ") | AT61: =AS61-AR61 -> 0 | AU61: =IF(AR61<>0,IF(AS61/AR61*100<0,"<0",IF(AS61/AR61*100>200,">200",AS61/AR61*100))," ") | BA61: =AZ61-BB61 -> 0 | BF61: =BC61-AZ61 -> 0 | BG61: =IF(AZ61<>0,IF(BC61/AZ61*100<0,"<0",IF(BC61/AZ61*100>200,">200",BC61/AZ61*100))," ") | BI61: =BC61-BH61 -> 0 | BJ61: =IF(BH61<>0,IF(BC61/BH61*100<0,"<0",IF(BC61/BH61*100>200,">200",BC61/BH61*100))," ") | BL61: =BM61+BQ61 -> 0 | BM61: =BN61+BO61+BP61 -> 0
A62: Taxe și plăți administrative | B62: 1422 | C62: =M62+AY62 -> 400.4 | D62: =N62+AZ62 -> 401.5 | E62: =O62+BC62 -> 126.5 | F62: =AB62+AK62+AS62+BD62 -> 126.5 | G62: =Q62+BE62 -> 0 | H62: =E62-D62 -> -275 | I62: =IF(D62<>0,IF(E62/D62*100<0,"<0",IF(E62/D62*100>200,">200",E62/D62*100))," ") -> 31.506849 | J62: =T62+BH62 -> 64.2 | K62: =E62-J62 -> 62.3 | L62: =IF(J62<>0,IF(E62/J62*100<0,"<0",IF(E62/J62*100>200,">200",E62/J62*100))," ") -> 197.0405 | M62: =W62+AI62+AQ62 -> 312.8 | N62: =X62+AJ62+AR62 -> 312.8 | O62: =AA62+AK62+AS62 -> 101.1 | P62: =AB62+AK62+AS62 -> 101.1 | Q62: =AC62 -> 0 | R62: =O62-N62 -> -211.7 | S62: =IF(N62<>0,IF(O62/N62*100<0,"<0",IF(O62/N62*100>200,">200",O62/N62*100))," ") -> 32.320972 | T62: =AF62+AN62+AV62 -> 57.1 | U62: =O62-T62 -> 44 | V62: =IF(T62<>0,IF(O62/T62*100<0,"<0",IF(O62/T62*100>200,">200",O62/T62*100))," ") -> 177.05779 | W62: 312.8 | X62: 312.8 | Y62: =X62-Z62 -> 312.8 | AA62: 101.1 | AB62: =AA62-AC62 -> 101.1 | AD62: =AA62-X62 -> -211.7 | AE62: =IF(X62<>0,IF(AA62/X62*100<0,"<0",IF(AA62/X62*100>200,">200",AA62/X62*100))," ") -> 32.320972 | AF62: 57.1 | AG62: =AA62-AF62 -> 44 | AH62: =IF(AF62<>0,IF(AA62/AF62*100<0,"<0",IF(AA62/AF62*100>200,">200",AA62/AF62*100))," ") -> 177.05779 | AL62: =AK62-AJ62 -> 0 | AM62: =IF(AJ62<>0,IF(AK62/AJ62*100<0,"<0",IF(AK62/AJ62*100>200,">200",AK62/AJ62*100))," ") | AP62: =IF(AN62<>0,IF(AK62/AN62*100<0,"<0",IF(AK62/AN62*100>200,">200",AK62/AN62*100))," ") | AT62: =AS62-AR62 -> 0 | AU62: =IF(AR62<>0,IF(AS62/AR62*100<0,"<0",IF(AS62/AR62*100>200,">200",AS62/AR62*100))," ") | AY62: 87.6 | AZ62: 88.7 | BA62: =AZ62-BB62 -> 88.7 | BC62: 25.4 | BD62: =BC62-BE62 -> 25.4 | BF62: =BC62-AZ62 -> -63.3 | BG62: =IF(AZ62<>0,IF(BC62/AZ62*100<0,"<0",IF(BC62/AZ62*100>200,">200",BC62/AZ62*100))," ") -> 28.635851 | BH62: 7.1 | BI62: =BC62-BH62 -> 18.3 | BJ62: =IF(BH62<>0,IF(BC62/BH62*100<0,"<0",IF(BC62/BH62*100>200,">200",BC62/BH62*100))," ") -> >200 | BL62: =BM62+BQ62 -> 13.1 | BM62: =BN62+BO62+BP62 -> 11.4 | BN62: 11.4 | BQ62: 1.7
A63: Comercializarea mărfurilor și serviciilor de către instituțiile bugetare | B63: 1423 | C63: =M63+AY63 -> 1226.2 | D63: =N63+AZ63 -> 1236.8 | E63: =O63+BC63 -> 169.4 | F63: =AB63+AK63+AS63+BD63 -> 169.4 | G63: =Q63+BE63 -> 0 | H63: =E63-D63 -> -1067.4 | I63: =IF(D63<>0,IF(E63/D63*100<0,"<0",IF(E63/D63*100>200,">200",E63/D63*100))," ") -> 13.696636 | J63: =T63+BH63 -> 152.9 | K63: =E63-J63 -> 16.5 | L63: =IF(J63<>0,IF(E63/J63*100<0,"<0",IF(E63/J63*100>200,">200",E63/J63*100))," ") -> 110.79137 | M63: =W63+AI63+AQ63 -> 829.9 | N63: =X63+AJ63+AR63 -> 829.9 | O63: =AA63+AK63+AS63 -> 111.4 | P63: =AB63+AK63+AS63 -> 111.4 | Q63: =AC63 -> 0 | R63: =O63-N63 -> -718.5 | S63: =IF(N63<>0,IF(O63/N63*100<0,"<0",IF(O63/N63*100>200,">200",O63/N63*100))," ") -> 13.423304 | T63: =AF63+AN63+AV63 -> 103 | U63: =O63-T63 -> 8.4 | V63: =IF(T63<>0,IF(O63/T63*100<0,"<0",IF(O63/T63*100>200,">200",O63/T63*100))," ") -> 108.15534 | W63: 829.9 | X63: 829.9 | Y63: =X63-Z63 -> 829.9 | AA63: 111.4 | AB63: =AA63-AC63 -> 111.4 | AD63: =AA63-X63 -> -718.5 | AE63: =IF(X63<>0,IF(AA63/X63*100<0,"<0",IF(AA63/X63*100>200,">200",AA63/X63*100))," ") -> 13.423304 | AF63: 103 | AG63: =AA63-AF63 -> 8.4 | AH63: =IF(AF63<>0,IF(AA63/AF63*100<0,"<0",IF(AA63/AF63*100>200,">200",AA63/AF63*100))," ") -> 108.15534 | AL63: =AK63-AJ63 -> 0 | AM63: =IF(AJ63<>0,IF(AK63/AJ63*100<0,"<0",IF(AK63/AJ63*100>200,">200",AK63/AJ63*100))," ") | AP63: =IF(AN63<>0,IF(AK63/AN63*100<0,"<0",IF(AK63/AN63*100>200,">200",AK63/AN63*100))," ") | AT63: =AS63-AR63 -> 0 | AU63: =IF(AR63<>0,IF(AS63/AR63*100<0,"<0",IF(AS63/AR63*100>200,">200",AS63/AR63*100))," ") | AY63: 396.3 | AZ63: 406.9 | BA63: =AZ63-BB63 -> 406.9 | BC63: 58 | BD63: =BC63-BE63 -> 58 | BF63: =BC63-AZ63 -> -348.9 | BG63: =IF(AZ63<>0,IF(BC63/AZ63*100<0,"<0",IF(BC63/AZ63*100>200,">200",BC63/AZ63*100))," ") -> 14.254116 | BH63: 49.9 | BI63: =BC63-BH63 -> 8.1 | BJ63: =IF(BH63<>0,IF(BC63/BH63*100<0,"<0",IF(BC63/BH63*100>200,">200",BC63/BH63*100))," ") -> 116.23246 | BL63: =BM63+BQ63 -> 45.7 | BM63: =BN63+BO63+BP63 -> 37.3 | BN63: 37.3 | BQ63: 8.4
A64: Amenzi și sancțiuni | B64: 143 | C64: =M64+AY64 -> 311.9 | D64: =N64+AZ64 -> 311.9 | E64: =O64+BC64 -> 50.1 | F64: =AB64+AK64+AS64+BD64 -> 50.1 | G64: =Q64+BE64 -> 0 | H64: =E64-D64 -> -261.8 | I64: =IF(D64<>0,IF(E64/D64*100<0,"<0",IF(E64/D64*100>200,">200",E64/D64*100))," ") -> 16.062841 | J64: =T64+BH64 -> 48.8 | K64: =E64-J64 -> 1.3 | L64: =IF(J64<>0,IF(E64/J64*100<0,"<0",IF(E64/J64*100>200,">200",E64/J64*100))," ") -> 102.66393 | M64: =W64+AI64+AQ64 -> 309.6 | N64: =X64+AJ64+AR64 -> 309.6 | O64: =AA64+AK64+AS64 -> 49.6 | P64: =AB64+AK64+AS64 -> 49.6 | Q64: =AC64 -> 0 | R64: =O64-N64 -> -260 | S64: =IF(N64<>0,IF(O64/N64*100<0,"<0",IF(O64/N64*100>200,">200",O64/N64*100))," ") -> 16.020672 | T64: =AF64+AN64+AV64 -> 48.4 | U64: =O64-T64 -> 1.2 | V64: =IF(T64<>0,IF(O64/T64*100<0,"<0",IF(O64/T64*100>200,">200",O64/T64*100))," ") -> 102.47934 | W64: 306.4 | X64: 306.4 | Y64: =X64-Z64 -> 306.4 | AA64: 49.5 | AB64: =AA64-AC64 -> 49.5 | AD64: =AA64-X64 -> -256.9 | AE64: =IF(X64<>0,IF(AA64/X64*100<0,"<0",IF(AA64/X64*100>200,">200",AA64/X64*100))," ") -> 16.155352 | AF64: 48.2 | AG64: =AA64-AF64 -> 1.3 | AH64: =IF(AF64<>0,IF(AA64/AF64*100<0,"<0",IF(AA64/AF64*100>200,">200",AA64/AF64*100))," ") -> 102.6971 | AI64: 2.9 | AJ64: 2.9 | AK64: 0.1 | AL64: =AK64-AJ64 -> -2.8 | AM64: =IF(AJ64<>0,IF(AK64/AJ64*100<0,"<0",IF(AK64/AJ64*100>200,">200",AK64/AJ64*100))," ") -> 3.4482759 | AN64: 0.2 | AO64: =AK64-AN64 -> -0.1 | AP64: =IF(AN64<>0,IF(AK64/AN64*100<0,"<0",IF(AK64/AN64*100>200,">200",AK64/AN64*100))," ") -> 50 | AQ64: 0.3 | AR64: 0.3 | AT64: =AS64-AR64 -> -0.3 | AU64: =IF(AR64<>0,IF(AS64/AR64*100<0,"<0",IF(AS64/AR64*100>200,">200",AS64/AR64*100))," ") -> 0 | AW64: =AS64-AV64 -> 0 | AX64: =IF(AV64<>0,IF(AS64/AV64*100<0,"<0",IF(AS64/AV64*100>200,">200",AS64/AV64*100))," ") | AY64: 2.3 | AZ64: 2.3 | BA64: =AZ64-BB64 -> 2.3 | BC64: 0.5 | BD64: =BC64-BE64 -> 0.5 | BF64: =BC64-AZ64 -> -1.8 | BG64: =IF(AZ64<>0,IF(BC64/AZ64*100<0,"<0",IF(BC64/AZ64*100>200,">200",BC64/AZ64*100))," ") -> 21.73913 | BH64: 0.4 | BI64: =BC64-BH64 -> 0.1 | BJ64: =IF(BH64<>0,IF(BC64/BH64*100<0,"<0",IF(BC64/BH64*100>200,">200",BC64/BH64*100))," ") -> 125 | BL64: =BM64+BQ64 -> 12.3 | BM64: =BN64+BO64+BP64 -> 11.8 | BN64: 11.2 | BO64: 0.4 | BP64: 0.2 | BQ64: 0.5
A65: Donații voluntare | B65: 144 | C65: =M65+AY65 -> 44.7 | D65: =N65+AZ65 -> 57.5 | E65: =O65+BC65 -> 17.3 | F65: =AB65+AK65+AS65+BD65 -> 17.3 | G65: =Q65+BE65 -> 0 | H65: =E65-D65 -> -40.2 | I65: =IF(D65<>0,IF(E65/D65*100<0,"<0",IF(E65/D65*100>200,">200",E65/D65*100))," ") -> 30.086957 | J65: =T65+BH65 -> 9.8 | K65: =E65-J65 -> 7.5 | L65: =IF(J65<>0,IF(E65/J65*100<0,"<0",IF(E65/J65*100>200,">200",E65/J65*100))," ") -> 176.53061 | M65: =W65+AI65+AQ65 -> 3.8 | N65: =X65+AJ65+AR65 -> 3.8 | O65: =AA65+AK65+AS65 -> 6.5 | P65: =AB65+AK65+AS65 -> 6.5 | Q65: =AC65 -> 0 | R65: =O65-N65 -> 2.7 | S65: =IF(N65<>0,IF(O65/N65*100<0,"<0",IF(O65/N65*100>200,">200",O65/N65*100))," ") -> 171.05263 | T65: =AF65+AN65+AV65 -> 1.2 | U65: =O65-T65 -> 5.3 | V65: =IF(T65<>0,IF(O65/T65*100<0,"<0",IF(O65/T65*100>200,">200",O65/T65*100))," ") -> >200 | W65: 3.8 | X65: 3.8 | Y65: =X65-Z65 -> 3.8 | AA65: 6.5 | AB65: =AA65-AC65 -> 6.5 | AD65: =AA65-X65 -> 2.7 | AE65: =IF(X65<>0,IF(AA65/X65*100<0,"<0",IF(AA65/X65*100>200,">200",AA65/X65*100))," ") -> 171.05263 | AF65: 1.2 | AG65: =AA65-AF65 -> 5.3 | AH65: =IF(AF65<>0,IF(AA65/AF65*100<0,"<0",IF(AA65/AF65*100>200,">200",AA65/AF65*100))," ") -> >200 | AL65: =AK65-AJ65 -> 0 | AM65: =IF(AJ65<>0,IF(AK65/AJ65*100<0,"<0",IF(AK65/AJ65*100>200,">200",AK65/AJ65*100))," ") | AO65: =AK65-AN65 -> 0 | AP65: =IF(AN65<>0,IF(AK65/AN65*100<0,"<0",IF(AK65/AN65*100>200,">200",AK65/AN65*100))," ") | AT65: =AS65-AR65 -> 0 | AU65: =IF(AR65<>0,IF(AS65/AR65*100<0,"<0",IF(AS65/AR65*100>200,">200",AS65/AR65*100))," ") | AX65: =IF(AV65<>0,IF(AS65/AV65*100<0,"<0",IF(AS65/AV65*100>200,">200",AS65/AV65*100))," ") | AY65: 40.9 | AZ65: 53.7 | BA65: =AZ65-BB65 -> 53.7 | BC65: 10.8 | BD65: =BC65-BE65 -> 10.8 | BF65: =BC65-AZ65 -> -42.9 | BG65: =IF(AZ65<>0,IF(BC65/AZ65*100<0,"<0",IF(BC65/AZ65*100>200,">200",BC65/AZ65*100))," ") -> 20.111732 | BH65: 8.6 | BI65: =BC65-BH65 -> 2.2 | BJ65: =IF(BH65<>0,IF(BC65/BH65*100<0,"<0",IF(BC65/BH65*100>200,">200",BC65/BH65*100))," ") -> 125.5814 | BL65: =BM65+BQ65 -> 1.1 | BM65: =BN65+BO65+BP65 -> 0.8 | BN65: 0.8 | BQ65: 0.3
A66: Alte venituri și venituri neidentificate | B66: 145 | C66: =M66+AY66 -> 605.4 | D66: =N66+AZ66 -> 606.3 | E66: =O66+BC66 -> 112.9 | F66: =AB66+AK66+AS66+BD66 -> 113 | G66: =Q66+BE66 -> -0.1 | H66: =E66-D66 -> -493.4 | I66: =IF(D66<>0,IF(E66/D66*100<0,"<0",IF(E66/D66*100>200,">200",E66/D66*100))," ") -> 18.621145 | J66: =T66+BH66 -> 120 | K66: =E66-J66 -> -7.1 | L66: =IF(J66<>0,IF(E66/J66*100<0,"<0",IF(E66/J66*100>200,">200",E66/J66*100))," ") -> 94.083333 | M66: =W66+AI66+AQ66 -> 592.3 | N66: =X66+AJ66+AR66 -> 592.3 | O66: =AA66+AK66+AS66 -> 111 | P66: =AB66+AK66+AS66 -> 111.1 | Q66: =AC66 -> -0.1 | R66: =O66-N66 -> -481.3 | S66: =IF(N66<>0,IF(O66/N66*100<0,"<0",IF(O66/N66*100>200,">200",O66/N66*100))," ") -> 18.740503 | T66: =AF66+AN66+AV66 -> 100.1 | U66: =O66-T66 -> 10.9 | V66: =IF(T66<>0,IF(O66/T66*100<0,"<0",IF(O66/T66*100>200,">200",O66/T66*100))," ") -> 110.88911 | W66: 195.8 | X66: 195.8 | Y66: =X66-Z66 -> 187.7 | Z66: 8.1 | AA66: 33.3 | AB66: =AA66-AC66 -> 33.4 | AC66: -0.1 | AD66: =AA66-X66 -> -162.5 | AE66: =IF(X66<>0,IF(AA66/X66*100<0,"<0",IF(AA66/X66*100>200,">200",AA66/X66*100))," ") -> 17.00715 | AF66: 44.5 | AG66: =AA66-AF66 -> -11.2 | AH66: =IF(AF66<>0,IF(AA66/AF66*100<0,"<0",IF(AA66/AF66*100>200,">200",AA66/AF66*100))," ") -> 74.831461 | AI66: 300.6 | AJ66: 300.6 | AK66: 59.9 | AL66: =AK66-AJ66 -> -240.7 | AM66: =IF(AJ66<>0,IF(AK66/AJ66*100<0,"<0",IF(AK66/AJ66*100>200,">200",AK66/AJ66*100))," ") -> 19.926813 | AN66: 42.3 | AO66: =AK66-AN66 -> 17.6 | AP66: =IF(AN66<>0,IF(AK66/AN66*100<0,"<0",IF(AK66/AN66*100>200,">200",AK66/AN66*100))," ") -> 141.60757 | AQ66: 95.9 | AR66: 95.9 | AS66: 17.8 | AT66: =AS66-AR66 -> -78.1 | AU66: =IF(AR66<>0,IF(AS66/AR66*100<0,"<0",IF(AS66/AR66*100>200,">200",AS66/AR66*100))," ") -> 18.561001 | AV66: 13.3 | AW66: =AS66-AV66 -> 4.5 | AX66: =IF(AV66<>0,IF(AS66/AV66*100<0,"<0",IF(AS66/AV66*100>200,">200",AS66/AV66*100))," ") -> 133.83459 | AY66: 13.1 | AZ66: 14 | BA66: =AZ66-BB66 -> 14 | BC66: 1.9 | BD66: =BC66-BE66 -> 1.9 | BF66: =BC66-AZ66 -> -12.1 | BG66: =IF(AZ66<>0,IF(BC66/AZ66*100<0,"<0",IF(BC66/AZ66*100>200,">200",BC66/AZ66*100))," ") -> 13.571429 | BH66: 19.9 | BI66: =BC66-BH66 -> -18 | BJ66: =IF(BH66<>0,IF(BC66/BH66*100<0,"<0",IF(BC66/BH66*100>200,">200",BC66/BH66*100))," ") -> 9.5477387 | BL66: =BM66+BQ66 -> 21.4 | BM66: =BN66+BO66+BP66 -> 18.9 | BN66: 18.7 | BO66: 0.1 | BP66: 0.1 | BQ66: 2.5
D67: =N67+AZ67 -> 0 | E67: =O67+BC67 -> 0 | F67: =AB67+AK67+AS67+BD67 -> 0 | G67: =Q67+BE67 -> 0 | H67: =E67-D67 -> 0 | I67: =IF(D67<>0,IF(E67/D67*100<0,"<0",IF(E67/D67*100>200,">200",E67/D67*100))," ") | K67: =E67-J67 -> 0 | L67: =IF(J67<>0,IF(E67/J67*100<0,"<0",IF(E67/J67*100>200,">200",E67/J67*100))," ") | N67: =X67+AJ67+AR67 -> 0 | O67: =AA67+AK67+AS67 -> 0 | P67: =AB67+AK67+AS67 -> 0 | Q67: =AC67 -> 0 | R67: =O67-N67 -> 0 | S67: =IF(N67<>0,IF(O67/N67*100<0,"<0",IF(O67/N67*100>200,">200",O67/N67*100))," ") | T67: =AF67+AN67+AV67 -> 0 | U67: =O67-T67 -> 0 | X67: 0 | AB67: =AA67-AC67 -> 0 | AD67: =AA67-X67 -> 0 | AE67: =IF(X67<>0,IF(AA67/X67*100<0,"<0",IF(AA67/X67*100>200,">200",AA67/X67*100))," ") | AG67: =AA67-AF67 -> 0 | AH67: =IF(AF67<>0,IF(AA67/AF67*100<0,"<0",IF(AA67/AF67*100>200,">200",AA67/AF67*100))," ") | BA67: =AZ67-BB67 -> 0
A68: Transferuri primite în cadrul bugetului public național | B68: 19 | C68: =M68+AY68 -> 32862.1 | D68: =N68+AZ68 -> 33725.5 | E68: =AA68+AK68+AS68+BC68 -> 5493.7 | F68: =AB68+AK68+AS68+BD68 -> 5493.7 | G68: =Q68+BE68-BE69 -> 0 | H68: =E68-D68 -> -28231.8 | I68: =IF(D68<>0,IF(E68/D68*100<0,"<0",IF(E68/D68*100>200,">200",E68/D68*100))," ") -> 16.289455 | J68: =T68+BH68 -> 4800.6 | K68: =E68-J68 -> 693.1 | L68: =IF(J68<>0,IF(E68/J68*100<0,"<0",IF(E68/J68*100>200,">200",E68/J68*100))," ") -> 114.43778 | M68: =M69+M70 -> 18638.9 | N68: =N69+N70 -> 18638.9 | O68: =O69+O70 -> 3341.9 | P68: =P69+P70 -> 3341.9 | Q68: =AC68 -> 0 | R68: =O68-N68 -> -15297 | S68: =IF(N68<>0,IF(O68/N68*100<0,"<0",IF(O68/N68*100>200,">200",O68/N68*100))," ") -> 17.929706 | T68: =T69+T70 -> 2791 | U68: =O68-T68 -> 550.9 | V68: =IF(T68<>0,IF(O68/T68*100<0,"<0",IF(O68/T68*100>200,">200",O68/T68*100))," ") -> 119.73845 | W68: =W69+W70+W71+W72 -> 17 | X68: =X69+X70+X71+X72 -> 17 | Y68: =X68-Z68 -> 0 | Z68: =Z69+Z70+Z71+Z72 -> 17 | AA68: =AA69+AA70+AA73+AA74 -> 0 | AB68: =AA68-AC68 -> 0 | AC68: =AC69+AC70+AC73+AC74 -> 0 | AD68: =AA68-X68 -> -17 | AE68: =IF(X68<>0,IF(AA68/X68*100<0,"<0",IF(AA68/X68*100>200,">200",AA68/X68*100))," ") -> 0 | AF68: =AF69+AF70+AF73+AF74 -> 0.1 | AG68: =AA68-AF68 -> -0.1 | AH68: =IF(AF68<>0,IF(AA68/AF68*100<0,"<0",IF(AA68/AF68*100>200,">200",AA68/AF68*100))," ") -> 0 | AI68: =AI69+AI70 -> 12550 | AJ68: =AJ69+AJ70 -> 12550 | AK68: =AK69+AK70 -> 2835.9 | AL68: =AK68-AJ68 -> -9714.1 | AM68: =IF(AJ68<>0,IF(AK68/AJ68*100<0,"<0",IF(AK68/AJ68*100>200,">200",AK68/AJ68*100))," ") -> 22.596813 | AN68: =AN69+AN70 -> 2304.6 | AO68: =AK68-AN68 -> 531.3 | AP68: =IF(AN68<>0,IF(AK68/AN68*100<0,"<0",IF(AK68/AN68*100>200,">200",AK68/AN68*100))," ") -> 123.05389 | AQ68: =AQ69+AQ70 -> 6071.9 | AR68: =AR69+AR70 -> 6071.9 | AS68: =AS69+AS70 -> 506 | AT68: =AS68-AR68 -> -5565.9 | AU68: =IF(AR68<>0,IF(AS68/AR68*100<0,"<0",IF(AS68/AR68*100>200,">200",AS68/AR68*100))," ") -> 8.3334706 | AV68: =AV69+AV70 -> 486.3 | AW68: =AS68-AV68 -> 19.7 | AX68: =IF(AV68<>0,IF(AS68/AV68*100<0,"<0",IF(AS68/AV68*100>200,">200",AS68/AV68*100))," ") -> 104.051 | AY68: =AY69+AY73+AY74 -> 14223.2 | AZ68: =AZ69+AZ73+AZ74 -> 15086.6 | BA68: =AZ68-BB68 -> 15086.6 | BB68: =BB69+BB73+BB74 -> 0 | BC68: =BC69+BC73+BC74 -> 2151.8 | BD68: =BC68-BE68 -> 2151.8 | BE68: =BE69+BE73+BE74 -> 0 | BF68: =BC68-AZ68 -> -12934.8 | BG68: =IF(AZ68<>0,IF(BC68/AZ68*100<0,"<0",IF(BC68/AZ68*100>200,">200",BC68/AZ68*100))," ") -> 14.262988 | BH68: =BH69+BH70+BH73+BH74 -> 2009.6 | BI68: =BC68-BH68 -> 142.2 | BJ68: =IF(BH68<>0,IF(BC68/BH68*100<0,"<0",IF(BC68/BH68*100>200,">200",BC68/BH68*100))," ") -> 107.07604 | BL68: =BM68+BQ68 -> 1418.9 | BM68: =BN68+BO68+BP68 -> 1015.4 | BO68: 965.4 | BP68: 50 | BQ68: 403.5
A69: Transferuri primite între bugetul de stat şi bugetele locale | B69: 191 | C69: =M69+AY69 -> 14240.2 | D69: =N69+AZ69 -> 15103.6 | E69: =O69+BC69 -> 2151.8 | F69: =AB69+AK69+AS69+BD69 -> 2151.8 | G69: =Q69+BE69-BE69 -> 0 | H69: =E69-D69 -> -12951.8 | I69: =IF(D69<>0,IF(E69/D69*100<0,"<0",IF(E69/D69*100>200,">200",E69/D69*100))," ") -> 14.246935 | J69: =T69+BH69 -> 2009.7 | K69: =E69-J69 -> 142.1 | L69: =IF(J69<>0,IF(E69/J69*100<0,"<0",IF(E69/J69*100>200,">200",E69/J69*100))," ") -> 107.07071 | M69: =W69+AI69+AQ69 -> 17 | N69: =X69+AJ69+AR69 -> 17 | O69: =AA69+AK69+AS69 -> 0 | P69: =AB69+AK69+AS69 -> 0 | Q69: =AC69 -> 0 | R69: =O69-N69 -> -17 | S69: =IF(N69<>0,IF(O69/N69*100<0,"<0",IF(O69/N69*100>200,">200",O69/N69*100))," ") -> 0 | T69: =AF69+AN69+AV69 -> 0.1 | U69: =O69-T69 -> -0.1 | V69: =IF(T69<>0,IF(O69/T69*100<0,"<0",IF(O69/T69*100>200,">200",O69/T69*100))," ") -> 0 | W69: 17 | X69: 17 | Y69: =X69-Z69 -> 0 | Z69: 17 | AB69: =AA69-AC69 -> 0 | AD69: =AA69-X69 -> -17 | AE69: =IF(X69<>0,IF(AA69/X69*100<0,"<0",IF(AA69/X69*100>200,">200",AA69/X69*100))," ") -> 0 | AF69: 0.1 | AG69: =AA69-AF69 -> -0.1 | AH69: =IF(AF69<>0,IF(AA69/AF69*100<0,"<0",IF(AA69/AF69*100>200,">200",AA69/AF69*100))," ") -> 0 | AL69: =AK69-AJ69 -> 0 | AM69: =IF(AJ69<>0,IF(AK69/AJ69*100<0,"<0",IF(AK69/AJ69*100>200,">200",AK69/AJ69*100))," ") | AO69: =AK69-AN69 -> 0 | AP69: =IF(AN69<>0,IF(AK69/AN69*100<0,"<0",IF(AK69/AN69*100>200,">200",AK69/AN69*100))," ") | AT69: =AS69-AR69 -> 0 | AU69: =IF(AR69<>0,IF(AS69/AR69*100<0,"<0",IF(AS69/AR69*100>200,">200",AS69/AR69*100))," ") | AW69: =AS69-AV69 -> 0 | AX69: =IF(AV69<>0,IF(AS69/AV69*100<0,"<0",IF(AS69/AV69*100>200,">200",AS69/AV69*100))," ") | AY69: 14223.2 | AZ69: 15086.6 | BA69: =AZ69-BB69 -> 15086.6 | BC69: 2151.8 | BD69: =BC69-BE69 -> 2151.8 | BF69: =BC69-AZ69 -> -12934.8 | BG69: =IF(AZ69<>0,IF(BC69/AZ69*100<0,"<0",IF(BC69/AZ69*100>200,">200",BC69/AZ69*100))," ") -> 14.262988 | BH69: 2009.6 | BI69: =BC69-BH69 -> 142.2 | BJ69: =IF(BH69<>0,IF(BC69/BH69*100<0,"<0",IF(BC69/BH69*100>200,">200",BC69/BH69*100))," ") -> 107.07604 | BL69: =BM69+BQ69 -> 403.5 | BM69: =BN69+BO69+BP69 -> 0 | BQ69: 403.5
A70: Transferuri primite în cadrul bugetului consolidat central | B70: 192 | C70: =M70+AY70 -> 18621.9 | D70: =N70+AZ70 -> 18621.9 | E70: =O70+BC70 -> 3341.9 | F70: =P70+BD70 -> 3341.9 | G70: =Q70+BE70 -> 0 | H70: =E70-D70 -> -15280 | I70: =IF(D70<>0,IF(E70/D70*100<0,"<0",IF(E70/D70*100>200,">200",E70/D70*100))," ") -> 17.946074 | J70: =T70+BH70 -> 2790.9 | K70: =E70-J70 -> 551 | L70: =IF(J70<>0,IF(E70/J70*100<0,"<0",IF(E70/J70*100>200,">200",E70/J70*100))," ") -> 119.74274 | M70: =W70+AI70+AQ70 -> 18621.9 | N70: =X70+AJ70+AR70 -> 18621.9 | O70: =AA70+AK70+AS70 -> 3341.9 | P70: =O70 -> 3341.9 | Q70: =AC70 -> 0 | R70: =O70-N70 -> -15280 | S70: =IF(N70<>0,IF(O70/N70*100<0,"<0",IF(O70/N70*100>200,">200",O70/N70*100))," ") -> 17.946074 | T70: =AF70+AN70+AV70 -> 2790.9 | U70: =O70-T70 -> 551 | V70: =IF(T70<>0,IF(O70/T70*100<0,"<0",IF(O70/T70*100>200,">200",O70/T70*100))," ") -> 119.74274 | AB70: =AA70-AC70 -> 0 | AD70: =AA70-X70 -> 0 | AE70: =IF(X70<>0,IF(AA70/X70*100<0,"<0",IF(AA70/X70*100>200,">200",AA70/X70*100))," ") | AG70: =AA70-AF70 -> 0 | AH70: =IF(AF70<>0,IF(AA70/AF70*100<0,"<0",IF(AA70/AF70*100>200,">200",AA70/AF70*100))," ") | AI70: =AI71+AI72 -> 12550 | AJ70: =AJ71+AJ72 -> 12550 | AK70: =AK71+AK72 -> 2835.9 | AL70: =AK70-AJ70 -> -9714.1 | AM70: =IF(AJ70<>0,IF(AK70/AJ70*100<0,"<0",IF(AK70/AJ70*100>200,">200",AK70/AJ70*100))," ") -> 22.596813 | AN70: =AN71+AN72 -> 2304.6 | AO70: =AK70-AN70 -> 531.3 | AP70: =IF(AN70<>0,IF(AK70/AN70*100<0,"<0",IF(AK70/AN70*100>200,">200",AK70/AN70*100))," ") -> 123.05389 | AQ70: =AQ71+AQ72 -> 6071.9 | AR70: =AR71+AR72 -> 6071.9 | AS70: =AS71+AS72 -> 506 | AT70: =AS70-AR70 -> -5565.9 | AU70: =IF(AR70<>0,IF(AS70/AR70*100<0,"<0",IF(AS70/AR70*100>200,">200",AS70/AR70*100))," ") -> 8.3334706 | AV70: =AV71+AV72 -> 486.3 | AW70: =AS70-AV70 -> 19.7 | AX70: =IF(AV70<>0,IF(AS70/AV70*100<0,"<0",IF(AS70/AV70*100>200,">200",AS70/AV70*100))," ") -> 104.051 | BA70: =AZ70-BB70 -> 0 | BD70: =BC70-BE70 -> 0 | BF70: =BC70-AZ70 -> 0 | BG70: =IF(AZ70<>0,IF(BC70/AZ70*100<0,"<0",IF(BC70/AZ70*100>200,">200",BC70/AZ70*100))," ") | BI70: =BC70-BH70 -> 0 | BJ70: =IF(BH70<>0,IF(BC70/BH70*100<0,"<0",IF(BC70/BH70*100>200,">200",BC70/BH70*100))," ") | BL70: =BM70+BQ70 -> 1015.4 | BM70: =BN70+BO70+BP70 -> 1015.4 | BO70: 965.4 | BP70: 50
A71: Transferuri primite între bugetul de stat si bugetul asigurarilor sociale de stat | B71: 1921 | C71: =M71+AY71 -> 12550 | D71: =N71+AZ71 -> #VALUE! | E71: =O71+BC71 -> 2835.9 | F71: =P71+BD71 -> 2835.9 | G71: =Q71+BE71 -> 0 | H71: =E71-D71 -> #VALUE! | I71: =IF(D71<>0,IF(E71/D71*100<0,"<0",IF(E71/D71*100>200,">200",E71/D71*100))," ") -> #VALUE! | J71: =T71+BH71 -> 2304.6 | K71: =E71-J71 -> 531.3 | L71: =IF(J71<>0,IF(E71/J71*100<0,"<0",IF(E71/J71*100>200,">200",E71/J71*100))," ") -> 123.05389 | M71: =W71+AI71+AQ71 -> 12550 | N71: =X71+AJ71+AR71 -> 12550 | O71: =AA71+AK71+AS71 -> 2835.9 | P71: =O71 -> 2835.9 | Q71: =AC71 -> 0 | R71: =O71-N71 -> -9714.1 | S71: =IF(N71<>0,IF(O71/N71*100<0,"<0",IF(O71/N71*100>200,">200",O71/N71*100))," ") -> 22.596813 | T71: =AF71+AN71+AV71 -> 2304.6 | U71: =O71-T71 -> 531.3 | V71: =IF(T71<>0,IF(O71/T71*100<0,"<0",IF(O71/T71*100>200,">200",O71/T71*100))," ") -> 123.05389 | AB71: =AA71-AC71 -> 0 | AD71: =AA71-X71 -> 0 | AE71: =IF(X71<>0,IF(AA71/X71*100<0,"<0",IF(AA71/X71*100>200,">200",AA71/X71*100))," ") | AI71: 12550 | AJ71: 12550 | AK71: 2835.9 | AL71: =AK71-AJ71 -> -9714.1 | AM71: =IF(AJ71<>0,IF(AK71/AJ71*100<0,"<0",IF(AK71/AJ71*100>200,">200",AK71/AJ71*100))," ") -> 22.596813 | AN71: 2304.6 | AO71: =AK71-AN71 -> 531.3 | AP71: =IF(AN71<>0,IF(AK71/AN71*100<0,"<0",IF(AK71/AN71*100>200,">200",AK71/AN71*100))," ") -> 123.05389 | AT71: =AS71-AR71 -> 0 | AU71: =IF(AR71<>0,IF(AS71/AR71*100<0,"<0",IF(AS71/AR71*100>200,">200",AS71/AR71*100))," ") | AW71: =AS71-AV71 -> 0 | AX71: =IF(AV71<>0,IF(AS71/AV71*100<0,"<0",IF(AS71/AV71*100>200,">200",AS71/AV71*100))," ") | BD71: =BC71-BE71 -> 0 | BL71: =BM71+BQ71 -> 965.4 | BM71: =BN71+BO71+BP71 -> 965.4 | BO71: 965.4
A72: Transferuri primite între bugetul de stat si fondurile asigurării obligatorii de asistenţă medicală | B72: 1922 | C72: =M72+AY72 -> 6071.9 | D72: =N72+AZ72 -> 6071.9 | E72: =O72+BC72 -> 506 | F72: =P72+BD72 -> 506 | G72: =Q72+BE72 -> 0 | H72: =E72-D72 -> -5565.9 | I72: =IF(D72<>0,IF(E72/D72*100<0,"<0",IF(E72/D72*100>200,">200",E72/D72*100))," ") -> 8.3334706 | J72: =T72+BH72 -> 486.3 | K72: =E72-J72 -> 19.7 | L72: =IF(J72<>0,IF(E72/J72*100<0,"<0",IF(E72/J72*100>200,">200",E72/J72*100))," ") -> 104.051 | M72: =W72+AI72+AQ72 -> 6071.9 | N72: =X72+AJ72+AR72 -> 6071.9 | O72: =AA72+AK72+AS72 -> 506 | P72: =O72 -> 506 | Q72: =AC72 -> 0 | R72: =O72-N72 -> -5565.9 | S72: =IF(N72<>0,IF(O72/N72*100<0,"<0",IF(O72/N72*100>200,">200",O72/N72*100))," ") -> 8.3334706 | T72: =AF72+AN72+AV72 -> 486.3 | U72: =O72-T72 -> 19.7 | V72: =IF(T72<>0,IF(O72/T72*100<0,"<0",IF(O72/T72*100>200,">200",O72/T72*100))," ") -> 104.051 | AB72: =AA72-AC72 -> 0 | AD72: =AA72-X72 -> 0 | AE72: =IF(X72<>0,IF(AA72/X72*100<0,"<0",IF(AA72/X72*100>200,">200",AA72/X72*100))," ") | AL72: =AK72-AJ72 -> 0 | AM72: =IF(AJ72<>0,IF(AK72/AJ72*100<0,"<0",IF(AK72/AJ72*100>200,">200",AK72/AJ72*100))," ") | AO72: =AK72-AN72 -> 0 | AP72: =IF(AN72<>0,IF(AK72/AN72*100<0,"<0",IF(AK72/AN72*100>200,">200",AK72/AN72*100))," ") | AQ72: 6071.9 | AR72: 6071.9 | AS72: 506 | AT72: =AS72-AR72 -> -5565.9 | AU72: =IF(AR72<>0,IF(AS72/AR72*100<0,"<0",IF(AS72/AR72*100>200,">200",AS72/AR72*100))," ") -> 8.3334706 | AV72: 486.3 | AW72: =AS72-AV72 -> 19.7 | AX72: =IF(AV72<>0,IF(AS72/AV72*100<0,"<0",IF(AS72/AV72*100>200,">200",AS72/AV72*100))," ") -> 104.051 | BA72: =AZ72-BB72 -> 0 | BD72: =BC72-BE72 -> 0 | BF72: =BC72-AZ72 -> 0 | BG72: =IF(AZ72<>0,IF(BC72/AZ72*100<0,"<0",IF(BC72/AZ72*100>200,">200",BC72/AZ72*100))," ") | BL72: =BM72+BQ72 -> 50 | BM72: =BN72+BO72+BP72 -> 50 | BP72: 50
A73: Transferuri primite intre bugetele locale in cadrul unei unităţi administrativ-teritoriale | B73: 193 | D73: =N73+AZ73 -> 0 | E73: =O73+BC73 -> 0 | F73: =AB73+AK73+AS73+BD73 -> 0 | G73: =Q73+BE73 -> 0 | H73: =E73-D73 -> 0 | I73: =IF(D73<>0,IF(E73/D73*100<0,"<0",IF(E73/D73*100>200,">200",E73/D73*100))," ") | J73: =T73+BH73 -> 0 | K73: =E73-J73 -> 0 | L73: =IF(J73<>0,IF(E73/J73*100<0,"<0",IF(E73/J73*100>200,">200",E73/J73*100))," ") | N73: =X73+AJ73+AR73 -> 0 | O73: =AA73+AK73+AS73 -> 0 | P73: =AB73+AK73+AS73 -> 0 | Q73: =AC73 -> 0 | R73: =O73-N73 -> 0 | S73: =IF(N73<>0,IF(O73/N73*100<0,"<0",IF(O73/N73*100>200,">200",O73/N73*100))," ") | T73: =AF73+AN73+AV73 -> 0 | U73: =O73-T73 -> 0 | V73: =IF(T73<>0,IF(O73/T73*100<0,"<0",IF(O73/T73*100>200,">200",O73/T73*100))," ") | AB73: =AA73-AC73 -> 0 | AD73: =AA73-X73 -> 0 | AE73: =IF(X73<>0,IF(AA73/X73*100<0,"<0",IF(AA73/X73*100>200,">200",AA73/X73*100))," ") | AG73: =AA73-AF73 -> 0 | AH73: =IF(AF73<>0,IF(AA73/AF73*100<0,"<0",IF(AA73/AF73*100>200,">200",AA73/AF73*100))," ") | AL73: =AK73-AJ73 -> 0 | AM73: =IF(AJ73<>0,IF(AK73/AJ73*100<0,"<0",IF(AK73/AJ73*100>200,">200",AK73/AJ73*100))," ") | AO73: =AK73-AN73 -> 0 | AP73: =IF(AN73<>0,IF(AK73/AN73*100<0,"<0",IF(AK73/AN73*100>200,">200",AK73/AN73*100))," ") | AT73: =AS73-AR73 -> 0 | AU73: =IF(AR73<>0,IF(AS73/AR73*100<0,"<0",IF(AS73/AR73*100>200,">200",AS73/AR73*100))," ") | AW73: =AS73-AV73 -> 0 | AX73: =IF(AV73<>0,IF(AS73/AV73*100<0,"<0",IF(AS73/AV73*100>200,">200",AS73/AV73*100))," ") | BA73: =AZ73-BB73 -> 0 | BD73: =BC73-BE73 -> 0 | BF73: =BC73-AZ73 -> 0 | BG73: =IF(AZ73<>0,IF(BC73/AZ73*100<0,"<0",IF(BC73/AZ73*100>200,">200",BC73/AZ73*100))," ") | BI73: =BC73-BH73 -> 0 | BJ73: =IF(BH73<>0,IF(BC73/BH73*100<0,"<0",IF(BC73/BH73*100>200,">200",BC73/BH73*100))," ") | BL73: =BM73+BQ73 -> 281.4 | BM73: =BN73+BO73+BP73 -> 281.4 | BP73: 281.4
A74: Transferuri primite intre bugetele locale a diferitor unităţi administrativ-teritoriale | B74: 194 | D74: =N74+AZ74 -> 0 | E74: =O74+BC74 -> 0 | F74: =AB74+AK74+AS74+BD74 -> 0 | G74: =Q74+BE74 -> 0 | H74: =E74-D74 -> 0 | I74: =IF(D74<>0,IF(E74/D74*100<0,"<0",IF(E74/D74*100>200,">200",E74/D74*100))," ") | J74: =T74+BH74 -> 0 | K74: =E74-J74 -> 0 | L74: =IF(J74<>0,IF(E74/J74*100<0,"<0",IF(E74/J74*100>200,">200",E74/J74*100))," ") | N74: =X74+AJ74+AR74 -> 0 | O74: =AA74+AK74+AS74 -> 0 | P74: =AB74+AK74+AS74 -> 0 | Q74: =AC74 -> 0 | R74: =O74-N74 -> 0 | S74: =IF(N74<>0,IF(O74/N74*100<0,"<0",IF(O74/N74*100>200,">200",O74/N74*100))," ") | T74: =AF74+AN74+AV74 -> 0 | U74: =O74-T74 -> 0 | V74: =IF(T74<>0,IF(O74/T74*100<0,"<0",IF(O74/T74*100>200,">200",O74/T74*100))," ") | AB74: =AA74-AC74 -> 0 | AD74: =AA74-X74 -> 0 | AE74: =IF(X74<>0,IF(AA74/X74*100<0,"<0",IF(AA74/X74*100>200,">200",AA74/X74*100))," ") | AG74: =AA74-AF74 -> 0 | AH74: =IF(AF74<>0,IF(AA74/AF74*100<0,"<0",IF(AA74/AF74*100>200,">200",AA74/AF74*100))," ") | AL74: =AK74-AJ74 -> 0 | AM74: =IF(AJ74<>0,IF(AK74/AJ74*100<0,"<0",IF(AK74/AJ74*100>200,">200",AK74/AJ74*100))," ") | AO74: =AK74-AN74 -> 0 | AP74: =IF(AN74<>0,IF(AK74/AN74*100<0,"<0",IF(AK74/AN74*100>200,">200",AK74/AN74*100))," ") | AT74: =AS74-AR74 -> 0 | AU74: =IF(AR74<>0,IF(AS74/AR74*100<0,"<0",IF(AS74/AR74*100>200,">200",AS74/AR74*100))," ") | AW74: =AS74-AV74 -> 0 | AX74: =IF(AV74<>0,IF(AS74/AV74*100<0,"<0",IF(AS74/AV74*100>200,">200",AS74/AV74*100))," ") | BA74: =AZ74-BB74 -> 0 | BD74: =BC74-BE74 -> 0 | BF74: =BC74-AZ74 -> 0 | BG74: =IF(AZ74<>0,IF(BC74/AZ74*100<0,"<0",IF(BC74/AZ74*100>200,">200",BC74/AZ74*100))," ") | BI74: =BC74-BH74 -> 0 | BJ74: =IF(BH74<>0,IF(BC74/BH74*100<0,"<0",IF(BC74/BH74*100>200,">200",BC74/BH74*100))," ") | BL74: =BM74+BQ74 -> 3622.6 | BM74: =BN74+BO74+BP74 -> 3247.9 | BN74: 2062.6 | BO74: 1185.3 | BQ74: 374.7
A75: Cheltuieli și active nefinanciare | B75: 2+3 | C75: =M75+AY75-C90-C84 -> 96266.4 | D75: =N75+AZ75-D90-D84 -> 97142.2 | E75: =O75+BC75-E90-E84 -> 13267.5 | F75: =P75+BD75-F90+BD90-F84-(BD90-AC69) -> 13059.4 | G75: =Q75+BE75-BE69 -> 208.1 | H75: =E75-D75 -> -83874.7 | I75: =IF(D75<>0,IF(E75/D75*100<0,"<0",IF(E75/D75*100>200,">200",E75/D75*100))," ") -> 13.657813 | J75: =T75+BH75-J90-J84 -> 11116.7 | K75: =E75-J75 -> 2150.8 | L75: =IF(J75<>0,IF(E75/J75*100<0,"<0",IF(E75/J75*100>200,">200",E75/J75*100))," ") -> 119.34747 | M75: =W75+AI75+AQ75-M91 -> 90092.5 | N75: =X75+AJ75+AR75-N91 -> 90092.5 | O75: =AA75+AK75+AS75-O91 -> 12812.7 | P75: =AB75+AK75+AS75-P91 -> 12647.5 | Q75: =AC75 -> 165.2 | R75: =O75-N75 -> -77279.8 | S75: =IF(N75<>0,IF(O75/N75*100<0,"<0",IF(O75/N75*100>200,">200",O75/N75*100))," ") -> 14.221717 | T75: =AF75+AN75+AV75-T91 -> 10804.4 | U75: =O75-T75 -> 2008.3 | V75: =IF(T75<>0,IF(O75/T75*100<0,"<0",IF(O75/T75*100>200,">200",O75/T75*100))," ") -> 118.5878 | W75: =W77+W94 -> 65202.6 | X75: =X77+X94 -> 65202.6 | Y75: =X75-Z75 -> 59769.4 | Z75: =Z77+Z94 -> 5433.2 | AA75: =AA77+AA94 -> 9333.3 | AB75: =AA75-AC75 -> 9168.1 | AC75: =AC77+AC94 -> 165.2 | AD75: =AA75-X75 -> -55869.3 | AE75: =IF(X75<>0,IF(AA75/X75*100<0,"<0",IF(AA75/X75*100>200,">200",AA75/X75*100))," ") -> 14.314306 | AF75: =AF77+AF94 -> 7655 | AG75: =AA75-AF75 -> 1678.3 | AH75: =IF(AF75<>0,IF(AA75/AF75*100<0,"<0",IF(AA75/AF75*100>200,">200",AA75/AF75*100))," ") -> 121.92423 | AI75: =AI77+AI94 -> 31224.2 | AJ75: =AJ77+AJ94 -> 31224.2 | AK75: =AK77+AK94 -> 4962.5 | AL75: =AK75-AJ75 -> -26261.7 | AM75: =IF(AJ75<>0,IF(AK75/AJ75*100<0,"<0",IF(AK75/AJ75*100>200,">200",AK75/AJ75*100))," ") -> 15.893121 | AN75: =AN77+AN94 -> 4263.2 | AO75: =AK75-AN75 -> 699.3 | AP75: =IF(AN75<>0,IF(AK75/AN75*100<0,"<0",IF(AK75/AN75*100>200,">200",AK75/AN75*100))," ") -> 116.40317 | AQ75: =AQ77+AQ94 -> 12287.6 | AR75: =AR77+AR94 -> 12287.6 | AS75: =AS77+AS94 -> 1858.8 | AT75: =AS75-AR75 -> -10428.8 | AU75: =IF(AR75<>0,IF(AS75/AR75*100<0,"<0",IF(AS75/AR75*100>200,">200",AS75/AR75*100))," ") -> 15.127446 | AV75: =AV77+AV94 -> 1677.1 | AW75: =AS75-AV75 -> 181.7 | AX75: =IF(AV75<>0,IF(AS75/AV75*100<0,"<0",IF(AS75/AV75*100>200,">200",AS75/AV75*100))," ") -> 110.83418 | AY75: =AY77+AY94 -> 21096.7 | AZ75: =AZ77+AZ94 -> 22246.5 | BA75: =AZ75-BB75 -> 21676.9 | BB75: =BB77+BB94 -> 569.6 | BC75: =BC77+BC94 -> 2606.8 | BD75: =BC75-BE75 -> 2563.9 | BE75: =BE77+BE94 -> 42.9 | BF75: =BC75-AZ75 -> -19639.7 | BG75: =IF(AZ75<>0,IF(BC75/AZ75*100<0,"<0",IF(BC75/AZ75*100>200,">200",BC75/AZ75*100))," ") -> 11.717798 | BH75: =BH77+BH94 -> 2322.2 | BI75: =BC75-BH75 -> 284.6 | BJ75: =IF(BH75<>0,IF(BC75/BH75*100<0,"<0",IF(BC75/BH75*100>200,">200",BC75/BH75*100))," ") -> 112.25562 | BL75: =BM75+BQ75-BL90 -> 2485.1 | BM75: =BN75+BO75+BP75-BM91 -> 2513.9 | BN75: 2062.6 | BO75: 1185.3 | BP75: 281.4 | BQ75: 374.7
A76: inclusiv: | H76: =E76-D76 -> 0 | I76: =IF(D76<>0,IF(E76/D76*100<0,"<0",IF(E76/D76*100>200,">200",E76/D76*100))," ") | L76: =IF(J76<>0,IF(E76/J76*100<0,"<0",IF(E76/J76*100>200,">200",E76/J76*100))," ") | S76: =IF(N76<>0,IF(O76/N76*100<0,"<0",IF(O76/N76*100>200,">200",O76/N76*100))," ") | AE76: =IF(X76<>0,IF(AA76/X76*100<0,"<0",IF(AA76/X76*100>200,">200",AA76/X76*100))," ") | AU76: =IF(AR76<>0,IF(AS76/AR76*100<0,"<0",IF(AS76/AR76*100>200,">200",AS76/AR76*100))," ") | AX76: =IF(AV76<>0,IF(AS76/AV76*100<0,"<0",IF(AS76/AV76*100>200,">200",AS76/AV76*100))," ") | BA76: =AZ76-BB76 -> 0 | BL76: =BM76+BQ76 -> 0 | BM76: =BN76+BO76+BP76 -> 0
A77: Cheltuieli | B77: 2 | C77: =C78+C79+C80+C85+C86+C87+C88 -> 87278.5 | D77: =D78+D79+D80+D85+D86+D87+D88 -> 86977 | E77: =E78+E79+E80+E85+E86+E87+E88 -> 13010.7 | F77: =F78+F79+F80+F85+F86+F87+F88+F90-AB90-BD90+AC69 -> 12968.9 | G77: =Q77+BE77-BE69 -> 41.8 | H77: =E77-D77 -> -73966.3 | I77: =IF(D77<>0,IF(E77/D77*100<0,"<0",IF(E77/D77*100>200,">200",E77/D77*100))," ") -> 14.958782 | J77: =T77+BH77-J90-J84 -> 10552.3 | K77: =E77-J77 -> 2458.4 | L77: =IF(J77<>0,IF(E77/J77*100<0,"<0",IF(E77/J77*100>200,">200",E77/J77*100))," ") -> 123.29729 | M77: =M78+M79+M80+M85+M86+M87+M88+M90 -> 84433.9 | N77: =X77+AJ77+AR77-N91 -> 83812 | O77: =AA77+AK77+AS77-O91 -> 12660.8 | P77: =AB77+AK77+AS77-P91 -> 12620.7 | Q77: =AC77 -> 40.1 | R77: =O77-N77 -> -71151.2 | S77: =IF(N77<>0,IF(O77/N77*100<0,"<0",IF(O77/N77*100>200,">200",O77/N77*100))," ") -> 15.10619 | T77: =AF77+AN77+AV77-T91 -> 10389.9 | U77: =O77-T77 -> 2270.9 | V77: =IF(T77<>0,IF(O77/T77*100<0,"<0",IF(O77/T77*100>200,">200",O77/T77*100))," ") -> 121.8568 | W77: =W78+W79+W80+W85+W86+W87+W88+W89 -> 59615.2 | X77: =X78+X79+X80+X85+X86+X87+X88+X89 -> 58993.3 | Y77: =X77-Z77 -> 57577.3 | Z77: =Z78+Z79+Z80+Z85+Z86+Z87+Z88+Z89 -> 1416 | AA77: =AA78+AA79+AA80+AA85+AA86+AA87+AA88+AA89 -> 9182.7 | AB77: =AA77-AC77 -> 9142.6 | AC77: =AC78+AC79+AC80+AC85+AC86+AC87+AC88+AC89 -> 40.1 | AD77: =AA77-X77 -> -49810.6 | AE77: =IF(X77<>0,IF(AA77/X77*100<0,"<0",IF(AA77/X77*100>200,">200",AA77/X77*100))," ") -> 15.565666 | AF77: =AF78+AF79+AF80+AF85+AF86+AF87+AF88+AF89 -> 7242.5 | AG77: =AA77-AF77 -> 1940.2 | AH77: =IF(AF77<>0,IF(AA77/AF77*100<0,"<0",IF(AA77/AF77*100>200,">200",AA77/AF77*100))," ") -> 126.78909 | AI77: =AI78+AI79+AI80+AI85+AI86+AI87+AI88+AI89 -> 31203.1 | AJ77: =AJ78+AJ79+AJ80+AJ85+AJ86+AJ87+AJ88+AJ89 -> 31203.1 | AK77: =AK78+AK79+AK80+AK85+AK86+AK87+AK88+AK89 -> 4961.7 | AL77: =AK77-AJ77 -> -26241.4 | AM77: =IF(AJ77<>0,IF(AK77/AJ77*100<0,"<0",IF(AK77/AJ77*100>200,">200",AK77/AJ77*100))," ") -> 15.901305 | AN77: =AN78+AN79+AN80+AN85+AN87+AN88+AN89 -> 4261.6 | AO77: =AK77-AN77 -> 700.1 | AP77: =IF(AN77<>0,IF(AK77/AN77*100<0,"<0",IF(AK77/AN77*100>200,">200",AK77/AN77*100))," ") -> 116.4281 | AQ77: =AQ78+AQ79+AQ80+AQ85+AQ86+AQ87+AQ88+AQ89 -> 12237.5 | AR77: =AR78+AR79+AR80+AR85+AR86+AR87+AR88+AR89 -> 12237.5 | AS77: =AS78+AS79+AS80+AS85+AS86+AS87+AS88+AS89 -> 1858.3 | AT77: =AS77-AR77 -> -10379.2 | AU77: =IF(AR77<>0,IF(AS77/AR77*100<0,"<0",IF(AS77/AR77*100>200,">200",AS77/AR77*100))," ") -> 15.185291 | AV77: =AV78+AV79+AV80+AV85+AV87+AV88+AV89 -> 1676.7 | AW77: =AS77-AV77 -> 181.6 | AX77: =IF(AV77<>0,IF(AS77/AV77*100<0,"<0",IF(AS77/AV77*100>200,">200",AS77/AV77*100))," ") -> 110.8308 | AY77: =AY78+AY79+AY80+AY85+AY86+AY87+AY88+AY89 -> 17767.4 | AZ77: =AZ78+AZ79+AZ80+AZ85+AZ86+AZ87+AZ88+AZ89 -> 18361.8 | BA77: =AZ77-BB77 -> 18335.1 | BB77: =BB78+BB79+BB80+BB85+BB86+BB87+BB88+BB89 -> 26.7 | BC77: =BC78+BC79+BC80+BC85+BC86+BC87+BC88+BC89 -> 2501.9 | BD77: =BC77-BE77 -> 2500.2 | BE77: =BE78+BE79+BE80+BE85+BE86+BE87+BE88+BE89 -> 1.7 | BF77: =BC77-AZ77 -> -15859.9 | BG77: =IF(AZ77<>0,IF(BC77/AZ77*100<0,"<0",IF(BC77/AZ77*100>200,">200",BC77/AZ77*100))," ") -> 13.62557 | BH77: =BH78+BH79+BH80+BH85+BH86+BH87+BH88+BH89 -> 2172.3 | BI77: =BC77-BH77 -> 329.6 | BJ77: =IF(BH77<>0,IF(BC77/BH77*100<0,"<0",IF(BC77/BH77*100>200,">200",BC77/BH77*100))," ") -> 115.17286 | BL77: =BM77+BQ77-BL90 -> 2479.1 | BM77: =BN77+BO77+BP77-BM91 -> 2510.1 | BN77: 2060.1 | BO77: 1185.3 | BP77: 280.1 | BQ77: 372.5
A78: Cheltuieli de personal | B78: 21 | C78: =M78+AY78 -> 20673.4 | D78: =N78+AZ78 -> 21165.6 | E78: =O78+BC78 -> 3091.4 | F78: =AB78+AK78+AS78+BD78 -> 3091.2 | G78: =Q78+BE78 -> 0.2 | H78: =E78-D78 -> -18074.2 | I78: =IF(D78<>0,IF(E78/D78*100<0,"<0",IF(E78/D78*100>200,">200",E78/D78*100))," ") -> 14.605775 | J78: =T78+BH78 -> 2886.5 | K78: =E78-J78 -> 204.9 | L78: =IF(J78<>0,IF(E78/J78*100<0,"<0",IF(E78/J78*100>200,">200",E78/J78*100))," ") -> 107.09856 | M78: =W78+AI78+AQ78 -> 9395.2 | N78: =X78+AJ78+AR78 -> 9395.2 | O78: =AA78+AK78+AS78 -> 1288.2 | P78: =AB78+AK78+AS78 -> 1288.1 | Q78: =AC78 -> 0.1 | R78: =O78-N78 -> -8107 | S78: =IF(N78<>0,IF(O78/N78*100<0,"<0",IF(O78/N78*100>200,">200",O78/N78*100))," ") -> 13.711257 | T78: =AF78+AN78+AV78 -> 1200.6 | U78: =O78-T78 -> 87.6 | V78: =IF(T78<>0,IF(O78/T78*100<0,"<0",IF(O78/T78*100>200,">200",O78/T78*100))," ") -> 107.29635 | W78: 9127.3 | X78: 9127.3 | Y78: =X78-Z78 -> 9120.7 | Z78: 6.6 | AA78: 1259.6 | AB78: =AA78-AC78 -> 1259.5 | AC78: 0.1 | AD78: =AA78-X78 -> -7867.7 | AE78: =IF(X78<>0,IF(AA78/X78*100<0,"<0",IF(AA78/X78*100>200,">200",AA78/X78*100))," ") -> 13.800357 | AF78: 1170.2 | AG78: =AA78-AF78 -> 89.4 | AH78: =IF(AF78<>0,IF(AA78/AF78*100<0,"<0",IF(AA78/AF78*100>200,">200",AA78/AF78*100))," ") -> 107.63972 | AI78: 184.8 | AJ78: 184.8 | AK78: 23.1 | AL78: =AK78-AJ78 -> -161.7 | AM78: =IF(AJ78<>0,IF(AK78/AJ78*100<0,"<0",IF(AK78/AJ78*100>200,">200",AK78/AJ78*100))," ") -> 12.5 | AN78: 24.8 | AO78: =AK78-AN78 -> -1.7 | AP78: =IF(AN78<>0,IF(AK78/AN78*100<0,"<0",IF(AK78/AN78*100>200,">200",AK78/AN78*100))," ") -> 93.145161 | AQ78: 83.1 | AR78: 83.1 | AS78: 5.5 | AT78: =AS78-AR78 -> -77.6 | AU78: =IF(AR78<>0,IF(AS78/AR78*100<0,"<0",IF(AS78/AR78*100>200,">200",AS78/AR78*100))," ") -> 6.6185319 | AV78: 5.6 | AW78: =AS78-AV78 -> -0.1 | AX78: =IF(AV78<>0,IF(AS78/AV78*100<0,"<0",IF(AS78/AV78*100>200,">200",AS78/AV78*100))," ") -> 98.214286 | AY78: 11278.2 | AZ78: 11770.4 | BA78: =AZ78-BB78 -> 11769.8 | BB78: 0.6 | BC78: 1803.2 | BD78: =BC78-BE78 -> 1803.1 | BE78: 0.1 | BF78: =BC78-AZ78 -> -9967.2 | BG78: =IF(AZ78<>0,IF(BC78/AZ78*100<0,"<0",IF(BC78/AZ78*100>200,">200",BC78/AZ78*100))," ") -> 15.319785 | BH78: 1685.9 | BI78: =BC78-BH78 -> 117.3 | BJ78: =IF(BH78<>0,IF(BC78/BH78*100<0,"<0",IF(BC78/BH78*100>200,">200",BC78/BH78*100))," ") -> 106.95771 | BL78: =BM78+BQ78 -> 655.2 | BM78: =BN78+BO78+BP78 -> 329.1 | BN78: 329.1 | BQ78: 326.1
A79: Bunuri și servicii | B79: 22 | C79: =M79+AY79 -> 20372.9 | D79: =N79+AZ79 -> 19812.7 | E79: =O79+BC79 -> 2642 | F79: =AB79+AK79+AS79+BD79 -> 2614.4 | G79: =Q79+BE79 -> 27.6 | H79: =E79-D79 -> -17170.7 | I79: =IF(D79<>0,IF(E79/D79*100<0,"<0",IF(E79/D79*100>200,">200",E79/D79*100))," ") -> 13.334881 | J79: =T79+BH79 -> 2224.7 | K79: =E79-J79 -> 417.3 | L79: =IF(J79<>0,IF(E79/J79*100<0,"<0",IF(E79/J79*100>200,">200",E79/J79*100))," ") -> 118.75759 | M79: =W79+AI79+AQ79 -> 15543.8 | N79: =X79+AJ79+AR79 -> 14925 | O79: =AA79+AK79+AS79 -> 2120.5 | P79: =AB79+AK79+AS79 -> 2093.7 | Q79: =AC79 -> 26.8 | R79: =O79-N79 -> -12804.5 | S79: =IF(N79<>0,IF(O79/N79*100<0,"<0",IF(O79/N79*100>200,">200",O79/N79*100))," ") -> 14.207705 | T79: =AF79+AN79+AV79 -> 1895.6 | U79: =O79-T79 -> 224.9 | V79: =IF(T79<>0,IF(O79/T79*100<0,"<0",IF(O79/T79*100>200,">200",O79/T79*100))," ") -> 111.86432 | W79: 3060.7 | X79: 2441.9 | Y79: =X79-Z79 -> 2012.5 | Z79: 429.4 | AA79: 228.4 | AB79: =AA79-AC79 -> 201.6 | AC79: 26.8 | AD79: =AA79-X79 -> -2213.5 | AE79: =IF(X79<>0,IF(AA79/X79*100<0,"<0",IF(AA79/X79*100>200,">200",AA79/X79*100))," ") -> 9.3533724 | AF79: 188.8 | AG79: =AA79-AF79 -> 39.6 | AH79: =IF(AF79<>0,IF(AA79/AF79*100<0,"<0",IF(AA79/AF79*100>200,">200",AA79/AF79*100))," ") -> 120.97458 | AI79: 329.2 | AJ79: 329.2 | AK79: 39.3 | AL79: =AK79-AJ79 -> -289.9 | AM79: =IF(AJ79<>0,IF(AK79/AJ79*100<0,"<0",IF(AK79/AJ79*100>200,">200",AK79/AJ79*100))," ") -> 11.938032 | AN79: 35.7 | AO79: =AK79-AN79 -> 3.6 | AP79: =IF(AN79<>0,IF(AK79/AN79*100<0,"<0",IF(AK79/AN79*100>200,">200",AK79/AN79*100))," ") -> 110.08403 | AQ79: 12153.9 | AR79: 12153.9 | AS79: 1852.8 | AT79: =AS79-AR79 -> -10301.1 | AU79: =IF(AR79<>0,IF(AS79/AR79*100<0,"<0",IF(AS79/AR79*100>200,">200",AS79/AR79*100))," ") -> 15.244489 | AV79: 1671.1 | AW79: =AS79-AV79 -> 181.7 | AX79: =IF(AV79<>0,IF(AS79/AV79*100<0,"<0",IF(AS79/AV79*100>200,">200",AS79/AV79*100))," ") -> 110.87308 | AY79: 4829.1 | AZ79: 4887.7 | BA79: =AZ79-BB79 -> 4869.2 | BB79: 18.5 | BC79: 521.5 | BD79: =BC79-BE79 -> 520.7 | BE79: 0.8 | BF79: =BC79-AZ79 -> -4366.2 | BG79: =IF(AZ79<>0,IF(BC79/AZ79*100<0,"<0",IF(BC79/AZ79*100>200,">200",BC79/AZ79*100))," ") -> 10.66964 | BH79: 329.1 | BI79: =BC79-BH79 -> 192.4 | BJ79: =IF(BH79<>0,IF(BC79/BH79*100<0,"<0",IF(BC79/BH79*100>200,">200",BC79/BH79*100))," ") -> 158.46247 | BL79: =BM79+BQ79 -> 333.8 | BM79: =BN79+BO79+BP79 -> 310.4 | BN79: 30.3 | BP79: 280.1 | BQ79: 23.4
A80: Dobînzi | B80: 24 | C80: =M80+AY80-C84 -> 2896 | D80: =N80+AZ80-D84 -> 2875.3 | E80: =O80+BC80-E84 -> 240.9 | F80: =AB80+AK80+AS80+BD80-F84 -> 240.9 | G80: =Q80+BE80 -> 0 | H80: =E80-D80 -> -2634.4 | I80: =IF(D80<>0,IF(E80/D80*100<0,"<0",IF(E80/D80*100>200,">200",E80/D80*100))," ") -> 8.3782562 | J80: =T80+BH80-J84 -> 176.6 | K80: =E80-J80 -> 64.3 | L80: =IF(J80<>0,IF(E80/J80*100<0,"<0",IF(E80/J80*100>200,">200",E80/J80*100))," ") -> 136.40997 | M80: =W80+AI80+AQ80 -> 2773 | N80: =X80+AJ80+AR80 -> 2773 | O80: =AA80+AK80+AS80 -> 230.9 | P80: =AB80+AK80+AS80 -> 230.9 | Q80: =AC80 -> 0 | R80: =O80-N80 -> -2542.1 | S80: =IF(N80<>0,IF(O80/N80*100<0,"<0",IF(O80/N80*100>200,">200",O80/N80*100))," ") -> 8.326722 | T80: =AF80+AN80+AV80 -> 170.5 | U80: =O80-T80 -> 60.4 | V80: =IF(T80<>0,IF(O80/T80*100<0,"<0",IF(O80/T80*100>200,">200",O80/T80*100))," ") -> 135.42522 | W80: =W82+W83 -> 2773 | X80: =X82+X83 -> 2773 | Y80: =X80-Z80 -> 2773 | Z80: =Z82+Z83 -> 0 | AA80: =AA82+AA83+AA84 -> 230.9 | AB80: =AA80-AC80 -> 230.9 | AC80: =AC82+AC83 -> 0 | AD80: =AA80-X80 -> -2542.1 | AE80: =IF(X80<>0,IF(AA80/X80*100<0,"<0",IF(AA80/X80*100>200,">200",AA80/X80*100))," ") -> 8.326722 | AF80: =AF82+AF83+AF84 -> 170.5 | AG80: =AA80-AF80 -> 60.4 | AH80: =IF(AF80<>0,IF(AA80/AF80*100<0,"<0",IF(AA80/AF80*100>200,">200",AA80/AF80*100))," ") -> 135.42522 | AI80: =AI82+AI83+AI84 -> 0 | AJ80: =AJ82+AJ83+AJ84 -> 0 | AK80: =AK82+AK83+AK84 -> 0 | AL80: =AK80-AJ80 -> 0 | AM80: =IF(AJ80<>0,IF(AK80/AJ80*100<0,"<0",IF(AK80/AJ80*100>200,">200",AK80/AJ80*100))," ") | AN80: =AN82+AN83+AN84 -> 0 | AO80: =AK80-AN80 -> 0 | AP80: =IF(AN80<>0,IF(AK80/AN80*100<0,"<0",IF(AK80/AN80*100>200,">200",AK80/AN80*100))," ") | AQ80: =AQ82+AQ83+AQ84 -> 0 | AR80: =AR82+AR83+AR84 -> 0 | AS80: =AS82+AS83+AS84 -> 0 | AT80: =AS80-AR80 -> 0 | AU80: =IF(AR80<>0,IF(AS80/AR80*100<0,"<0",IF(AS80/AR80*100>200,">200",AS80/AR80*100))," ") | AW80: =AS80-AV80 -> 0 | AX80: =IF(AV80<>0,IF(AS80/AV80*100<0,"<0",IF(AS80/AV80*100>200,">200",AS80/AV80*100))," ") | AY80: =AY82+AY83+AY84 -> 128.3 | AZ80: =AZ82+AZ83+AZ84 -> 107.9 | BA80: =AZ80-BB80 -> 107.9 | BB80: =BB82+BB83+BB84 -> 0 | BC80: =BC82+BC83+BC84 -> 10.2 | BD80: =BC80-BE80 -> 10.2 | BE80: =BE82+BE83+BE84 -> 0 | BF80: =BC80-AZ80 -> -97.7 | BG80: =IF(AZ80<>0,IF(BC80/AZ80*100<0,"<0",IF(BC80/AZ80*100>200,">200",BC80/AZ80*100))," ") -> 9.4531974 | BH80: =BH82+BH83+BH84 -> 6.3 | BI80: =BC80-BH80 -> 3.9 | BJ80: =IF(BH80<>0,IF(BC80/BH80*100<0,"<0",IF(BC80/BH80*100>200,">200",BC80/BH80*100))," ") -> 161.90476 | BL80: =BM80+BQ80 -> 133.8 | BM80: =BN80+BO80+BP80 -> 131 | BN80: 131 | BQ80: 2.8
A81: inclusiv: | F81: =AB81+AK81+AS81+BD81 -> 0 | G81: =Q81+BE81 -> 0 | H81: =E81-D81 -> 0 | I81: =IF(D81<>0,IF(E81/D81*100<0,"<0",IF(E81/D81*100>200,">200",E81/D81*100))," ") | S81: =IF(N81<>0,IF(O81/N81*100<0,"<0",IF(O81/N81*100>200,">200",O81/N81*100))," ") | Y81: =X81-Z81 -> 0 | BA81: =AZ81-BB81 -> 0 | BD81: =BC81-BE81 -> 0 | BI81: =BC81-BH81 -> 0 | BJ81: =IF(BH81<>0,IF(BC81/BH81*100<0,"<0",IF(BC81/BH81*100>200,">200",BC81/BH81*100))," ") | BL81: =BM81+BQ81 -> 0 | BM81: =BN81+BO81+BP81 -> 0
A82: Dobînzi achitate la datoria externă | B82: 241 | C82: =M82+AY82 -> 571.4 | D82: =N82+AZ82 -> 550.4 | E82: =O82+BC82 -> 65.3 | F82: =AB82+AK82+AS82+BD82 -> 65.3 | G82: =Q82+BE82 -> 0 | H82: =E82-D82 -> -485.1 | I82: =IF(D82<>0,IF(E82/D82*100<0,"<0",IF(E82/D82*100>200,">200",E82/D82*100))," ") -> 11.864099 | J82: =T82+BH82 -> 63.4 | K82: =E82-J82 -> 1.9 | L82: =IF(J82<>0,IF(E82/J82*100<0,"<0",IF(E82/J82*100>200,">200",E82/J82*100))," ") -> 102.99685 | M82: =W82+AI82+AQ82 -> 517.9 | N82: =X82+AJ82+AR82 -> 517.9 | O82: =AA82+AK82+AS82 -> 63.1 | P82: =AB82+AK82+AS82 -> 63.1 | Q82: =AC82 -> 0 | R82: =O82-N82 -> -454.8 | S82: =IF(N82<>0,IF(O82/N82*100<0,"<0",IF(O82/N82*100>200,">200",O82/N82*100))," ") -> 12.183819 | T82: =AF82+AN82+AV82 -> 61 | U82: =O82-T82 -> 2.1 | V82: =IF(T82<>0,IF(O82/T82*100<0,"<0",IF(O82/T82*100>200,">200",O82/T82*100))," ") -> 103.44262 | W82: 517.9 | X82: 517.9 | Y82: =X82-Z82 -> 517.9 | AA82: 63.1 | AB82: =AA82-AC82 -> 63.1 | AD82: =AA82-X82 -> -454.8 | AE82: =IF(X82<>0,IF(AA82/X82*100<0,"<0",IF(AA82/X82*100>200,">200",AA82/X82*100))," ") -> 12.183819 | AF82: 61 | AG82: =AA82-AF82 -> 2.1 | AH82: =IF(AF82<>0,IF(AA82/AF82*100<0,"<0",IF(AA82/AF82*100>200,">200",AA82/AF82*100))," ") -> 103.44262 | AU82: =IF(AR82<>0,IF(AS82/AR82*100<0,"<0",IF(AS82/AR82*100>200,">200",AS82/AR82*100))," ") | AX82: =IF(AV82<>0,IF(AS82/AV82*100<0,"<0",IF(AS82/AV82*100>200,">200",AS82/AV82*100))," ") | AY82: 53.5 | AZ82: 32.5 | BA82: =AZ82-BB82 -> 32.5 | BC82: 2.2 | BD82: =BC82-BE82 -> 2.2 | BF82: =BC82-AZ82 -> -30.3 | BG82: =IF(AZ82<>0,IF(BC82/AZ82*100<0,"<0",IF(BC82/AZ82*100>200,">200",BC82/AZ82*100))," ") -> 6.7692308 | BH82: 2.4 | BI82: =BC82-BH82 -> -0.2 | BJ82: =IF(BH82<>0,IF(BC82/BH82*100<0,"<0",IF(BC82/BH82*100>200,">200",BC82/BH82*100))," ") -> 91.666667 | BL82: =BM82+BQ82 -> 25 | BM82: =BN82+BO82+BP82 -> 25 | BN82: 25
A83: Dobînzi achitate la datoria internă | B83: 242 | C83: =M83+AY83 -> 2324.6 | D83: =N83+AZ83 -> 2324.9 | E83: =O83+BC83 -> 175.6 | F83: =AB83+AK83+AS83+BD83 -> 175.6 | G83: =Q83+BE83 -> 0 | H83: =E83-D83 -> -2149.3 | I83: =IF(D83<>0,IF(E83/D83*100<0,"<0",IF(E83/D83*100>200,">200",E83/D83*100))," ") -> 7.553013 | J83: =T83+BH83 -> 113.2 | K83: =E83-J83 -> 62.4 | L83: =IF(J83<>0,IF(E83/J83*100<0,"<0",IF(E83/J83*100>200,">200",E83/J83*100))," ") -> 155.12367 | M83: =W83+AI83+AQ83 -> 2255.1 | N83: =X83+AJ83+AR83 -> 2255.1 | O83: =AA83+AK83+AS83 -> 167.8 | P83: =AB83+AK83+AS83 -> 167.8 | Q83: =AC83 -> 0 | R83: =O83-N83 -> -2087.3 | S83: =IF(N83<>0,IF(O83/N83*100<0,"<0",IF(O83/N83*100>200,">200",O83/N83*100))," ") -> 7.4409117 | T83: =AF83+AN83+AV83 -> 109.5 | U83: =O83-T83 -> 58.3 | V83: =IF(T83<>0,IF(O83/T83*100<0,"<0",IF(O83/T83*100>200,">200",O83/T83*100))," ") -> 153.24201 | W83: 2255.1 | X83: 2255.1 | Y83: =X83-Z83 -> 2255.1 | AA83: 167.8 | AB83: =AA83-AC83 -> 167.8 | AD83: =AA83-X83 -> -2087.3 | AE83: =IF(X83<>0,IF(AA83/X83*100<0,"<0",IF(AA83/X83*100>200,">200",AA83/X83*100))," ") -> 7.4409117 | AF83: 109.5 | AG83: =AA83-AF83 -> 58.3 | AH83: =IF(AF83<>0,IF(AA83/AF83*100<0,"<0",IF(AA83/AF83*100>200,">200",AA83/AF83*100))," ") -> 153.24201 | AU83: =IF(AR83<>0,IF(AS83/AR83*100<0,"<0",IF(AS83/AR83*100>200,">200",AS83/AR83*100))," ") | AX83: =IF(AV83<>0,IF(AS83/AV83*100<0,"<0",IF(AS83/AV83*100>200,">200",AS83/AV83*100))," ") | AY83: 69.5 | AZ83: 69.8 | BA83: =AZ83-BB83 -> 69.8 | BC83: 7.8 | BD83: =BC83-BE83 -> 7.8 | BF83: =BC83-AZ83 -> -62 | BG83: =IF(AZ83<>0,IF(BC83/AZ83*100<0,"<0",IF(BC83/AZ83*100>200,">200",BC83/AZ83*100))," ") -> 11.174785 | BH83: 3.7 | BI83: =BC83-BH83 -> 4.1 | BJ83: =IF(BH83<>0,IF(BC83/BH83*100<0,"<0",IF(BC83/BH83*100>200,">200",BC83/BH83*100))," ") -> >200 | BL83: =BM83+BQ83 -> 108.8 | BM83: =BN83+BO83+BP83 -> 106 | BN83: 106 | BQ83: 2.8
A84: Dobînzi la împrumuturile altor nivele ale sistemului bugetar | B84: 243 | C84: =M84+AY84 -> 5.3 | D84: =N84+AZ84 -> 5.6 | E84: =O84+BC84 -> 0.2 | F84: =AB84+AK84+AS84+BD84 -> 0.2 | G84: =Q84+BE84 -> 0 | H84: =E84-D84 -> -5.4 | I84: =IF(D84<>0,IF(E84/D84*100<0,"<0",IF(E84/D84*100>200,">200",E84/D84*100))," ") -> 3.5714286 | J84: =T84+BH84 -> 0.2 | M84: =W84+AI84+AQ84 -> 0 | N84: =X84+AJ84+AR84 -> 0 | O84: =AA84+AK84+AS84 -> 0 | P84: =AB84+AK84+AS84 -> 0 | Q84: =AC84 -> 0 | R84: =O84-N84 -> 0 | S84: =IF(N84<>0,IF(O84/N84*100<0,"<0",IF(O84/N84*100>200,">200",O84/N84*100))," ") | T84: =AF84+AN84+AV84 -> 0 | Y84: =X84-Z84 -> 0 | AB84: =AA84-AC84 -> 0 | AD84: =AA84-X84 -> 0 | AE84: =IF(X84<>0,IF(AA84/X84*100<0,"<0",IF(AA84/X84*100>200,">200",AA84/X84*100))," ") | AY84: 5.3 | AZ84: 5.6 | BA84: =AZ84-BB84 -> 5.6 | BC84: 0.2 | BD84: =BC84-BE84 -> 0.2 | BF84: =BC84-AZ84 -> -5.4 | BG84: =IF(AZ84<>0,IF(BC84/AZ84*100<0,"<0",IF(BC84/AZ84*100>200,">200",BC84/AZ84*100))," ") -> 3.5714286 | BH84: 0.2 | BI84: =BC84-BH84 -> 0 | BJ84: =IF(BH84<>0,IF(BC84/BH84*100<0,"<0",IF(BC84/BH84*100>200,">200",BC84/BH84*100))," ") -> 100 | BL84: =BM84+BQ84 -> 0 | BM84: =BN84+BO84+BP84 -> 0
A85: Subvenții | B85: 25 | C85: =M85+AY85 -> 3976.9 | D85: =N85+AZ85 -> 3817.3 | E85: =O85+BC85 -> 339.8 | F85: =AB85+AK85+AS85+BD85 -> 339 | G85: =Q85+BE85 -> 0.8 | H85: =E85-D85 -> -3477.5 | I85: =IF(D85<>0,IF(E85/D85*100<0,"<0",IF(E85/D85*100>200,">200",E85/D85*100))," ") -> 8.9015797 | J85: =T85+BH85 -> 433.8 | K85: =E85-J85 -> -94 | L85: =IF(J85<>0,IF(E85/J85*100<0,"<0",IF(E85/J85*100>200,">200",E85/J85*100))," ") -> 78.331028 | M85: =W85+AI85+AQ85 -> 3589.6 | N85: =X85+AJ85+AR85 -> 3501.6 | O85: =AA85+AK85+AS85 -> 308.3 | P85: =AB85+AK85+AS85 -> 307.5 | Q85: =AC85 -> 0.8 | R85: =O85-N85 -> -3193.3 | S85: =IF(N85<>0,IF(O85/N85*100<0,"<0",IF(O85/N85*100>200,">200",O85/N85*100))," ") -> 8.8045465 | T85: =AF85+AN85+AV85 -> 408.6 | U85: =O85-T85 -> -100.3 | V85: =IF(T85<>0,IF(O85/T85*100<0,"<0",IF(O85/T85*100>200,">200",O85/T85*100))," ") -> 75.452766 | W85: 3589.6 | X85: 3501.6 | Y85: =X85-Z85 -> 3490.6 | Z85: 11 | AA85: 308.3 | AB85: =AA85-AC85 -> 307.5 | AC85: 0.8 | AD85: =AA85-X85 -> -3193.3 | AE85: =IF(X85<>0,IF(AA85/X85*100<0,"<0",IF(AA85/X85*100>200,">200",AA85/X85*100))," ") -> 8.8045465 | AF85: 408.6 | AG85: =AA85-AF85 -> -100.3 | AH85: =IF(AF85<>0,IF(AA85/AF85*100<0,"<0",IF(AA85/AF85*100>200,">200",AA85/AF85*100))," ") -> 75.452766 | AL85: =AK85-AJ85 -> 0 | AM85: =IF(AJ85<>0,IF(AK85/AJ85*100<0,"<0",IF(AK85/AJ85*100>200,">200",AK85/AJ85*100))," ") | AO85: =AK85-AN85 -> 0 | AP85: =IF(AN85<>0,IF(AK85/AN85*100<0,"<0",IF(AK85/AN85*100>200,">200",AK85/AN85*100))," ") | AT85: =AS85-AR85 -> 0 | AU85: =IF(AR85<>0,IF(AS85/AR85*100<0,"<0",IF(AS85/AR85*100>200,">200",AS85/AR85*100))," ") | AW85: =AS85-AV85 -> 0 | AX85: =IF(AV85<>0,IF(AS85/AV85*100<0,"<0",IF(AS85/AV85*100>200,">200",AS85/AV85*100))," ") | AY85: 387.3 | AZ85: 315.7 | BA85: =AZ85-BB85 -> 315.7 | BC85: 31.5 | BD85: =BC85-BE85 -> 31.5 | BF85: =BC85-AZ85 -> -284.2 | BG85: =IF(AZ85<>0,IF(BC85/AZ85*100<0,"<0",IF(BC85/AZ85*100>200,">200",BC85/AZ85*100))," ") -> 9.9778271 | BH85: 25.2 | BI85: =BC85-BH85 -> 6.3 | BJ85: =IF(BH85<>0,IF(BC85/BH85*100<0,"<0",IF(BC85/BH85*100>200,">200",BC85/BH85*100))," ") -> 125 | BL85: =BM85+BQ85 -> 68.2 | BM85: =BN85+BO85+BP85 -> 55.9 | BN85: 55.9 | BQ85: 12.3
A86: Granturi acordate | B86: 26 | C86: =M86+AY86 -> 1493.8 | D86: =N86+AZ86 -> 1489 | E86: =O86+BC86 -> 8.3 | F86: =AB86+AK86+AS86+BD86 -> 7.2 | G86: =Q86+BE86 -> 1.1 | H86: =E86-D86 -> -1480.7 | I86: =IF(D86<>0,IF(E86/D86*100<0,"<0",IF(E86/D86*100>200,">200",E86/D86*100))," ") -> 0.55742109 | J86: =T86+BH86 -> 38.2 | K86: =E86-J86 -> -29.9 | L86: =IF(J86<>0,IF(E86/J86*100<0,"<0",IF(E86/J86*100>200,">200",E86/J86*100))," ") -> 21.727749 | M86: =W86+AI86+AQ86 -> 1460.5 | N86: =X86+AJ86+AR86 -> 1455.7 | O86: =AA86+AK86+AS86 -> 8.1 | P86: =AB86+AK86+AS86 -> 7 | Q86: =AC86 -> 1.1 | R86: =O86-N86 -> -1447.6 | S86: =IF(N86<>0,IF(O86/N86*100<0,"<0",IF(O86/N86*100>200,">200",O86/N86*100))," ") -> 0.55643333 | T86: =AF86+AN86+AV86 -> 37.7 | U86: =O86-T86 -> -29.6 | V86: =IF(T86<>0,IF(O86/T86*100<0,"<0",IF(O86/T86*100>200,">200",O86/T86*100))," ") -> 21.485411 | W86: 1460.5 | X86: 1455.7 | Y86: =X86-Z86 -> 1269.8 | Z86: 185.9 | AA86: 8.1 | AB86: =AA86-AC86 -> 7 | AC86: 1.1 | AD86: =AA86-X86 -> -1447.6 | AE86: =IF(X86<>0,IF(AA86/X86*100<0,"<0",IF(AA86/X86*100>200,">200",AA86/X86*100))," ") -> 0.55643333 | AF86: 37.7 | AG86: =AA86-AF86 -> -29.6 | AH86: =IF(AF86<>0,IF(AA86/AF86*100<0,"<0",IF(AA86/AF86*100>200,">200",AA86/AF86*100))," ") -> 21.485411 | AL86: =AK86-AJ86 -> 0 | AM86: =IF(AJ86<>0,IF(AK86/AJ86*100<0,"<0",IF(AK86/AJ86*100>200,">200",AK86/AJ86*100))," ") | AT86: =AS86-AR86 -> 0 | AU86: =IF(AR86<>0,IF(AS86/AR86*100<0,"<0",IF(AS86/AR86*100>200,">200",AS86/AR86*100))," ") | AY86: 33.3 | AZ86: 33.3 | BA86: =AZ86-BB86 -> 33.3 | BC86: 0.2 | BD86: =BC86-BE86 -> 0.2 | BF86: =BC86-AZ86 -> -33.1 | BG86: =IF(AZ86<>0,IF(BC86/AZ86*100<0,"<0",IF(BC86/AZ86*100>200,">200",BC86/AZ86*100))," ") -> 0.6006006 | BH86: 0.5 | BI86: =BC86-BH86 -> -0.3 | BJ86: =IF(BH86<>0,IF(BC86/BH86*100<0,"<0",IF(BC86/BH86*100>200,">200",BC86/BH86*100))," ") -> 40 | BL86: =BM86+BQ86 -> 0 | BM86: =BN86+BO86+BP86 -> 0
A87: Prestații sociale | B87: 27 | C87: =M87+AY87 -> 32946.7 | D87: =N87+AZ87 -> 33304.6 | E87: =O87+BC87 -> 6251.3 | F87: =AB87+AK87+AS87+BD87 -> 6251.3 | G87: =Q87+BE87 -> 0 | H87: =E87-D87 -> -27053.3 | I87: =IF(D87<>0,IF(E87/D87*100<0,"<0",IF(E87/D87*100>200,">200",E87/D87*100))," ") -> 18.77008 | J87: =T87+BH87 -> 4382.1 | K87: =E87-J87 -> 1869.2 | L87: =IF(J87<>0,IF(E87/J87*100<0,"<0",IF(E87/J87*100>200,">200",E87/J87*100))," ") -> 142.65535 | M87: =W87+AI87+AQ87 -> 32164.2 | N87: =X87+AJ87+AR87 -> 32457.1 | O87: =AA87+AK87+AS87 -> 6140.6 | P87: =AB87+AK87+AS87 -> 6140.6 | Q87: =AC87 -> 0 | R87: =O87-N87 -> -26316.5 | S87: =IF(N87<>0,IF(O87/N87*100<0,"<0",IF(O87/N87*100>200,">200",O87/N87*100))," ") -> 18.919127 | T87: =AF87+AN87+AV87 -> 4272.4 | U87: =O87-T87 -> 1868.2 | V87: =IF(T87<>0,IF(O87/T87*100<0,"<0",IF(O87/T87*100>200,">200",O87/T87*100))," ") -> 143.72718 | W87: 1479.8 | X87: 1772.7 | Y87: =X87-Z87 -> 1772.7 | AA87: 1242.3 | AB87: =AA87-AC87 -> 1242.3 | AD87: =AA87-X87 -> -530.4 | AE87: =IF(X87<>0,IF(AA87/X87*100<0,"<0",IF(AA87/X87*100>200,">200",AA87/X87*100))," ") -> 70.07954 | AF87: 72.1 | AG87: =AA87-AF87 -> 1170.2 | AH87: =IF(AF87<>0,IF(AA87/AF87*100<0,"<0",IF(AA87/AF87*100>200,">200",AA87/AF87*100))," ") -> >200 | AI87: 30683.9 | AJ87: 30683.9 | AK87: 4898.3 | AL87: =AK87-AJ87 -> -25785.6 | AM87: =IF(AJ87<>0,IF(AK87/AJ87*100<0,"<0",IF(AK87/AJ87*100>200,">200",AK87/AJ87*100))," ") -> 15.963746 | AN87: 4200.3 | AO87: =AK87-AN87 -> 698 | AP87: =IF(AN87<>0,IF(AK87/AN87*100<0,"<0",IF(AK87/AN87*100>200,">200",AK87/AN87*100))," ") -> 116.61786 | AQ87: 0.5 | AR87: 0.5 | AT87: =AS87-AR87 -> -0.5 | AU87: =IF(AR87<>0,IF(AS87/AR87*100<0,"<0",IF(AS87/AR87*100>200,">200",AS87/AR87*100))," ") -> 0 | AW87: =AS87-AV87 -> 0 | AX87: =IF(AV87<>0,IF(AS87/AV87*100<0,"<0",IF(AS87/AV87*100>200,">200",AS87/AV87*100))," ") | AY87: 782.5 | AZ87: 847.5 | BA87: =AZ87-BB87 -> 847.5 | BC87: 110.7 | BD87: =BC87-BE87 -> 110.7 | BF87: =BC87-AZ87 -> -736.8 | BG87: =IF(AZ87<>0,IF(BC87/AZ87*100<0,"<0",IF(BC87/AZ87*100>200,">200",BC87/AZ87*100))," ") -> 13.061947 | BH87: 109.7 | BI87: =BC87-BH87 -> 1 | BJ87: =IF(BH87<>0,IF(BC87/BH87*100<0,"<0",IF(BC87/BH87*100>200,">200",BC87/BH87*100))," ") -> 100.91158 | BL87: =BM87+BQ87 -> 1274.5 | BM87: =BN87+BO87+BP87 -> 1266.8 | BN87: 81.5 | BO87: 1185.3 | BQ87: 7.7
A88: Alte cheltuieli | B88: 28 | C88: =M88+AY88 -> 4918.8 | D88: =N88+AZ88 -> 4512.5 | E88: =O88+BC88 -> 437 | F88: =AB88+AK88+AS88+BD88 -> 424.9 | G88: =Q88+BE88 -> 12.1 | H88: =E88-D88 -> -4075.5 | I88: =IF(D88<>0,IF(E88/D88*100<0,"<0",IF(E88/D88*100>200,">200",E88/D88*100))," ") -> 9.6842105 | J88: =T88+BH88 -> 410.4 | K88: =E88-J88 -> 26.6 | L88: =IF(J88<>0,IF(E88/J88*100<0,"<0",IF(E88/J88*100>200,">200",E88/J88*100))," ") -> 106.48148 | M88: =W88+AI88+AQ88 -> 4593.6 | N88: =X88+AJ88+AR88 -> 4118.6 | O88: =AA88+AK88+AS88 -> 412.4 | P88: =AB88+AK88+AS88 -> 401.1 | Q88: =AC88 -> 11.3 | R88: =O88-N88 -> -3706.2 | S88: =IF(N88<>0,IF(O88/N88*100<0,"<0",IF(O88/N88*100>200,">200",O88/N88*100))," ") -> 10.013111 | T88: =AF88+AN88+AV88 -> 394.9 | U88: =O88-T88 -> 17.5 | V88: =IF(T88<>0,IF(O88/T88*100<0,"<0",IF(O88/T88*100>200,">200",O88/T88*100))," ") -> 104.4315 | W88: 4588.4 | X88: 4113.4 | Y88: =X88-Z88 -> 3330.3 | Z88: 783.1 | AA88: 411.4 | AB88: =AA88-AC88 -> 400.1 | AC88: 11.3 | AD88: =AA88-X88 -> -3702 | AE88: =IF(X88<>0,IF(AA88/X88*100<0,"<0",IF(AA88/X88*100>200,">200",AA88/X88*100))," ") -> 10.001459 | AF88: 394.1 | AG88: =AA88-AF88 -> 17.3 | AH88: =IF(AF88<>0,IF(AA88/AF88*100<0,"<0",IF(AA88/AF88*100>200,">200",AA88/AF88*100))," ") -> 104.38975 | AI88: 5.2 | AJ88: 5.2 | AK88: 1 | AL88: =AK88-AJ88 -> -4.2 | AM88: =IF(AJ88<>0,IF(AK88/AJ88*100<0,"<0",IF(AK88/AJ88*100>200,">200",AK88/AJ88*100))," ") -> 19.230769 | AN88: 0.8 | AO88: =AK88-AN88 -> 0.2 | AP88: =IF(AN88<>0,IF(AK88/AN88*100<0,"<0",IF(AK88/AN88*100>200,">200",AK88/AN88*100))," ") -> 125 | AT88: =AS88-AR88 -> 0 | AU88: =IF(AR88<>0,IF(AS88/AR88*100<0,"<0",IF(AS88/AR88*100>200,">200",AS88/AR88*100))," ") | AW88: =AS88-AV88 -> 0 | AX88: =IF(AV88<>0,IF(AS88/AV88*100<0,"<0",IF(AS88/AV88*100>200,">200",AS88/AV88*100))," ") | AY88: 325.2 | AZ88: 393.9 | BA88: =AZ88-BB88 -> 386.3 | BB88: 7.6 | BC88: 24.6 | BD88: =BC88-BE88 -> 23.8 | BE88: 0.8 | BF88: =BC88-AZ88 -> -369.3 | BG88: =IF(AZ88<>0,IF(BC88/AZ88*100<0,"<0",IF(BC88/AZ88*100>200,">200",BC88/AZ88*100))," ") -> 6.2452399 | BH88: 15.5 | BI88: =BC88-BH88 -> 9.1 | BJ88: =IF(BH88<>0,IF(BC88/BH88*100<0,"<0",IF(BC88/BH88*100>200,">200",BC88/BH88*100))," ") -> 158.70968 | BL88: =BM88+BQ88 -> 13.6 | BM88: =BN88+BO88+BP88 -> 13.4 | BN88: 13.4 | BQ88: 0.2
A89: Transferuri acordate în cadrul bugetului public național | B89: 29 | C89: =M89+AY89 -> 33539.4 | D89: =N89+AZ89 -> 33813.1 | E89: =O89+BC89 -> 5493.7 | F89: =AB89+AK89+AS89+BD89 -> 5493.7 | G89: =Q89+BE89 -> 0 | H89: =E89-D89 -> -28319.4 | I89: =IF(D89<>0,IF(E89/D89*100<0,"<0",IF(E89/D89*100>200,">200",E89/D89*100))," ") -> 16.247253 | J89: =T89+BH89 -> 4800.6 | K89: =E89-J89 -> 693.1 | L89: =IF(J89<>0,IF(E89/J89*100<0,"<0",IF(E89/J89*100>200,">200",E89/J89*100))," ") -> 114.43778 | M89: =M90+M91 -> 33535.9 | N89: =N90+N91 -> 33807.7 | O89: =AA89+AK89+AS89 -> 5493.7 | P89: =AB89+AK89+AS89 -> 5493.7 | Q89: =AC89 -> 0 | R89: =O89-N89 -> -28314 | S89: =IF(N89<>0,IF(O89/N89*100<0,"<0",IF(O89/N89*100>200,">200",O89/N89*100))," ") -> 16.249848 | T89: =T90+T91 -> 4800.5 | U89: =O89-T89 -> 693.2 | V89: =IF(T89<>0,IF(O89/T89*100<0,"<0",IF(O89/T89*100>200,">200",O89/T89*100))," ") -> 114.44016 | W89: =W90+W91 -> 33535.9 | X89: =X90+X91 -> 33807.7 | Y89: =X89-Z89 -> 33807.7 | Z89: =Z90 -> 0 | AA89: =AA90+AA91 -> 5493.7 | AB89: =AA89-AC89 -> 5493.7 | AC89: =AC90+AC91 -> 0 | AD89: =AA89-X89 -> -28314 | AE89: =IF(X89<>0,IF(AA89/X89*100<0,"<0",IF(AA89/X89*100>200,">200",AA89/X89*100))," ") -> 16.249848 | AF89: =AF90+AF91 -> 4800.5 | AG89: =AA89-AF89 -> 693.2 | AH89: =IF(AF89<>0,IF(AA89/AF89*100<0,"<0",IF(AA89/AF89*100>200,">200",AA89/AF89*100))," ") -> 114.44016 | AK89: =AK90 -> 0 | AL89: =AK89-AJ89 -> 0 | AM89: =IF(AJ89<>0,IF(AK89/AJ89*100<0,"<0",IF(AK89/AJ89*100>200,">200",AK89/AJ89*100))," ") | AO89: =AK89-AN89 -> 0 | AP89: =IF(AN89<>0,IF(AK89/AN89*100<0,"<0",IF(AK89/AN89*100>200,">200",AK89/AN89*100))," ") | AS89: =AS90 -> 0 | AT89: =AS89-AR89 -> 0 | AU89: =IF(AR89<>0,IF(AS89/AR89*100<0,"<0",IF(AS89/AR89*100>200,">200",AS89/AR89*100))," ") | AW89: =AS89-AV89 -> 0 | AX89: =IF(AV89<>0,IF(AS89/AV89*100<0,"<0",IF(AS89/AV89*100>200,">200",AS89/AV89*100))," ") | AY89: =AY90 -> 3.5 | AZ89: =AZ90 -> 5.4 | BA89: =AZ89-BB89 -> 5.4 | BB89: =BB90 -> 0 | BC89: =BC90 -> 0 | BD89: =BC89-BE89 -> 0 | BE89: =BE90 -> 0 | BF89: =BC89-AZ89 -> -5.4 | BG89: =IF(AZ89<>0,IF(BC89/AZ89*100<0,"<0",IF(BC89/AZ89*100>200,">200",BC89/AZ89*100))," ") -> 0 | BH89: =BH90 -> 0.1 | BI89: =BC89-BH89 -> -0.1 | BJ89: =IF(BH89<>0,IF(BC89/BH89*100<0,"<0",IF(BC89/BH89*100>200,">200",BC89/BH89*100))," ") -> 0 | BL89: =BM89+BQ89 -> 1418.9 | BM89: =BN89+BO89+BP89 -> 1418.9 | BN89: 1418.9 | BQ89: 0
A90: Transferuri acordate între bugetul de stat şi bugetele locale | B90: 291 | C90: =M90+AY90 -> 14917.5 | D90: =N90+AZ90 -> 15191.2 | E90: =O90+BC90 -> 2151.8 | F90: =AB90+AK90+AS90+BD90 -> 2151.8 | G90: =Q90+BE90 -> 0 | H90: =E90-D90 -> -13039.4 | I90: =IF(D90<>0,IF(E90/D90*100<0,"<0",IF(E90/D90*100>200,">200",E90/D90*100))," ") -> 14.16478 | J90: =T90+BH90 -> 2009.7 | K90: =E90-J90 -> 142.1 | L90: =IF(J90<>0,IF(E90/J90*100<0,"<0",IF(E90/J90*100>200,">200",E90/J90*100))," ") -> 107.07071 | M90: =W90+AI90+AQ90 -> 14914 | N90: =X90+AJ90+AR90 -> 15185.8 | O90: =AA90+AK90+AS90 -> 2151.8 | P90: =AB90+AK90+AS90 -> 2151.8 | Q90: =AC90 -> 0 | R90: =O90-N90 -> -13034 | S90: =IF(N90<>0,IF(O90/N90*100<0,"<0",IF(O90/N90*100>200,">200",O90/N90*100))," ") -> 14.169817 | T90: =AF90+AN90+AV90 -> 2009.6 | U90: =O90-T90 -> 142.2 | V90: =IF(T90<>0,IF(O90/T90*100<0,"<0",IF(O90/T90*100>200,">200",O90/T90*100))," ") -> 107.07604 | W90: 14914 | X90: 15185.8 | Y90: =X90-Z90 -> 15185.8 | AA90: 2151.8 | AB90: =AA90-AC90 -> 2151.8 | AD90: =AA90-X90 -> -13034 | AE90: =IF(X90<>0,IF(AA90/X90*100<0,"<0",IF(AA90/X90*100>200,">200",AA90/X90*100))," ") -> 14.169817 | AF90: 2009.6 | AG90: =AA90-AF90 -> 142.2 | AH90: =IF(AF90<>0,IF(AA90/AF90*100<0,"<0",IF(AA90/AF90*100>200,">200",AA90/AF90*100))," ") -> 107.07604 | AP90: =IF(AN90<>0,IF(AK90/AN90*100<0,"<0",IF(AK90/AN90*100>200,">200",AK90/AN90*100))," ") | AU90: =IF(AR90<>0,IF(AS90/AR90*100<0,"<0",IF(AS90/AR90*100>200,">200",AS90/AR90*100))," ") | AX90: =IF(AV90<>0,IF(AS90/AV90*100<0,"<0",IF(AS90/AV90*100>200,">200",AS90/AV90*100))," ") | AY90: 3.5 | AZ90: 5.4 | BA90: =AZ90-BB90 -> 5.4 | BD90: =BC90-BE90 -> 0 | BF90: =BC90-AZ90 -> -5.4 | BG90: =IF(AZ90<>0,IF(BC90/AZ90*100<0,"<0",IF(BC90/AZ90*100>200,">200",BC90/AZ90*100))," ") -> 0 | BH90: 0.1 | BI90: =BC90-BH90 -> -0.1 | BJ90: =IF(BH90<>0,IF(BC90/BH90*100<0,"<0",IF(BC90/BH90*100>200,">200",BC90/BH90*100))," ") -> 0 | BL90: =BM90+BQ90 -> 403.5 | BM90: =BN90+BO90+BP90 -> 403.5 | BN90: 403.5
A91: Transferuri acordate în cadrul Bugetului Consolidat Central | B91: 292 | C91: =M91+AY91 -> 18621.9 | D91: =N91+AZ91 -> 18621.9 | E91: =O91+BC91 -> 3341.9 | F91: =AB91+AK91+AS91+BD91 -> 3341.9 | G91: =Q91+BE91 -> 0 | H91: =E91-D91 -> -15280 | I91: =IF(D91<>0,IF(E91/D91*100<0,"<0",IF(E91/D91*100>200,">200",E91/D91*100))," ") -> 17.946074 | J91: =T91+BH91 -> 2790.9 | K91: =E91-J91 -> 551 | L91: =IF(J91<>0,IF(E91/J91*100<0,"<0",IF(E91/J91*100>200,">200",E91/J91*100))," ") -> 119.74274 | M91: =W91+AI91+AQ91 -> 18621.9 | N91: =X91+AJ91+AR91 -> 18621.9 | O91: =AA91+AK91+AS91 -> 3341.9 | P91: =AB91+AK91+AS91 -> 3341.9 | Q91: =AC91 -> 0 | R91: =O91-N91 -> -15280 | S91: =IF(N91<>0,IF(O91/N91*100<0,"<0",IF(O91/N91*100>200,">200",O91/N91*100))," ") -> 17.946074 | T91: =AF91+AN91+AV91 -> 2790.9 | U91: =O91-T91 -> 551 | V91: =IF(T91<>0,IF(O91/T91*100<0,"<0",IF(O91/T91*100>200,">200",O91/T91*100))," ") -> 119.74274 | W91: =W92+W93 -> 18621.9 | X91: =X92+X93 -> 18621.9 | Y91: =X91-Z91 -> 18621.9 | AA91: =AA92+AA93 -> 3341.9 | AB91: =AA91-AC91 -> 3341.9 | AC91: =AC92+AC93 -> 0 | AD91: =AA91-X91 -> -15280 | AE91: =IF(X91<>0,IF(AA91/X91*100<0,"<0",IF(AA91/X91*100>200,">200",AA91/X91*100))," ") -> 17.946074 | AF91: =AF92+AF93 -> 2790.9 | AG91: =AA91-AF91 -> 551 | AH91: =IF(AF91<>0,IF(AA91/AF91*100<0,"<0",IF(AA91/AF91*100>200,">200",AA91/AF91*100))," ") -> 119.74274 | AP91: =IF(AN91<>0,IF(AK91/AN91*100<0,"<0",IF(AK91/AN91*100>200,">200",AK91/AN91*100))," ") | AU91: =IF(AR91<>0,IF(AS91/AR91*100<0,"<0",IF(AS91/AR91*100>200,">200",AS91/AR91*100))," ") | AX91: =IF(AV91<>0,IF(AS91/AV91*100<0,"<0",IF(AS91/AV91*100>200,">200",AS91/AV91*100))," ") | BA91: =AZ91-BB91 -> 0 | BD91: =BC91-BE91 -> 0 | BF91: =BC91-AZ91 -> 0 | BG91: =IF(AZ91<>0,IF(BC91/AZ91*100<0,"<0",IF(BC91/AZ91*100>200,">200",BC91/AZ91*100))," ") | BL91: =BM91+BQ91 -> 1015.4 | BM91: =BN91+BO91+BP91 -> 1015.4 | BN91: 1015.4
A92: Transferuri acordate între bugetul de stat si bugetul asigurarilor sociale de stat | B92: 2921 | C92: =M92+AY92 -> 12550 | D92: =N92+AZ92 -> 12550 | E92: =O92+BC92 -> 2835.9 | F92: =AB92+AK92+AS92+BD92 -> 2835.9 | G92: =Q92+BE92 -> 0 | H92: =E92-D92 -> -9714.1 | I92: =IF(D92<>0,IF(E92/D92*100<0,"<0",IF(E92/D92*100>200,">200",E92/D92*100))," ") -> 22.596813 | J92: =T92+BH92 -> 2304.6 | K92: =E92-J92 -> 531.3 | L92: =IF(J92<>0,IF(E92/J92*100<0,"<0",IF(E92/J92*100>200,">200",E92/J92*100))," ") -> 123.05389 | M92: =W92+AI92+AQ92 -> 12550 | N92: =X92+AJ92+AR92 -> 12550 | O92: =AA92+AK92+AS92 -> 2835.9 | P92: =AB92+AK92+AS92 -> 2835.9 | Q92: =AC92 -> 0 | R92: =O92-N92 -> -9714.1 | S92: =IF(N92<>0,IF(O92/N92*100<0,"<0",IF(O92/N92*100>200,">200",O92/N92*100))," ") -> 22.596813 | T92: =AF92+AN92+AV92 -> 2304.6 | U92: =O92-T92 -> 531.3 | V92: =IF(T92<>0,IF(O92/T92*100<0,"<0",IF(O92/T92*100>200,">200",O92/T92*100))," ") -> 123.05389 | W92: 12550 | X92: 12550 | Y92: =X92-Z92 -> 12550 | AA92: 2835.9 | AB92: =AA92-AC92 -> 2835.9 | AD92: =AA92-X92 -> -9714.1 | AE92: =IF(X92<>0,IF(AA92/X92*100<0,"<0",IF(AA92/X92*100>200,">200",AA92/X92*100))," ") -> 22.596813 | AF92: 2304.6 | AG92: =AA92-AF92 -> 531.3 | AH92: =IF(AF92<>0,IF(AA92/AF92*100<0,"<0",IF(AA92/AF92*100>200,">200",AA92/AF92*100))," ") -> 123.05389 | AP92: =IF(AN92<>0,IF(AK92/AN92*100<0,"<0",IF(AK92/AN92*100>200,">200",AK92/AN92*100))," ") | AU92: =IF(AR92<>0,IF(AS92/AR92*100<0,"<0",IF(AS92/AR92*100>200,">200",AS92/AR92*100))," ") | AX92: =IF(AV92<>0,IF(AS92/AV92*100<0,"<0",IF(AS92/AV92*100>200,">200",AS92/AV92*100))," ") | BA92: =AZ92-BB92 -> 0 | BD92: =BC92-BE92 -> 0 | BF92: =BC92-AZ92 -> 0 | BG92: =IF(AZ92<>0,IF(BC92/AZ92*100<0,"<0",IF(BC92/AZ92*100>200,">200",BC92/AZ92*100))," ") | BL92: =BM92+BQ92 -> 965.4 | BM92: =BN92+BO92+BP92 -> 965.4 | BN92: 965.4
A93: Transferuri acordate între bugetul de stat si fondurile asigurării obligatorii de asistenţă medicală | B93: 2922 | C93: =M93+AY93 -> 6071.9 | D93: =N93+AZ93 -> 6071.9 | E93: =O93+BC93 -> 506 | F93: =AB93+AK93+AS93+BD93 -> 506 | G93: =Q93+BE93 -> 0 | H93: =E93-D93 -> -5565.9 | I93: =IF(D93<>0,IF(E93/D93*100<0,"<0",IF(E93/D93*100>200,">200",E93/D93*100))," ") -> 8.3334706 | J93: =T93+BH93 -> 486.3 | K93: =E93-J93 -> 19.7 | L93: =IF(J93<>0,IF(E93/J93*100<0,"<0",IF(E93/J93*100>200,">200",E93/J93*100))," ") -> 104.051 | M93: =W93+AI93+AQ93 -> 6071.9 | N93: =X93+AJ93+AR93 -> 6071.9 | O93: =AA93+AK93+AS93 -> 506 | P93: =AB93+AK93+AS93 -> 506 | Q93: =AC93 -> 0 | R93: =O93-N93 -> -5565.9 | S93: =IF(N93<>0,IF(O93/N93*100<0,"<0",IF(O93/N93*100>200,">200",O93/N93*100))," ") -> 8.3334706 | T93: =AF93+AN93+AV93 -> 486.3 | U93: =O93-T93 -> 19.7 | V93: =IF(T93<>0,IF(O93/T93*100<0,"<0",IF(O93/T93*100>200,">200",O93/T93*100))," ") -> 104.051 | W93: 6071.9 | X93: 6071.9 | Y93: =X93-Z93 -> 6071.9 | AA93: 506 | AB93: =AA93-AC93 -> 506 | AD93: =AA93-X93 -> -5565.9 | AE93: =IF(X93<>0,IF(AA93/X93*100<0,"<0",IF(AA93/X93*100>200,">200",AA93/X93*100))," ") -> 8.3334706 | AF93: 486.3 | AG93: =AA93-AF93 -> 19.7 | AH93: =IF(AF93<>0,IF(AA93/AF93*100<0,"<0",IF(AA93/AF93*100>200,">200",AA93/AF93*100))," ") -> 104.051 | AP93: =IF(AN93<>0,IF(AK93/AN93*100<0,"<0",IF(AK93/AN93*100>200,">200",AK93/AN93*100))," ") | AU93: =IF(AR93<>0,IF(AS93/AR93*100<0,"<0",IF(AS93/AR93*100>200,">200",AS93/AR93*100))," ") | AX93: =IF(AV93<>0,IF(AS93/AV93*100<0,"<0",IF(AS93/AV93*100>200,">200",AS93/AV93*100))," ") | BA93: =AZ93-BB93 -> 0 | BD93: =BC93-BE93 -> 0 | BF93: =BC93-AZ93 -> 0 | BG93: =IF(AZ93<>0,IF(BC93/AZ93*100<0,"<0",IF(BC93/AZ93*100>200,">200",BC93/AZ93*100))," ") | BL93: =BM93+BQ93 -> 50 | BM93: =BN93+BO93+BP93 -> 50 | BN93: 50
A94: Active nefinanciare | B94: 3 | C94: =M94+AY94 -> 8987.9 | D94: =N94+AZ94 -> 10165.2 | E94: =O94+BC94 -> 256.8 | F94: =AB94+AK94+AS94+BD94 -> 90.5 | G94: =Q94+BE94 -> 166.3 | H94: =E94-D94 -> -9908.4 | I94: =IF(D94<>0,IF(E94/D94*100<0,"<0",IF(E94/D94*100>200,">200",E94/D94*100))," ") -> 2.5262661 | J94: =T94+BH94 -> 564.4 | K94: =E94-J94 -> -307.6 | L94: =IF(J94<>0,IF(E94/J94*100<0,"<0",IF(E94/J94*100>200,">200",E94/J94*100))," ") -> 45.499646 | M94: =W94+AI94+AQ94 -> 5658.6 | N94: =X94+AJ94+AR94 -> 6280.5 | O94: =AA94+AK94+AS94 -> 151.9 | P94: =AB94+AK94+AS94 -> 26.8 | Q94: =AC94 -> 125.1 | R94: =O94-N94 -> -6128.6 | S94: =IF(N94<>0,IF(O94/N94*100<0,"<0",IF(O94/N94*100>200,">200",O94/N94*100))," ") -> 2.4185972 | T94: =AF94+AN94+AV94 -> 414.5 | U94: =O94-T94 -> -262.6 | V94: =IF(T94<>0,IF(O94/T94*100<0,"<0",IF(O94/T94*100>200,">200",O94/T94*100))," ") -> 36.646562 | W94: =W95+W99+W100+W102+W103+W104+W105 -> 5587.4 | X94: =X95+X99+X100+X102+X103+X104+X105 -> 6209.3 | Y94: =X94-Z94 -> 2192.1 | Z94: =Z95+Z99+Z100+Z102+Z103+Z104+Z105 -> 4017.2 | AA94: =AA95+AA99+AA100+AA102+AA103+AA104+AA105 -> 150.6 | AB94: =AA94-AC94 -> 25.5 | AC94: =AC95+AC99+AC100+AC102+AC103+AC104+AC105 -> 125.1 | AD94: =AA94-X94 -> -6058.7 | AE94: =IF(X94<>0,IF(AA94/X94*100<0,"<0",IF(AA94/X94*100>200,">200",AA94/X94*100))," ") -> 2.4253942 | AF94: =AF95+AF99+AF100+AF102+AF103+AF104+AF105 -> 412.5 | AG94: =AA94-AF94 -> -261.9 | AH94: =IF(AF94<>0,IF(AA94/AF94*100<0,"<0",IF(AA94/AF94*100>200,">200",AA94/AF94*100))," ") -> 36.509091 | AI94: =AI95+AI99+AI100+AI102+AI103+AI104+AI105 -> 21.1 | AJ94: =AJ95+AJ99+AJ100+AJ102+AJ103+AJ104+AJ105 -> 21.1 | AK94: =AK95+AK99+AK100+AK102+AK103+AK104+AK105 -> 0.8 | AL94: =AK94-AJ94 -> -20.3 | AM94: =IF(AJ94<>0,IF(AK94/AJ94*100<0,"<0",IF(AK94/AJ94*100>200,">200",AK94/AJ94*100))," ") -> 3.7914692 | AN94: =AN95+AN99+AN100+AN102+AN103+AN104+AN105 -> 1.6 | AO94: =AK94-AN94 -> -0.8 | AP94: =IF(AN94<>0,IF(AK94/AN94*100<0,"<0",IF(AK94/AN94*100>200,">200",AK94/AN94*100))," ") -> 50 | AQ94: =AQ95+AQ99+AQ100+AQ102+AQ103+AQ104+AQ105 -> 50.1 | AR94: =AR95+AR99+AR100+AR102+AR103+AR104+AR105 -> 50.1 | AS94: =AS95+AS99+AS100+AS102+AS103+AS104+AS105 -> 0.5 | AT94: =AS94-AR94 -> -49.6 | AU94: =IF(AR94<>0,IF(AS94/AR94*100<0,"<0",IF(AS94/AR94*100>200,">200",AS94/AR94*100))," ") -> 0.99800399 | AV94: =AV95+AV99+AV100+AV102+AV103+AV104+AV105 -> 0.4 | AW94: =AS94-AV94 -> 0.1 | AX94: =IF(AV94<>0,IF(AS94/AV94*100<0,"<0",IF(AS94/AV94*100>200,">200",AS94/AV94*100))," ") -> 125 | AY94: =AY95+AY99+AY100+AY102+AY103+AY104+AY105 -> 3329.3 | AZ94: =AZ95+AZ99+AZ100+AZ102+AZ103+AZ104+AZ105 -> 3884.7 | BA94: =AZ94-BB94 -> 3341.8 | BB94: =BB95+BB99+BB100+BB102+BB103+BB104+BB105 -> 542.9 | BC94: =BC95+BC99+BC100+BC102+BC103+BC104+BC105 -> 104.9 | BD94: =BC94-BE94 -> 63.7 | BE94: =BE95+BE99+BE100+BE102+BE103+BE104+BE105 -> 41.2 | BF94: =BC94-AZ94 -> -3779.8 | BG94: =IF(AZ94<>0,IF(BC94/AZ94*100<0,"<0",IF(BC94/AZ94*100>200,">200",BC94/AZ94*100))," ") -> 2.7003372 | BH94: =BH95+BH99+BH100+BH102+BH103+BH104+BH105 -> 149.9 | BI94: =BC94-BH94 -> -45 | BJ94: =IF(BH94<>0,IF(BC94/BH94*100<0,"<0",IF(BC94/BH94*100>200,">200",BC94/BH94*100))," ") -> 69.979987 | BL94: =BM94+BQ94 -> 6 | BM94: =BN94+BO94+BP94 -> 3.8 | BN94: 2.5 | BO94: 0 | BP94: 1.3 | BQ94: 2.2
A95: Mijloace fixe | B95: 31 | C95: =M95+AY95 -> 7017.3 | D95: =N95+AZ95 -> 8133.4 | E95: =O95+BC95 -> 269.6 | F95: =AB95+AK95+AS95+BD95 -> 106.6 | G95: =Q95+BE95 -> 163 | H95: =E95-D95 -> -7863.8 | I95: =IF(D95<>0,IF(E95/D95*100<0,"<0",IF(E95/D95*100>200,">200",E95/D95*100))," ") -> 3.3147269 | J95: =T95+BH95 -> 423.2 | K95: =E95-J95 -> -153.6 | L95: =IF(J95<>0,IF(E95/J95*100<0,"<0",IF(E95/J95*100>200,">200",E95/J95*100))," ") -> 63.705104 | M95: =W95+AI95+AQ95 -> 4123.5 | N95: =X95+AJ95+AR95 -> 4743.9 | O95: =AA95+AK95+AS95 -> 129.6 | P95: =AB95+AK95+AS95 -> 7.8 | Q95: =AC95 -> 121.8 | R95: =O95-N95 -> -4614.3 | S95: =IF(N95<>0,IF(O95/N95*100<0,"<0",IF(O95/N95*100>200,">200",O95/N95*100))," ") -> 2.7319294 | T95: =AF95+AN95+AV95 -> 353.4 | U95: =O95-T95 -> -223.8 | V95: =IF(T95<>0,IF(O95/T95*100<0,"<0",IF(O95/T95*100>200,">200",O95/T95*100))," ") -> 36.672326 | W95: 4088.8 | X95: 4709.2 | Y95: =X95-Z95 -> 1042 | Z95: 3667.2 | AA95: 129 | AB95: =AA95-AC95 -> 7.2 | AC95: 121.8 | AD95: =AA95-X95 -> -4580.2 | AE95: =IF(X95<>0,IF(AA95/X95*100<0,"<0",IF(AA95/X95*100>200,">200",AA95/X95*100))," ") -> 2.7393188 | AF95: 351.9 | AG95: =AA95-AF95 -> -222.9 | AH95: =IF(AF95<>0,IF(AA95/AF95*100<0,"<0",IF(AA95/AF95*100>200,">200",AA95/AF95*100))," ") -> 36.658142 | AI95: 15.7 | AJ95: 15.7 | AK95: 0.5 | AL95: =AK95-AJ95 -> -15.2 | AM95: =IF(AJ95<>0,IF(AK95/AJ95*100<0,"<0",IF(AK95/AJ95*100>200,">200",AK95/AJ95*100))," ") -> 3.1847134 | AN95: 1.4 | AO95: =AK95-AN95 -> -0.9 | AP95: =IF(AN95<>0,IF(AK95/AN95*100<0,"<0",IF(AK95/AN95*100>200,">200",AK95/AN95*100))," ") -> 35.714286 | AQ95: 19 | AR95: 19 | AS95: 0.1 | AT95: =AS95-AR95 -> -18.9 | AU95: =IF(AR95<>0,IF(AS95/AR95*100<0,"<0",IF(AS95/AR95*100>200,">200",AS95/AR95*100))," ") -> 0.52631579 | AV95: 0.1 | AW95: =AS95-AV95 -> 0 | AX95: =IF(AS95<>0,IF(AV95/AS95*100<0,100-AV95/AS95*100,IF(AV95/AS95*100>200,">200",AV95/AS95*100))," ") -> 100 | AY95: 2893.8 | AZ95: 3389.5 | BA95: =AZ95-BB95 -> 2848.7 | BB95: 540.8 | BC95: 140 | BD95: =BC95-BE95 -> 98.8 | BE95: 41.2 | BF95: =BC95-AZ95 -> -3249.5 | BG95: =IF(AZ95<>0,IF(BC95/AZ95*100<0,"<0",IF(BC95/AZ95*100>200,">200",BC95/AZ95*100))," ") -> 4.1304027 | BH95: 69.8 | BI95: =BC95-BH95 -> 70.2 | BJ95: =IF(BH95<>0,IF(BC95/BH95*100<0,"<0",IF(BC95/BH95*100>200,">200",BC95/BH95*100))," ") -> >200 | BL95: =BM95+BQ95 -> 3.9 | BM95: =BN95+BO95+BP95 -> 3.7 | BN95: 2.5 | BP95: 1.2 | BQ95: 0.2
A96: dintre care: | F96: =AB96+AK96+AS96+BD96 -> 0 | G96: =Q96+BE96 -> 0 | H96: =E96-D96 -> 0 | I96: =IF(D96<>0,IF(E96/D96*100<0,"<0",IF(E96/D96*100>200,">200",E96/D96*100))," ") | P96: =AB96+AK96+AS96 -> 0 | Q96: =AC96 -> 0 | R96: =O96-N96 -> 0 | S96: =IF(N96<>0,IF(O96/N96*100<0,"<0",IF(O96/N96*100>200,">200",O96/N96*100))," ") | V96: =IF(T96<>0,IF(O96/T96*100<0,"<0",IF(O96/T96*100>200,">200",O96/T96*100))," ") | AD96: =AA96-X96 -> 0 | AE96: =IF(X96<>0,IF(AA96/X96*100<0,"<0",IF(AA96/X96*100>200,">200",AA96/X96*100))," ") | AG96: =AA96-AF96 -> 0 | AH96: =IF(AF96<>0,IF(AA96/AF96*100<0,"<0",IF(AA96/AF96*100>200,">200",AA96/AF96*100))," ") | AO96: =AK96-AN96 -> 0 | AP96: =IF(AN96<>0,IF(AK96/AN96*100<0,"<0",IF(AK96/AN96*100>200,">200",AK96/AN96*100))," ") | AT96: =AS96-AR96 -> 0 | AW96: =AS96-AV96 -> 0 | AX96: =IF(AV96<>0,IF(AS96/AV96*100<0,"<0",IF(AS96/AV96*100>200,">200",AS96/AV96*100))," ") | BA96: =AZ96-BB96 -> 0 | BI96: =BC96-BH96 -> 0 | BJ96: =IF(BH96<>0,IF(BC96/BH96*100<0,"<0",IF(BC96/BH96*100>200,">200",BC96/BH96*100))," ") | BL96: =BM96+BQ96 -> 0 | BM96: =BN96+BO96+BP96 -> 0
A97: Investiții capitale | B97: 319 | C97: =M97+AY97 -> 2892.7 | D97: =N97+AZ97 -> 3083.6 | E97: =O97+BC97 -> 120.7 | F97: =AB97+AK97+AS97+BD97 -> 12.6 | G97: =Q97+BE97 -> 108.1 | H97: =E97-D97 -> -2962.9 | I97: =IF(D97<>0,IF(E97/D97*100<0,"<0",IF(E97/D97*100>200,">200",E97/D97*100))," ") -> 3.9142561 | J97: =T97+BH97 -> 292.5 | K97: =E97-J97 -> -171.8 | L97: =IF(J97<>0,IF(E97/J97*100<0,"<0",IF(E97/J97*100>200,">200",E97/J97*100))," ") -> 41.264957 | M97: =W97+AI97+AQ97 -> 2663.3 | N97: =X97+AJ97+AR97 -> 2663.3 | O97: =AA97+AK97+AS97 -> 111.5 | P97: =AB97+AK97+AS97 -> 3.4 | Q97: =AC97 -> 108.1 | R97: =O97-N97 -> -2551.8 | S97: =IF(N97<>0,IF(O97/N97*100<0,"<0",IF(O97/N97*100>200,">200",O97/N97*100))," ") -> 4.1865355 | T97: =AF97+AN97+AV97 -> 278.6 | U97: =O97-T97 -> -167.1 | V97: =IF(T97<>0,IF(O97/T97*100<0,"<0",IF(O97/T97*100>200,">200",O97/T97*100))," ") -> 40.021536 | W97: 2662.8 | X97: 2662.8 | Y97: =X97-Z97 -> 313.1 | Z97: 2349.7 | AA97: 111.5 | AB97: =AA97-AC97 -> 3.4 | AC97: 108.1 | AD97: =AA97-X97 -> -2551.3 | AE97: =IF(X97<>0,IF(AA97/X97*100<0,"<0",IF(AA97/X97*100>200,">200",AA97/X97*100))," ") -> 4.1873216 | AF97: 278.6 | AG97: =AA97-AF97 -> -167.1 | AH97: =IF(AF97<>0,IF(AA97/AF97*100<0,"<0",IF(AA97/AF97*100>200,">200",AA97/AF97*100))," ") -> 40.021536 | AI97: 0.5 | AJ97: 0.5 | AL97: =AK97-AJ97 -> -0.5 | AM97: =IF(AJ97<>0,IF(AK97/AJ97*100<0,"<0",IF(AK97/AJ97*100>200,">200",AK97/AJ97*100))," ") -> 0 | AO97: =AK97-AN97 -> 0 | AP97: =IF(AN97<>0,IF(AK97/AN97*100<0,"<0",IF(AK97/AN97*100>200,">200",AK97/AN97*100))," ") | AT97: =AS97-AR97 -> 0 | AU97: =IF(AR97<>0,IF(AS97/AR97*100<0,"<0",IF(AS97/AR97*100>200,">200",AS97/AR97*100))," ") | AW97: =AS97-AV97 -> 0 | AX97: =IF(AV97<>0,IF(AS97/AV97*100<0,"<0",IF(AS97/AV97*100>200,">200",AS97/AV97*100))," ") | AY97: 229.4 | AZ97: 420.3 | BA97: =AZ97-BB97 -> 417.4 | BB97: 2.9 | BC97: 9.2 | BD97: =BC97-BE97 -> 9.2 | BF97: =BC97-AZ97 -> -411.1 | BG97: =IF(AZ97<>0,IF(BC97/AZ97*100<0,"<0",IF(BC97/AZ97*100>200,">200",BC97/AZ97*100))," ") -> 2.1889127 | BH97: 13.9 | BI97: =BC97-BH97 -> -4.7 | BJ97: =IF(BH97<>0,IF(BC97/BH97*100<0,"<0",IF(BC97/BH97*100>200,">200",BC97/BH97*100))," ") -> 66.18705 | BL97: =BM97+BQ97 -> 1.4 | BM97: =BN97+BO97+BP97 -> 1.4 | BN97: 1.4
A98: Stocuri de materiale circulante, rezerve | B98: 32+33 | C98: =M98+AY98 -> 2999.9 | D98: =N98+AZ98 -> 3071.3 | E98: =O98+BC98 -> 135.3 | F98: =AB98+AK98+AS98+BD98 -> 132 | G98: =Q98+BE98 -> 3.3 | H98: =E98-D98 -> -2936 | I98: =IF(D98<>0,IF(E98/D98*100<0,"<0",IF(E98/D98*100>200,">200",E98/D98*100))," ") -> 4.4053007 | J98: =T98+BH98 -> 164.5 | K98: =E98-J98 -> -29.2 | L98: =IF(J98<>0,IF(E98/J98*100<0,"<0",IF(E98/J98*100>200,">200",E98/J98*100))," ") -> 82.24924 | M98: =W98+AI98+AQ98 -> 1520.3 | N98: =X98+AJ98+AR98 -> 1521.8 | O98: =AA98+AK98+AS98 -> 22.2 | P98: =AB98+AK98+AS98 -> 18.9 | Q98: =AC98 -> 3.3 | R98: =O98-N98 -> -1499.6 | S98: =IF(N98<>0,IF(O98/N98*100<0,"<0",IF(O98/N98*100>200,">200",O98/N98*100))," ") -> 1.4587988 | T98: =AF98+AN98+AV98 -> 60 | U98: =O98-T98 -> -37.8 | V98: =IF(T98<>0,IF(O98/T98*100<0,"<0",IF(O98/T98*100>200,">200",O98/T98*100))," ") -> 37 | W98: =W99+W100 -> 1485 | X98: =X99+X100 -> 1486.5 | Y98: =X98-Z98 -> 1136.5 | Z98: =Z99+Z100 -> 350 | AA98: =AA99+AA100 -> 21.5 | AB98: =AA98-AC98 -> 18.2 | AC98: =AC99+AC100 -> 3.3 | AD98: =AA98-X98 -> -1465 | AE98: =IF(X98<>0,IF(AA98/X98*100<0,"<0",IF(AA98/X98*100>200,">200",AA98/X98*100))," ") -> 1.4463505 | AF98: =AF99+AF100 -> 59.5 | AG98: =AA98-AF98 -> -38 | AH98: =IF(AF98<>0,IF(AA98/AF98*100<0,"<0",IF(AA98/AF98*100>200,">200",AA98/AF98*100))," ") -> 36.134454 | AI98: =AI99+AI100 -> 4.2 | AJ98: =AJ99+AJ100 -> 4.2 | AK98: =AK99+AK100 -> 0.3 | AL98: =AK98-AJ98 -> -3.9 | AM98: =IF(AJ98<>0,IF(AK98/AJ98*100<0,"<0",IF(AK98/AJ98*100>200,">200",AK98/AJ98*100))," ") -> 7.1428571 | AN98: =AN99+AN100 -> 0.2 | AO98: =AK98-AN98 -> 0.1 | AP98: =IF(AN98<>0,IF(AK98/AN98*100<0,"<0",IF(AK98/AN98*100>200,">200",AK98/AN98*100))," ") -> 150 | AQ98: =AQ99+AQ100 -> 31.1 | AR98: =AR99+AR100 -> 31.1 | AS98: =AS99+AS100 -> 0.4 | AT98: =AS98-AR98 -> -30.7 | AU98: =IF(AR98<>0,IF(AS98/AR98*100<0,"<0",IF(AS98/AR98*100>200,">200",AS98/AR98*100))," ") -> 1.2861736 | AV98: =AV99+AV100 -> 0.3 | AW98: =AS98-AV98 -> 0.1 | AX98: =IF(AV98<>0,IF(AS98/AV98*100<0,"<0",IF(AS98/AV98*100>200,">200",AS98/AV98*100))," ") -> 133.33333 | AY98: =AY99+AY100 -> 1479.6 | AZ98: =AZ99+AZ100 -> 1549.5 | BA98: =AZ98-BB98 -> 1547.4 | BB98: =BB99+BB100 -> 2.1 | BC98: =BC99+BC100 -> 113.1 | BD98: =BC98-BE98 -> 113.1 | BE98: =BE99+BE100 -> 0 | BF98: =BC98-AZ98 -> -1436.4 | BG98: =IF(AZ98<>0,IF(BC98/AZ98*100<0,"<0",IF(BC98/AZ98*100>200,">200",BC98/AZ98*100))," ") -> 7.2991288 | BH98: =BH99+BH100 -> 104.5 | BI98: =BC98-BH98 -> 8.6 | BJ98: =IF(BH98<>0,IF(BC98/BH98*100<0,"<0",IF(BC98/BH98*100>200,">200",BC98/BH98*100))," ") -> 108.22967
A99: Rezerve materiale ale statului | B99: 32 | C99: =M99+AY99 -> 292.7 | D99: =N99+AZ99 -> 292.7 | E99: =O99+BC99 -> 0 | F99: =AB99+AK99+AS99+BD99 -> 0 | G99: =Q99+BE99 -> 0 | H99: =E99-D99 -> -292.7 | I99: =IF(D99<>0,IF(E99/D99*100<0,"<0",IF(E99/D99*100>200,">200",E99/D99*100))," ") -> 0 | J99: =T99+BH99 -> 0 | K99: =E99-J99 -> 0 | L99: =IF(J99<>0,IF(E99/J99*100<0,"<0",IF(E99/J99*100>200,">200",E99/J99*100))," ") | M99: =W99+AI99+AQ99 -> 292.7 | N99: =X99+AJ99+AR99 -> 292.7 | O99: =AA99+AK99+AS99 -> 0 | P99: =AB99+AK99+AS99 -> 0 | Q99: =AC99 -> 0 | R99: =O99-N99 -> -292.7 | S99: =IF(N99<>0,IF(O99/N99*100<0,"<0",IF(O99/N99*100>200,">200",O99/N99*100))," ") -> 0 | T99: =AF99+AN99+AV99 -> 0 | U99: =O99-T99 -> 0 | V99: =IF(T99<>0,IF(O99/T99*100<0,"<0",IF(O99/T99*100>200,">200",O99/T99*100))," ") | W99: 292.7 | X99: 292.7 | Y99: =X99-Z99 -> 292.7 | AB99: =AA99-AC99 -> 0 | AD99: =AA99-X99 -> -292.7 | AE99: =IF(X99<>0,IF(AA99/X99*100<0,"<0",IF(AA99/X99*100>200,">200",AA99/X99*100))," ") -> 0 | AG99: =AA99-AF99 -> 0 | AH99: =IF(AF99<>0,IF(AA99/AF99*100<0,"<0",IF(AA99/AF99*100>200,">200",AA99/AF99*100))," ") | AL99: =AK99-AJ99 -> 0 | AM99: =IF(AJ99<>0,IF(AK99/AJ99*100<0,"<0",IF(AK99/AJ99*100>200,">200",AK99/AJ99*100))," ") | AO99: =AK99-AN99 -> 0 | AP99: =IF(AN99<>0,IF(AK99/AN99*100<0,"<0",IF(AK99/AN99*100>200,">200",AK99/AN99*100))," ") | AT99: =AS99-AR99 -> 0 | AU99: =IF(AR99<>0,IF(AS99/AR99*100<0,"<0",IF(AS99/AR99*100>200,">200",AS99/AR99*100))," ") | AW99: =AS99-AV99 -> 0 | AX99: =IF(AV99<>0,IF(AS99/AV99*100<0,"<0",IF(AS99/AV99*100>200,">200",AS99/AV99*100))," ") | BA99: =AZ99-BB99 -> 0 | BD99: =BC99-BE99 -> 0 | BF99: =BC99-AZ99 -> 0 | BG99: =IF(AZ99<>0,IF(BC99/AZ99*100<0,"<0",IF(BC99/AZ99*100>200,">200",BC99/AZ99*100))," ") | BI99: =BC99-BH99 -> 0 | BJ99: =IF(BH99<>0,IF(BC99/BH99*100<0,"<0",IF(BC99/BH99*100>200,">200",BC99/BH99*100))," ") | BL99: =BM99+BQ99 -> 0 | BM99: =BN99+BO99+BP99 -> 0
A100: Stocuri de materiale circulante | B100: 33 | C100: =M100+AY100 -> 2707.2 | D100: =N100+AZ100 -> 2778.6 | E100: =O100+BC100 -> 135.3 | F100: =AB100+AK100+AS100+BD100 -> 132 | G100: =Q100+BE100 -> 3.3 | H100: =E100-D100 -> -2643.3 | I100: =IF(D100<>0,IF(E100/D100*100<0,"<0",IF(E100/D100*100>200,">200",E100/D100*100))," ") -> 4.8693587 | J100: =T100+BH100 -> 164.5 | K100: =E100-J100 -> -29.2 | L100: =IF(J100<>0,IF(E100/J100*100<0,"<0",IF(E100/J100*100>200,">200",E100/J100*100))," ") -> 82.24924 | M100: =W100+AI100+AQ100 -> 1227.6 | N100: =X100+AJ100+AR100 -> 1229.1 | O100: =AA100+AK100+AS100 -> 22.2 | P100: =AB100+AK100+AS100 -> 18.9 | Q100: =AC100 -> 3.3 | R100: =O100-N100 -> -1206.9 | S100: =IF(N100<>0,IF(O100/N100*100<0,"<0",IF(O100/N100*100>200,">200",O100/N100*100))," ") -> 1.8061997 | T100: =AF100+AN100+AV100 -> 60 | U100: =O100-T100 -> -37.8 | V100: =IF(T100<>0,IF(O100/T100*100<0,"<0",IF(O100/T100*100>200,">200",O100/T100*100))," ") -> 37 | W100: 1192.3 | X100: 1193.8 | Y100: =X100-Z100 -> 843.8 | Z100: 350 | AA100: 21.5 | AB100: =AA100-AC100 -> 18.2 | AC100: 3.3 | AD100: =AA100-X100 -> -1172.3 | AE100: =IF(X100<>0,IF(AA100/X100*100<0,"<0",IF(AA100/X100*100>200,">200",AA100/X100*100))," ") -> 1.8009717 | AF100: 59.5 | AG100: =AA100-AF100 -> -38 | AH100: =IF(AF100<>0,IF(AA100/AF100*100<0,"<0",IF(AA100/AF100*100>200,">200",AA100/AF100*100))," ") -> 36.134454 | AI100: 4.2 | AJ100: 4.2 | AK100: 0.3 | AL100: =AK100-AJ100 -> -3.9 | AM100: =IF(AJ100<>0,IF(AK100/AJ100*100<0,"<0",IF(AK100/AJ100*100>200,">200",AK100/AJ100*100))," ") -> 7.1428571 | AN100: 0.2 | AO100: =AK100-AN100 -> 0.1 | AP100: =IF(AN100<>0,IF(AK100/AN100*100<0,"<0",IF(AK100/AN100*100>200,">200",AK100/AN100*100))," ") -> 150 | AQ100: 31.1 | AR100: 31.1 | AS100: 0.4 | AT100: =AS100-AR100 -> -30.7 | AU100: =IF(AR100<>0,IF(AS100/AR100*100<0,"<0",IF(AS100/AR100*100>200,">200",AS100/AR100*100))," ") -> 1.2861736 | AV100: 0.3 | AW100: =AS100-AV100 -> 0.1 | AX100: =IF(AV100<>0,IF(AS100/AV100*100<0,"<0",IF(AS100/AV100*100>200,">200",AS100/AV100*100))," ") -> 133.33333 | AY100: 1479.6 | AZ100: 1549.5 | BA100: =AZ100-BB100 -> 1547.4 | BB100: 2.1 | BC100: 113.1 | BD100: =BC100-BE100 -> 113.1 | BF100: =BC100-AZ100 -> -1436.4 | BG100: =IF(AZ100<>0,IF(BC100/AZ100*100<0,"<0",IF(BC100/AZ100*100>200,">200",BC100/AZ100*100))," ") -> 7.2991288 | BH100: 104.5 | BI100: =BC100-BH100 -> 8.6 | BJ100: =IF(BH100<>0,IF(BC100/BH100*100<0,"<0",IF(BC100/BH100*100>200,">200",BC100/BH100*100))," ") -> 108.22967 | BL100: =BM100+BQ100 -> 3.3 | BM100: =BN100+BO100+BP100 -> 0.1 | BP100: 0.1 | BQ100: 3.2
A101: Alte active nefinanciare | B101: 34+35+36+37 | C101: =M101+AY101 -> -1029.3 | D101: =N101+AZ101 -> -1039.5 | E101: =O101+BC101 -> -148.1 | F101: =AB101+AK101+AS101+BD101 -> -148.1 | G101: =Q101+BE101 -> 0 | H101: =E101-D101 -> 891.4 | I101: =IF(D101<>0,IF(E101/D101*100<0,"<0",IF(E101/D101*100>200,">200",E101/D101*100))," ") -> 14.247234 | J101: =T101+BH101 -> -23.3 | K101: =E101-J101 -> -124.8 | L101: =IF(J101<>0,IF(E101/J101*100<0,"<0",IF(E101/J101*100>200,">200",E101/J101*100))," ") -> >200 | M101: =W101+AI101+AQ101 -> 14.8 | N101: =X101+AJ101+AR101 -> 14.8 | O101: =AA101+AK101+AS101 -> 0.1 | P101: =AB101+AK101+AS101 -> 0.1 | Q101: =AC101 -> 0 | R101: =O101-N101 -> -14.7 | S101: =IF(N101<>0,IF(O101/N101*100<0,"<0",IF(O101/N101*100>200,">200",O101/N101*100))," ") -> 0.67567568 | T101: =AF101+AN101+AV101 -> 1.1 | U101: =O101-T101 -> -1 | V101: =IF(T101<>0,IF(O101/T101*100<0,"<0",IF(O101/T101*100>200,">200",O101/T101*100))," ") -> 9.0909091 | W101: =W102+W103+W104+W105 -> 13.6 | X101: =X102+X103+X104+X105 -> 13.6 | Y101: =X101-Z101 -> 13.6 | Z101: =Z102+Z103+Z104+Z105 -> 0 | AA101: =AA102+AA103+AA104+AA105 -> 0.1 | AB101: =AA101-AC101 -> 0.1 | AC101: =AC102+AC103+AC104+AC105 -> 0 | AD101: =AA101-X101 -> -13.5 | AE101: =IF(X101<>0,IF(AA101/X101*100<0,"<0",IF(AA101/X101*100>200,">200",AA101/X101*100))," ") -> 0.73529412 | AF101: =AF102+AF103+AF104+AF105 -> 1.1 | AG101: =AA101-AF101 -> -1 | AH101: =IF(AF101<>0,IF(AA101/AF101*100<0,"<0",IF(AA101/AF101*100>200,">200",AA101/AF101*100))," ") -> 9.0909091 | AI101: =AI102+AI103+AI104+AI105 -> 1.2 | AJ101: =AJ102+AJ103+AJ104+AJ105 -> 1.2 | AK101: =AK102+AK103+AK104+AK105 -> 0 | AL101: =AK101-AJ101 -> -1.2 | AM101: =IF(AJ101<>0,IF(AK101/AJ101*100<0,"<0",IF(AK101/AJ101*100>200,">200",AK101/AJ101*100))," ") -> 0 | AN101: =AN102+AN103+AN104+AN105 -> 0 | AO101: =AK101-AN101 -> 0 | AP101: =IF(AN101<>0,IF(AK101/AN101*100<0,"<0",IF(AK101/AN101*100>200,">200",AK101/AN101*100))," ") | AQ101: =AQ102+AQ103+AQ104+AQ105 -> 0 | AR101: =AR102+AR103+AR104+AR105 -> 0 | AS101: =AS102 -> 0 | AT101: =AS101-AR101 -> 0 | AU101: =IF(AR101<>0,IF(AS101/AR101*100<0,"<0",IF(AS101/AR101*100>200,">200",AS101/AR101*100))," ") | AY101: =AY102+AY103+AY104+AY105 -> -1044.1 | AZ101: =AZ102+AZ103+AZ104+AZ105 -> -1054.3 | BA101: =AZ101-BB101 -> -1054.3 | BB101: =BB102+BB103+BB104+BB105 -> 0 | BC101: =BC102+BC103+BC104+BC105 -> -148.2 | BD101: =BC101-BE101 -> -148.2 | BE101: =BE102+BE103+BE104+BE105 -> 0 | BF101: =BC101-AZ101 -> 906.1 | BG101: =IF(AZ101<>0,IF(BC101/AZ101*100<0,"<0",IF(BC101/AZ101*100>200,">200",BC101/AZ101*100))," ") -> 14.05672 | BH101: =BH102+BH103+BH104+BH105 -> -24.4 | BI101: =BC101-BH101 -> -123.8 | BJ101: =IF(BH101<>0,IF(BC101/BH101*100<0,"<0",IF(BC101/BH101*100>200,">200",BC101/BH101*100))," ") -> >200 | BL101: =BM101+BQ101 -> -1.2 | BM101: =BN101+BO101+BP101 -> 0 | BN101: 0 | BQ101: -1.2
A102: Producţie în curs de execuţie, produse și producție finită, animale tinere şi la îngrăşat | B102: 34 | C102: =M102+AY102 -> -4.6 | D102: =N102+AZ102 -> -4.6 | E102: =O102+BC102 -> -0.6 | F102: =AB102+AK102+AS102+BD102 -> -0.6 | G102: =Q102+BE102 -> 0 | H102: =E102-D102 -> 4 | I102: =IF(D102<>0,IF(E102/D102*100<0,"<0",IF(E102/D102*100>200,">200",E102/D102*100))," ") -> 13.043478 | J102: =T102+BH102 -> 0 | K102: =E102-J102 -> -0.6 | L102: =IF(J102<>0,IF(E102/J102*100<0,"<0",IF(E102/J102*100>200,">200",E102/J102*100))," ") | M102: =W102+AI102+AQ102 -> -4.6 | N102: =X102+AJ102+AR102 -> -4.6 | O102: =AA102+AK102+AS102 -> -0.6 | P102: =AB102+AK102+AS102 -> -0.6 | Q102: =AC102 -> 0 | R102: =O102-N102 -> 4 | S102: =IF(N102<>0,IF(O102/N102*100<0,"<0",IF(O102/N102*100>200,">200",O102/N102*100))," ") -> 13.043478 | T102: =AF102+AN102+AV102 -> 0 | U102: =O102-T102 -> -0.6 | V102: =IF(T102<>0,IF(O102/T102*100<0,"<0",IF(O102/T102*100>200,">200",O102/T102*100))," ") | W102: -4.6 | X102: -4.6 | Y102: =X102-Z102 -> -4.6 | AA102: -0.6 | AB102: =AA102-AC102 -> -0.6 | AD102: =AA102-X102 -> 4 | AE102: =IF(X102<>0,IF(AA102/X102*100<0,"<0",IF(AA102/X102*100>200,">200",AA102/X102*100))," ") -> 13.043478 | AG102: =AA102-AF102 -> -0.6 | AH102: =IF(AF102<>0,IF(AA102/AF102*100<0,"<0",IF(AA102/AF102*100>200,">200",AA102/AF102*100))," ") | AL102: =AK102-AJ102 -> 0 | AM102: =IF(AJ102<>0,IF(AK102/AJ102*100<0,"<0",IF(AK102/AJ102*100>200,">200",AK102/AJ102*100))," ") | AO102: =AK102-AN102 -> 0 | AP102: =IF(AN102<>0,IF(AK102/AN102*100<0,"<0",IF(AK102/AN102*100>200,">200",AK102/AN102*100))," ") | AT102: =AS102-AR102 -> 0 | AU102: =IF(AR102<>0,IF(AS102/AR102*100<0,"<0",IF(AS102/AR102*100>200,">200",AS102/AR102*100))," ") | AW102: =AS102-AV102 -> 0 | AX102: =IF(AV102<>0,IF(AS102/AV102*100<0,"<0",IF(AS102/AV102*100>200,">200",AS102/AV102*100))," ") | BA102: =AZ102-BB102 -> 0 | BD102: =BC102-BE102 -> 0 | BF102: =BC102-AZ102 -> 0 | BG102: =IF(AZ102<>0,IF(BC102/AZ102*100<0,"<0",IF(BC102/AZ102*100>200,">200",BC102/AZ102*100))," ") | BI102: =BC102-BH102 -> 0 | BJ102: =IF(BH102<>0,IF(BC102/BH102*100<0,"<0",IF(BC102/BH102*100>200,">200",BC102/BH102*100))," ") | BL102: =BM102+BQ102 -> 0 | BM102: =BN102+BO102+BP102 -> 0
...

Sheet econom
K1: Tabelul nr.2
A2: Raport privind executarea
A3: bugetului consolidat central în anul 2022
A4: =main!A1 -> la situația din 28 februarie 2022
L6: mil. lei
A7: Indicator | B7: Cod | C7: Aprobat | D7: Precizat pe an | E7: Executat anul curent | F7: inclusiv | H7: Executat față de precizat | J7: Executat anul precedent | K7: Executat anul curent faţă de anul precedent
F8: baza | G8: proiecte | H8: devieri (+,-) | I8: în % | K8: devieri (+,-) | L8: în %
A9: 1 | B9: 2 | C9: 3 | D9: 4 | E9: 5 | F9: 6 | G9: 7 | H9: 8 | I9: 9 | J9: 10 | K9: 11 | L9: 12
A10: Venituri | B10: 1 | C10: =main!M9 -> 74956.5 | D10: =main!N9 -> 74956.5 | E10: =main!O9 -> 11043.6 | F10: =main!P9 -> 11033.5 | G10: =main!Q9 -> 10.1 | H10: =main!R9 -> -63912.9 | I10: =main!S9 -> 14.733345 | J10: =main!T9 -> 9396 | ... L10: =main!V9 -> 117.53512
A11: Impozite și taxe | B11: 11 | C11: =main!M10 -> 46669.2 | D11: =main!N10 -> 46669.2 | E11: =main!O10 -> 7014.4 | F11: =main!P10 -> 7014.4 | G11: =main!Q10 -> 0 | H11: =main!R10 -> -39654.8 | I11: =main!S10 -> 15.030041 | J11: =main!T10 -> 5695.8 | ... L11: =main!V10 -> 123.15039
A12: Impozite pe venit | B12: 111 | C12: =main!M11 -> 8419.2 | D12: =main!N11 -> 8419.2 | E12: =main!O11 -> 935.2 | F12: =main!P11 -> 935.2 | G12: =main!Q11 -> 0 | H12: =main!R11 -> -7484 | I12: =main!S11 -> 11.107944 | J12: =main!T11 -> 740.7 | ... L12: =main!V11 -> 126.25894
A13: inclusiv: | J13: =main!T12 -> 0 | K13: =main!U12 -> 0 | L13: =main!AK12 -> 0
A14: Impozit pe venitul persoanelor fizice | B14: 1111 | C14: =main!M13 -> 1972.7 | D14: =main!N13 -> 1972.7 | E14: =main!O13 -> 288.6 | F14: =main!P13 -> 288.6 | G14: =main!Q13 -> 0 | H14: =main!R13 -> -1684.1 | I14: =main!S13 -> 14.629695 | J14: =main!T13 -> 256.6 | ... L14: =main!V13 -> 112.47077
A15: Impozit pe venitul persoanelor juridice | B15: 1112 | C15: =main!M14 -> 6446.5 | D15: =main!N14 -> 6446.5 | E15: =main!O14 -> 646.6 | F15: =main!P14 -> 646.6 | G15: =main!Q14 -> 0 | H15: =main!R14 -> -5799.9 | I15: =main!S14 -> 10.030249 | J15: =main!T14 -> 484.1 | ... L15: =main!V14 -> 133.56744
A16: Impozite pe proprietate | B16: 113 | C16: =main!M15 -> 47 | D16: =main!N15 -> 47 | E16: =main!O15 -> 4.9 | F16: =main!P15 -> 4.9 | G16: =main!Q15 -> 0 | H16: =main!R15 -> -42.1 | I16: =main!S15 -> 10.425532 | J16: =main!T15 -> 5.6 | ... L16: =main!V15 -> 87.5
A17: dintre care: | J17: =main!T16 -> 0 | K17: =main!U16 -> 0 | L17: =main!AK16 -> 0
A18: Impozitul funciar | B18: 1131 | D18: =main!N17 -> 0 | E18: =main!O17 -> 0 | F18: =main!P17 -> 0 | G18: =main!Q17 -> 0 | H18: =main!R17 -> 0 | I18: =main!S17 | J18: =main!T17 -> 0 | K18: =main!U17 -> 0 | L18: =main!AK17 -> 0
A19: Impozitul pe bunurile imobiliare | B19: 1132 | D19: =main!N18 -> 0 | E19: =main!O18 -> 0 | F19: =main!P18 -> 0 | G19: =main!Q18 -> 0 | H19: =main!R18 -> 0 | I19: =main!S18 | J19: =main!T18 -> 0 | K19: =main!U18 -> 0 | L19: =main!AK18 -> 0
A20: Impozite pe proprietate cu caracter ocazional | B20: 1133 | C20: =main!M19 -> 5 | D20: =main!N19 -> 5 | E20: =main!O19 -> 0 | F20: =main!P19 -> 0 | G20: =main!Q19 -> 0 | H20: =main!R19 -> -5 | I20: =main!S19 -> 0 | J20: =main!T19 -> 0.1 | ... L20: =main!V19 -> 0
A21: Alte impozite pe proprietate | B21: 1136 | C21: =main!M20 -> 42 | D21: =main!N20 -> 42 | E21: =main!O20 -> 4.9 | F21: =main!P20 -> 4.9 | G21: =main!Q20 -> 0 | H21: =main!R20 -> -37.1 | I21: =main!S20 -> 11.666667 | J21: =main!T20 -> 5.5 | ... L21: =main!V20 -> 89.090909
A22: Impozite și taxe pe mărfuri și servicii | B22: 114 | C22: =main!M21 -> 35738 | D22: =main!N21 -> 35738 | E22: =main!O21 -> 5739.4 | F22: =main!P21 -> 5739.4 | G22: =main!Q21 -> 0 | H22: =main!R21 -> -29998.6 | I22: =main!S21 -> 16.059656 | J22: =main!T21 -> 4643.5 | ... L22: =main!V21 -> 123.60073
A23: dintre care: | L23: =main!AK21 -> 0
A24: Taxa pe valoare adăugată, total | B24: 1141 | C24: =main!M23 -> 26157 | D24: =main!N23 -> 26157 | E24: =main!O23 -> 4370.6 | F24: =main!P23 -> 4370.6 | G24: =main!Q23 -> 0 | H24: =main!R23 -> -21786.4 | I24: =main!S23 -> 16.709103 | J24: =main!T23 -> 3440.1 | ... L24: =main!V23 -> 127.04863
A25: inclusiv:
A26: TVA la marfurile produse şi serviciile prestate pe teritoriul Republicii Moldova | B26: 11411 | C26: =main!M25 -> 9519 | D26: =main!N25 -> 9519 | E26: =main!O25 -> 1543.6 | F26: =main!P25 -> 1543.6 | G26: =main!Q25 -> 0 | H26: =main!R25 -> -7975.4 | I26: =main!S25 -> 16.215989 | J26: =main!T25 -> 1515.9 | ... L26: =main!V25 -> 101.8273
A27: TVA la marfurile importate | B27: 11412 | C27: =main!M26 -> 20216 | D27: =main!N26 -> 20216 | E27: =main!O26 -> 3266.2 | F27: =main!P26 -> 3266.2 | G27: =main!Q26 -> 0 | H27: =main!R26 -> -16949.8 | I27: =main!S26 -> 16.15651 | J27: =main!T26 -> 2354.4 | ... L27: =main!V26 -> 138.72749
A28: Restituirea TVA | B28: 11413 | C28: =main!M27 -> -3578 | D28: =main!N27 -> -3578 | E28: =main!O27 -> -439.2 | F28: =main!P27 -> -439.2 | G28: =main!Q27 -> 0 | H28: =main!R27 -> 3138.8 | I28: =main!S27 -> 12.275014 | J28: =main!T27 -> -430.2 | ... L28: =main!V27 -> 102.09205
A29: Accize, total | B29: 1142 | C29: =main!M28 -> 8036 | D29: =main!N28 -> 8036 | E29: =main!O28 -> 1117.6 | F29: =main!P28 -> 1117.6 | G29: =main!Q28 -> 0 | H29: =main!R28 -> -6918.4 | I29: =main!S28 -> 13.907417 | J29: =main!T28 -> 987.1 | ... L29: =main!V28 -> 113.22055
A30: inclusiv: | J30: =main!T29 -> 0
A31: Accize la marfurile produse pe teritoriul Republicii Moldova | C31: =main!M30 -> 823.2 | D31: =main!N30 -> 823.2 | E31: =main!O30 -> 196.3 | F31: =main!P30 -> 196.3 | G31: =main!Q30 -> 0 | H31: =main!R30 -> -626.9 | I31: =main!S30 -> 23.845967 | J31: =main!T30 -> 163.7 | ... L31: =main!V30 -> 119.91448
A32: Accize la marfurile importate | C32: =main!M31 -> 7227.8 | D32: =main!N31 -> 7227.8 | E32: =main!O31 -> 921.3 | F32: =main!P31 -> 921.3 | G32: =main!Q31 -> 0 | H32: =main!R31 -> -6306.5 | I32: =main!S31 -> 12.746617 | J32: =main!T31 -> 825.2 | ... L32: =main!V31 -> 111.64566
A33: Accize la produse alcoolice, vinuri și bere | B33: 11421 | D33: =main!N32 -> 535.9 | E33: =main!O32 -> 22 | F33: =main!P32 -> 22 | G33: =main!Q32 -> 0 | H33: =main!R32 -> -513.9 | I33: =main!S32 -> 4.1052435 | J33: =main!T32 -> 22
A34: Accize la produsele din tutun | B34: 11422 | D34: =main!N33 -> 1326 | E34: =main!O33 -> 88 | F34: =main!P33 -> 88 | G34: =main!Q33 -> 0 | H34: =main!R33 -> -1238 | I34: =main!S33 -> 6.6365008 | J34: =main!T33 -> 88
A35: Accize la autoturisme | B35: 11423 | D35: =main!N34 -> 585 | E35: =main!O34 -> 34.4 | F35: =main!P34 -> 34.4 | G35: =main!Q34 -> 0 | H35: =main!R34 -> -550.6 | I35: =main!S34 -> 5.8803419 | J35: =main!T34 -> 34.4
A36: Accize la produsele petroliere | B36: 11424 | D36: =main!N35 -> 1427 | E36: =main!O35 -> 91.1 | F36: =main!P35 -> 91.1 | G36: =main!Q35 -> 0 | H36: =main!R35 -> -1335.9 | I36: =main!S35 -> 6.3840224 | J36: =main!T35 -> 91.1
A37: Acciza la gazele lichefiate | B37: 11425 | D37: =main!N36 -> 173.6 | E37: =main!O36 -> 12.6 | F37: =main!P36 -> 12.6 | G37: =main!Q36 -> 0 | H37: =main!R36 -> -161 | I37: =main!S36 -> 7.2580645 | J37: =main!T36 -> 12.6
A38: Accize la bijuterii (inclusiv bijuterii cu briliante) | B38: 11426 | D38: =main!N37 -> 10.9 | E38: =main!O37 -> 0.7 | F38: =main!P37 -> 0.7 | G38: =main!Q37 -> 0 | H38: =main!R37 -> -10.2 | I38: =main!S37 -> 6.4220183 | J38: =main!T37 -> 0.7
A39: Accize la alte mărfuri | B39: 11427 | D39: =main!N38 -> 22 | E39: =main!O38 -> 1.6 | F39: =main!P38 -> 1.6 | G39: =main!Q38 -> 0 | H39: =main!R38 -> -20.4 | I39: =main!S38 -> 7.2727273 | J39: =main!T38 -> 1.6
A40: Restituirea accizelor | B40: 11429 | C40: =main!M39 -> -15 | D40: =main!N39 -> -15 | E40: =main!O39 -> 0 | F40: =main!P39 -> 0 | G40: =main!Q39 -> 0 | H40: =main!R39 -> 15 | I40: =main!S39 -> 0 | J40: =main!T39 -> -1.8 | ... L40: =main!V39 -> 0
