Workbook

Sheet podval
B1: BPN | C1: Bugetul de stat | D1: inclusiv | F1: BASS | G1: FAOAM | H1: Bugetele locale | I1: inclusiv
D2: Baza | E2: PI | I2: Baza | J2: PI
A3: DEFICIT (-) / EXCEDENT(+) mil. lei | B3: =C3+F3+G3+H3 -> #REF! | C3: =D3+E3 -> #REF! | D3: =#REF! -> #REF! | E3: =#REF! -> #REF! | F3: =#REF! -> #REF! | G3: =#REF! -> #REF! | H3: =I3+J3 -> #REF! | I3: =#REF! -> #REF! | J3: =#REF! -> #REF!
A4: devieri | B4: =B3+B5 -> #REF! | C4: =C3+C5 -> #REF! | D4: =D3+D5 -> #REF! | E4: =E3+E5 -> #REF! | F4: =F3+F5 -> #REF! | G4: =G3+G5 -> #REF! | H4: =H3+H5 -> #REF! | I4: =I3+I5 -> #REF! | J4: =J3+J5 -> #REF!
A5: Finantarea (conform metodologiei FMI) | B5: =B6+B16+B17 -> #REF! | C5: =C6+C16+C17 -> #REF! | D5: =D6+D16+D17 -> #REF! | E5: =E6+E16+E17 -> #REF! | F5: =F6+F16+F17 -> #REF! | G5: =G6+G16+G17 -> #REF! | H5: =H6+H16+H17 -> #REF! | I5: =I6+I16+I17 -> #REF! | J5: =J6+J16+J17 -> #REF!
A6: Surse interne | B6: =C6+F6+G6+H6 -> #REF! | C6: =D6+E6 -> #REF! | D6: =D7+D10+D13+D14 -> #REF! | E6: =E7+E10+E13+E14 -> #REF! | F6: =F7+F10+F13+F14 -> #REF! | G6: =G7+G10+G13+G14 -> #REF! | H6: =I6+J6 -> #REF! | I6: =I7+I10+I13+I14 -> #REF! | J6: =J7+J10+J13+J14 -> #REF!
A7: Net Banca Centrala | B7: =C7+F7+G7+H7 -> #REF! | C7: =D7+E7 -> 0 | D7: =D8+D9 -> 0 | E7: =E8+E9 -> 0 | F7: =F8+F9 -> #REF! | G7: =G8+G9 -> #REF! | H7: =I7+J7 -> #REF! | I7: =I8+I9 -> #REF! | J7: =J8+J9 -> 0
A8: Rambursarea creditelor
A9: Modificarea soldurilor la conturi | B9: =C9+F9+G9+H9 -> #REF! | C9: =D9+E9 -> 0 | F9: =#REF!-podval!F12 -> #REF! | G9: =#REF! -> #REF! | H9: =I9+J9 -> #REF! | I9: =#REF! -> #REF!
A10: Net bancile comerciale | B10: =C10+F10+G10+H10 -> 0 | C10: =D10+E10 -> 0 | D10: =D11+D12 -> 0 | E10: =E11+E12 -> 0 | F10: =F11+F12 -> 0 | G10: =G11+G12 -> 0 | H10: =I10+J10 -> 0 | I10: =I11+I12 -> 0 | J10: =J11+J12 -> 0
A11: BC VMS | B11: =C11+F11+G11+H11 -> 0 | C11: =D11+E11 -> 0
A12: BC creditarea directa | B12: =C12+F12+G12+H12 -> 0 | C12: =D12+E12 -> 0 | H12: =I12+J12 -> 0
A13: VMS nebancar | B13: =C13+F13+G13+H13 -> 0 | C13: =D13+E13 -> 0
A14: Alte surse interne | B14: =C14+F14+G14+H14 -> #REF! | C14: =D14+E14 -> #REF! | D14: =-D3-D7-D10-D13-D16-D17 -> #REF! | E14: =-E3-E7-E10-E13-E16-E17 -> #REF! | F14: =-F3-F7-F10-F13-F16-F17 -> #REF! | G14: =-G3-G7-G10-G13-G16-G17 -> #REF! | H14: =I14+J14 -> #REF! | I14: =-I3-I7-I10-I13-I16-I17 -> #REF! | J14: =-J3-J7-J10-J13-J16-J17 -> #REF!
A15: inclusiv: creditarea bugetelor de alt nivel | B15: =C15+F15+G15+H15 -> #REF! | C15: =D15+E15 -> #REF! | D15: =#REF!+#REF! -> #REF! | F15: =#REF! -> #REF! | H15: =I15+J15 -> #REF! | I15: =#REF! -> #REF!
A16: Venituri din privatizare | B16: =C16+F16+G16+H16 -> #REF! | C16: =D16+E16 -> #REF! | D16: =#REF! -> #REF! | H16: =I16+J16 -> #REF! | I16: =#REF! -> #REF!
A17: Surse externe | B17: =C17+F17+G17+H17 -> #REF! | C17: =D17+E17 -> #REF! | D17: =D18+D19 -> #REF! | E17: =E18+E19 -> #REF! | H17: =I17+J17 -> #REF! | I17: =I18+I19 -> #REF! | J17: =J18+J19 -> #REF!
A18: Primirea împrumuturilor externe | B18: =C18+F18+G18+H18 -> #REF! | C18: =D18+E18 -> #REF! | D18: =#REF! -> #REF! | E18: =#REF! -> #REF! | H18: =I18+J18 -> #REF! | I18: =#REF! -> #REF! | J18: =#REF! -> #REF!
A19: Rambursarea împrumuturilor externe | B19: =C19+F19+G19+H19 -> #REF! | C19: =D19+E19 -> #REF! | D19: =#REF! -> #REF! | E19: =#REF! -> #REF! | H19: =I19+J19 -> #REF! | I19: =#REF! -> #REF! | J19: =#REF! -> #REF!
C21: modif. sold. VMS (executat b/s 513)

Sheet main
A1: la situația din 28 februarie 2022
A3: Indicatorii | B3: COD ECO | C3: Bugetul public naţional | M3: Bugetul consolidat central | W3: inclusiv:
W4: Bugetul de stat | AI4: bugetul asigurărilor sociale de stat | AQ4: fondurile asigurărilor obligatorii de asistenţă medicală | AY4: bugetele locale
C6: Aprobat | D6: Precizat pe an | E6: Executat in perioada de gestiune | F6: inclusiv | H6: Executat față de precizat pe an | J6: Executat în perioada de gestiune 2021 | K6: Executat în perioada de gestiune 2022 faţă de perioada de gestiune 2021 | M6: Aprobat | N6: Precizat pe an | O6: Executat in perioada de gestiune | P6: inclusiv | R6: Executat față de precizat pe an | T6: Executat în perioada de gestiune 2021 | U6: Executat în perioada de gestiune 2022 faţă de perioada de gestiune 2021 | W6: Aprobat | X6: Precizat pe an | Y6: inclusiv | AA6: Executat in perioada de gestiune | AB6: inclusiv | AD6: Executat față de precizat pe an | AF6: Executat în perioada de gestiune 2021 | AG6: Executat în perioada de gestiune 2022 faţă de perioada de gestiune 2021 | AI6: Aprobat | AJ6: Precizat pe an | AK6: Executat in perioada de gestiune | AL6: Executat față de precizat pe an | AN6: Executat în perioada de gestiune 2021 | AO6: Executat în perioada de gestiune 2022 faţă de perioada de gestiune 2021 | AQ6: Aprobat | AR6: Precizat pe an | AS6: Executat in perioada de gestiune | AT6: Executat față de precizat pe an | AV6: Executat în perioada de gestiune 2021 | AW6: Executat în perioada de gestiune 2022 faţă de perioada de gestiune 2021 | AY6: Aprobat | AZ6: Precizat pe an | BA6: inclusiv | BC6: Executat in perioada de gestiune | BD6: inclusiv | BF6: Executat față de precizat pe an | BH6: Executat în perioada de gestiune 2021 | BI6: Executat în perioada de gestiune 2022 faţă de perioada de gestiune 2021
F7: baza | G7: proiecte | H7: Devieri (+,-) | I7: %% | K7: Devieri (+,-) | L7: %% | P7: baza | Q7: proiecte | R7: Devieri (+,-) | S7: %% | U7: Devieri (+,-) | V7: %% | Y7: baza | Z7: proiecte | AB7: baza | AC7: proiecte | AD7: Devieri (+,-) | AE7: %% | AG7: Devieri (+,-) | AH7: %% | AL7: Devieri (+,-) | AM7: %% | AO7: Devieri (+,-) | AP7: %% | AT7: Devieri (+,-) | AU7: %% | AW7: Devieri (+,-) | AX7: %% | BA7: baza | BB7: proiecte | BD7: baza | BE7: proiecte | BF7: Devieri (+,-) | BG7: %% | BI7: Devieri (+,-) | BJ7: %% | BL7: verificare cu 2016
A8: 1 | B8: 2 | C8: 3 | D8: 4 | E8: 5 | F8: 6 | G8: 7 | H8: 8 | I8: 9 | J8: 10 | K8: 11 | L8: 12 | M8: 13 | N8: 14 | O8: 15 | P8: 16 | Q8: 17 | R8: 18 | S8: 19 | T8: 20 | U8: 21 | V8: 22 | W8: 23 | X8: 24 | AA8: 25 | AB8: 26 | AC8: 27 | AD8: 28 | AE8: 29 | AF8: 30 | AG8: 31 | AH8: 32 | AI8: 33 | AJ8: 34 | AK8: 35 | AL8: 36 | AM8: 37 | AN8: 38 | AO8: 39 | AP8: =AO8+1 -> 40 | AQ8: 41 | AR8: 42 | AS8: 43 | AT8: 44 | AU8: 45 | AV8: 46 | AW8: 47 | AX8: =AW8+1 -> 48 | AY8: 49 | AZ8: 50 | BC8: 51 | BD8: 52 | BE8: 53 | BF8: 54 | BG8: 55 | BH8: 56 | BI8: 57 | BJ8: =BI8+1 -> 58 | BL8: BPN | BM8: BCC | BN8: BS | BO8: BASS | BP8: FAOAM | BQ8: BL
A9: Venituri | B9: 1 | C9: =M9+AY9-C69-C57 -> 80259.9 | D9: =N9+AZ9-D69-D57 -> 80692.4 | E9: =O9+BC9-E69-E57 -> 11867.1 | F9: =AB9+AK9+AS9+BD9-F68-F57+AC90-BE69 -> 11838.1 | G9: =Q9+BE9-BE69 -> 29 | H9: =E9-D9 -> -68825.3 | I9: =IF(D9<>0,IF(E9/D9*100<0,"<0",IF(E9/D9*100>200,">200",E9/D9*100))," ") -> 14.706589 | J9: =T9+BH9-J69-J57 -> 10142.5 | K9: =E9-J9 -> 1724.6 | L9: =IF(J9<>0,IF(E9/J9*100<0,"<0",IF(E9/J9*100>200,">200",E9/J9*100))," ") -> 117.0037 | M9: =M10+M47+M50+M53+M69 -> 74956.5 | N9: =N10+N47+N50+N53+N69 -> 74956.5 | O9: =O10+O47+O50+O53+O69 -> 11043.6 | P9: =P10+P47+P50+P53+P69 -> 11033.5 | Q9: =AC9 -> 10.1 | R9: =O9-N9 -> -63912.9 | S9: =IF(N9<>0,IF(O9/N9*100<0,"<0",IF(O9/N9*100>200,">200",O9/N9*100))," ") -> 14.733345 | T9: =AF9+AN9+AV9-T70 -> 9396 | U9: =O9-T9 -> 1647.6 | V9: =IF(T9<>0,IF(O9/T9*100<0,"<0",IF(O9/T9*100>200,">200",O9/T9*100))," ") -> 117.53512 | W9: =W10+W47+W50+W53+W68-W73-W74 -> 50066.6 | X9: =X10+X47+X50+X53+X68-X73-X74 -> 50066.6 | Y9: =X9-Z9 -> 49163.6 | Z9: =Z10+Z47+Z50+Z53+Z68-Z73-Z74 -> 903 | AA9: =AA10+AA47+AA50+AA53+AA68 -> 7343.3 | AB9: =AA9-AC9 -> 7333.2 | AC9: =AC10+AC47+AC50+AC53+AC68 -> 10.1 | AD9: =AD10+AD47+AD50+AD53+AD68-AD73-AD74 -> -42723.3 | AE9: =IF(X9<>0,IF(AA9/X9*100<0,"<0",IF(AA9/X9*100>200,">200",AA9/X9*100))," ") -> 14.667063 | AF9: =AF10+AF47+AF50+AF53+AF68 -> 6141.5 | AG9: =AG10+AG47+AG50+AG53+AG68 -> 1201.8 | AH9: =IF(AF9<>0,IF(AA9/AF9*100<0,"<0",IF(AA9/AF9*100>200,">200",AA9/AF9*100))," ") -> 119.56851 | AI9: =AI10+AI47+AI50+AI53+AI68-AI73-AI74 -> 31224.2 | AJ9: =AJ10+AJ47+AJ50+AJ53+AJ68-AJ73-AJ74 -> 31224.2 | AK9: =AK10+AK47+AK50+AK53+AK68 -> 5559.7 | AL9: =AL10+AL47+AL50+AL53+AL68-AL73-AL74 -> -25664.5 | AM9: =IF(AJ9<>0,IF(AK9/AJ9*100<0,"<0",IF(AK9/AJ9*100>200,">200",AK9/AJ9*100))," ") -> 17.80574 | AN9: =AN10+AN47+AN50+AN53+AN68-AN73-AN74 -> 4685.9 | AO9: =AO10+AO47+AO50+AO53+AO68 -> 873.8 | AP9: =IF(AN9<>0,IF(AK9/AN9*100<0,"<0",IF(AK9/AN9*100>200,">200",AK9/AN9*100))," ") -> 118.64743 | AQ9: =AQ10+AQ47+AQ50+AQ53+AQ68-AQ73-AQ74 -> 12287.6 | AR9: =AR10+AR47+AR50+AR53+AR68-AR73-AR74 -> 12287.6 | AS9: =AS10+AS47+AS50+AS53+AS68 -> 1482.5 | AT9: =AT10+AT47+AT50+AT53+AT68-AT73-AT74 -> -10805.1 | AU9: =IF(AR9<>0,IF(AS9/AR9*100<0,"<0",IF(AS9/AR9*100>200,">200",AS9/AR9*100))," ") -> 12.065009 | AV9: =AV10+AV47+AV50+AV53+AV68-AV73-AV74 -> 1359.5 | AW9: =AW10+AW47+AW50+AW53+AW68 -> 123 | AX9: =IF(AV9<>0,IF(AS9/AV9*100<0,"<0",IF(AS9/AV9*100>200,">200",AS9/AV9*100))," ") -> 109.04744 | AY9: =AY10+AY47+AY50+AY53+AY68 -> 19548.2 | AZ9: =AZ10+AZ47+AZ50+AZ53+AZ68 -> 20844.1 | BA9: =AZ9-BB9 -> 20755.3 | BB9: =BB10+BB47+BB50+BB53+BB68 -> 88.8 | BC9: =BC10+BC47+BC50+BC53+BC68 -> 2975.5 | BD9: =BC9-BE9 -> 2956.6 | BE9: =BE10+BE47+BE50+BE53+BE68 -> 18.9 | BF9: =BC9-AZ9 -> -17868.6 | BG9: =IF(AZ9<>0,IF(BC9/AZ9*100<0,"<0",IF(BC9/AZ9*100>200,">200",BC9/AZ9*100))," ") -> 14.275023 | BH9: =BH10+BH47+BH50+BH53+BH68-BH73-BH74 -> 2756.4 | BI9: =BI10+BI47+BI50+BI53+BI68 -> 219.1 | BJ9: =IF(BH9<>0,IF(BC9/BH9*100<0,"<0",IF(BC9/BH9*100>200,">200",BC9/BH9*100))," ") -> 107.94877 | BL9: =BM9+BQ9-BL69 -> 2582 | BM9: =BN9+BO9+BP9-BM70 -> 2381.9 | BN9: 1582.9 | BO9: 1566.3 | BP9: 248.1 | BQ9: 603.6
A10: Impozite și taxe | B10: 11 | C10: =M10+AY10 -> 51311.2 | D10: =N10+AZ10 -> 51634.1 | E10: =O10+BC10 -> 7702.9 | F10: =AB10+AK10+AS10+BD10 -> 7702.9 | G10: =Q10+BE10 -> 0 | H10: =E10-D10 -> -43931.2 | I10: =IF(D10<>0,IF(E10/D10*100<0,"<0",IF(E10/D10*100>200,">200",E10/D10*100))," ") -> 14.918242 | J10: =T10+BH10 -> 6304.2 | K10: =E10-J10 -> 1398.7 | L10: =IF(J10<>0,IF(E10/J10*100<0,"<0",IF(E10/J10*100>200,">200",E10/J10*100))," ") -> 122.1868 | M10: =W10+AI10+AQ10 -> 46669.2 | N10: =X10+AJ10+AR10 -> 46669.2 | O10: =AA10+AK10+AS10 -> 7014.4 | P10: =AB10+AK10+AS10 -> 7014.4 | Q10: =AC10 -> 0 | R10: =O10-N10 -> -39654.8 | S10: =IF(N10<>0,IF(O10/N10*100<0,"<0",IF(O10/N10*100>200,">200",O10/N10*100))," ") -> 15.030041 | T10: =AF10+AN10+AV10 -> 5695.8 | U10: =O10-T10 -> 1318.6 | V10: =IF(T10<>0,IF(O10/T10*100<0,"<0",IF(O10/T10*100>200,">200",O10/T10*100))," ") -> 123.15039 | W10: =W11+W15+W21+W43 -> 46669.2 | X10: =X11+X15+X21+X43 -> 46669.2 | Y10: =X10-Z10 -> 46669.2 | Z10: =Z11+Z15+Z21+Z43 -> 0 | AA10: =AA11+AA15+AA21+AA43 -> 7014.4 | AB10: =AA10-AC10 -> 7014.4 | AC10: =AC11+AC15+AC21+AC43 -> 0 | AD10: =AD11+AD15+AD21+AD43 -> -39654.8 | AE10: =IF(X10<>0,IF(AA10/X10*100<0,"<0",IF(AA10/X10*100>200,">200",AA10/X10*100))," ") -> 15.030041 | AF10: =AF11+AF15+AF21+AF43 -> 5695.8 | AG10: =AG11+AG15+AG21+AG43 -> 1318.6 | AH10: =IF(AF10<>0,IF(AA10/AF10*100<0,"<0",IF(AA10/AF10*100>200,">200",AA10/AF10*100))," ") -> 123.15039 | AJ10: =AJ11+AJ15+AJ21+AJ43 -> 0 | AK10: =AK11+AK15+AK21+AK43 -> 0 | AL10: =AL11+AL15+AL21+AL43 -> 0 | AM10: =IF(AJ10<>0,IF(AK10/AJ10*100<0,"<0",IF(AK10/AJ10*100>200,">200",AK10/AJ10*100))," ") | AN10: =AN11+AN15+AN21+AN43 -> 0 | AO10: =AO11+AO15+AO21+AO43 -> 0 | AP10: =IF(AN10<>0,IF(AK10/AN10*100<0,"<0",IF(AK10/AN10*100>200,">200",AK10/AN10*100))," ") | AR10: =AR11+AR15+AR21+AR43 -> 0 | AS10: =AS11+AS15+AS21+AS43 -> 0 | AT10: =AT11+AT15+AT21+AT43 -> 0 | AU10: =IF(AR10<>0,IF(AS10/AR10*100<0,"<0",IF(AS10/AR10*100>200,">200",AS10/AR10*100))," ") | AV10: =AV11+AV15+AV21+AV43 -> 0 | AW10: =AW11+AW15+AW21+AW43 -> 0 | AX10: =IF(AV10<>0,IF(AS10/AV10*100<0,"<0",IF(AS10/AV10*100>200,">200",AS10/AV10*100))," ") | AY10: =AY11+AY15+AY21+AY43 -> 4642 | AZ10: =AZ11+AZ15+AZ21+AZ43 -> 4964.9 | BA10: =AZ10-BB10 -> 4964.9 | BB10: =BB11+BB15+BB21+BB43 -> 0 | BC10: =BC11+BC15+BC21+BC43 -> 688.5 | BD10: =BC10-BE10 -> 688.5 | BE10: =BE11+BE15+BE21+BE43 -> 0 | BF10: =BF11+BF15+BF21+BF43 -> -4276.4 | BG10: =IF(AZ10<>0,IF(BC10/AZ10*100<0,"<0",IF(BC10/AZ10*100>200,">200",BC10/AZ10*100))," ") -> 13.867349 | BH10: =BH11+BH15+BH21+BH43 -> 608.4 | BI10: =BI11+BI15+BI21+BI43 -> 80.1 | BJ10: =IF(BH10<>0,IF(BC10/BH10*100<0,"<0",IF(BC10/BH10*100>200,">200",BC10/BH10*100))," ") -> 113.16568 | BL10: =BM10+BQ10 -> 1681.6 | BM10: =BN10+BO10+BP10 -> 1499.1 | BN10: 1499.1 | BO10: 0 | BP10: 0 | BQ10: 182.5
A11: Impozite pe venit | B11: 111 formula | C11: =M11+AY11 -> 11707.3 | D11: =N11+AZ11 -> 11910.1 | E11: =O11+BC11 -> 1454.6 | F11: =AB11+AK11+AS11+BD11 -> 1454.6 | G11: =Q11+BE11 -> 0 | H11: =E11-D11 -> -10455.5 | I11: =IF(D11<>0,IF(E11/D11*100<0,"<0",IF(E11/D11*100>200,">200",E11/D11*100))," ") -> 12.213164 | J11: =T11+BH11 -> 1194.5 | K11: =E11-J11 -> 260.1 | L11: =IF(J11<>0,IF(E11/J11*100<0,"<0",IF(E11/J11*100>200,">200",E11/J11*100))," ") -> 121.7748 | M11: =W11+AI11+AQ11 -> 8419.2 | N11: =X11+AJ11+AR11 -> 8419.2 | O11: =AA11+AK11+AS11 -> 935.2 | P11: =AB11+AK11+AS11 -> 935.2 | Q11: =AC11 -> 0 | R11: =O11-N11 -> -7484 | S11: =IF(N11<>0,IF(O11/N11*100<0,"<0",IF(O11/N11*100>200,">200",O11/N11*100))," ") -> 11.107944 | T11: =AF11+AN11+AV11 -> 740.7 | U11: =O11-T11 -> 194.5 | V11: =IF(T11<>0,IF(O11/T11*100<0,"<0",IF(O11/T11*100>200,">200",O11/T11*100))," ") -> 126.25894 | W11: =W13+W14 -> 8419.2 | X11: =X13+X14 -> 8419.2 | Y11: =X11-Z11 -> 8419.2 | Z11: =Z13+Z14 -> 0 | AA11: =AA13+AA14 -> 935.2 | AB11: =AA11-AC11 -> 935.2 | AC11: =AC13+AC14 -> 0 | AD11: =AA11-X11 -> -7484 | AE11: =IF(X11<>0,IF(AA11/X11*100<0,"<0",IF(AA11/X11*100>200,">200",AA11/X11*100))," ") -> 11.107944 | AF11: =AF13+AF14 -> 740.7 | AG11: =AA11-AF11 -> 194.5 | AH11: =IF(AF11<>0,IF(AA11/AF11*100<0,"<0",IF(AA11/AF11*100>200,">200",AA11/AF11*100))," ") -> 126.25894 | AJ11: =AJ13+AJ14 -> 0 | AK11: =AK13+AK14 -> 0 | AL11: =AK11-AJ11 -> 0 | AM11: =IF(AJ11<>0,IF(AK11/AJ11*100<0,"<0",IF(AK11/AJ11*100>200,">200",AK11/AJ11*100))," ") | AN11: =AN13+AN14 -> 0 | AO11: =AK11-AN11 -> 0 | AP11: =IF(AN11<>0,IF(AK11/AN11*100<0,"<0",IF(AK11/AN11*100>200,">200",AK11/AN11*100))," ") | AR11: =AR13+AR14 -> 0 | AS11: =AS13+AS14 -> 0 | AT11: =AS11-AR11 -> 0 | AU11: =IF(AR11<>0,IF(AS11/AR11*100<0,"<0",IF(AS11/AR11*100>200,">200",AS11/AR11*100))," ") | AV11: =AV13+AV14 -> 0 | AW11: =AS11-AV11 -> 0 | AX11: =IF(AV11<>0,IF(AS11/AV11*100<0,"<0",IF(AS11/AV11*100>200,">200",AS11/AV11*100))," ") | AY11: =AY13+AY14 -> 3288.1 | AZ11: =AZ13+AZ14 -> 3490.9 | BA11: =AZ11-BB11 -> 3490.9 | BC11: =BC13+BC14 -> 519.4 | BD11: =BC11-BE11 -> 519.4 | BE11: =BE13+BE14 -> 0 | BF11: =BC11-AZ11 -> -2971.5 | BG11: =IF(AZ11<>0,IF(BC11/AZ11*100<0,"<0",IF(BC11/AZ11*100>200,">200",BC11/AZ11*100))," ") -> 14.878685 | BH11: =BH13+BH14 -> 453.8 | BI11: =BC11-BH11 -> 65.6 | BJ11: =IF(BH11<>0,IF(BC11/BH11*100<0,"<0",IF(BC11/BH11*100>200,">200",BC11/BH11*100))," ") -> 114.45571 | BL11: =BM11+BQ11 -> 316.6 | BM11: =BN11+BO11+BP11 -> 215.4 | BN11: 215.4 | BO11: 0 | BP11: 0 | BQ11: 101.2
A12: inclusiv: | H12: =E12-D12 -> 0 | I12: =IF(D12<>0,IF(E12/D12*100<0,"<0",IF(E12/D12*100>200,">200",E12/D12*100))," ") | AD12: =AA12-X12 -> 0 | AE12: =IF(X12<>0,IF(AA12/X12*100<0,"<0",IF(AA12/X12*100>200,">200",AA12/X12*100))," ") | AP12: =IF(AN12<>0,IF(AK12/AN12*100<0,"<0",IF(AK12/AN12*100>200,">200",AK12/AN12*100))," ") | AU12: =IF(AR12<>0,IF(AS12/AR12*100<0,"<0",IF(AS12/AR12*100>200,">200",AS12/AR12*100))," ") | AX12: =IF(AV12<>0,IF(AS12/AV12*100<0,"<0",IF(AS12/AV12*100>200,">200",AS12/AV12*100))," ") | BA12: =AZ12-BB12 -> 0 | BL12: =BM12+BQ12 -> 0 | BM12: =BN12+BO12+BP12 -> 0
A13: Impozit pe venitul persoanelor fizice | B13: 1111 | C13: =M13+AY13 -> 5260.8 | D13: =N13+AZ13 -> 5338.1 | E13: =O13+BC13 -> 791.9 | F13: =AB13+AK13+AS13+BD13 -> 791.9 | G13: =Q13+BE13 -> 0 | H13: =E13-D13 -> -4546.2 | I13: =IF(D13<>0,IF(E13/D13*100<0,"<0",IF(E13/D13*100>200,">200",E13/D13*100))," ") -> 14.834866 | J13: =T13+BH13 -> 702.4 | K13: =E13-J13 -> 89.5 | L13: =IF(J13<>0,IF(E13/J13*100<0,"<0",IF(E13/J13*100>200,">200",E13/J13*100))," ") -> 112.74203 | M13: =W13+AI13+AQ13 -> 1972.7 | N13: =X13+AJ13+AR13 -> 1972.7 | O13: =AA13+AK13+AS13 -> 288.6 | P13: =AB13+AK13+AS13 -> 288.6 | Q13: =AC13 -> 0 | R13: =O13-N13 -> -1684.1 | S13: =IF(N13<>0,IF(O13/N13*100<0,"<0",IF(O13/N13*100>200,">200",O13/N13*100))," ") -> 14.629695 | T13: =AF13+AN13+AV13 -> 256.6 | U13: =O13-T13 -> 32 | V13: =IF(T13<>0,IF(O13/T13*100<0,"<0",IF(O13/T13*100>200,">200",O13/T13*100))," ") -> 112.47077 | W13: 1972.7 | X13: 1972.7 | Y13: =X13-Z13 -> 1972.7 | AA13: 288.6 | AB13: =AA13-AC13 -> 288.6 | AD13: =AA13-X13 -> -1684.1 | AE13: =IF(X13<>0,IF(AA13/X13*100<0,"<0",IF(AA13/X13*100>200,">200",AA13/X13*100))," ") -> 14.629695 | AF13: 256.6 | AG13: =AA13-AF13 -> 32 | AH13: =IF(AF13<>0,IF(AA13/AF13*100<0,"<0",IF(AA13/AF13*100>200,">200",AA13/AF13*100))," ") -> 112.47077 | AL13: =AK13-AJ13 -> 0 | AM13: =IF(AJ13<>0,IF(AK13/AJ13*100<0,"<0",IF(AK13/AJ13*100>200,">200",AK13/AJ13*100))," ") | AO13: =AK13-AN13 -> 0 | AP13: =IF(AN13<>0,IF(AK13/AN13*100<0,"<0",IF(AK13/AN13*100>200,">200",AK13/AN13*100))," ") | AT13: =AS13-AR13 -> 0 | AU13: =IF(AR13<>0,IF(AS13/AR13*100<0,"<0",IF(AS13/AR13*100>200,">200",AS13/AR13*100))," ") | AW13: =AS13-AV13 -> 0 | AX13: =IF(AV13<>0,IF(AS13/AV13*100<0,"<0",IF(AS13/AV13*100>200,">200",AS13/AV13*100))," ") | AY13: 3288.1 | AZ13: 3365.4 | BA13: =AZ13-BB13 -> 3365.4 | BC13: 503.3 | BD13: =BC13-BE13 -> 503.3 | BF13: =BC13-AZ13 -> -2862.1 | BG13: =IF(AZ13<>0,IF(BC13/AZ13*100<0,"<0",IF(BC13/AZ13*100>200,">200",BC13/AZ13*100))," ") -> 14.955132 | BH13: 445.8 | BI13: =BC13-BH13 -> 57.5 | BJ13: =IF(BH13<>0,IF(BC13/BH13*100<0,"<0",IF(BC13/BH13*100>200,">200",BC13/BH13*100))," ") -> 112.89816 | BL13: =BM13+BQ13 -> 186.3 | BM13: =BN13+BO13+BP13 -> 86.8 | BN13: 86.8 | BQ13: 99.5
A14: Impozit pe venitul persoanelor juridice | B14: 1112 | C14: =M14+AY14 -> 6446.5 | D14: =N14+AZ14 -> 6572 | E14: =O14+BC14 -> 662.7 | F14: =AB14+AK14+AS14+BD14 -> 662.7 | G14: =Q14+BE14 -> 0 | H14: =E14-D14 -> -5909.3 | I14: =IF(D14<>0,IF(E14/D14*100<0,"<0",IF(E14/D14*100>200,">200",E14/D14*100))," ") -> 10.083688 | J14: =T14+BH14 -> 492.1 | K14: =E14-J14 -> 170.6 | L14: =IF(J14<>0,IF(E14/J14*100<0,"<0",IF(E14/J14*100>200,">200",E14/J14*100))," ") -> 134.66775 | M14: =W14+AI14+AQ14 -> 6446.5 | N14: =X14+AJ14+AR14 -> 6446.5 | O14: =AA14+AK14+AS14 -> 646.6 | P14: =AB14+AK14+AS14 -> 646.6 | Q14: =AC14 -> 0 | R14: =O14-N14 -> -5799.9 | S14: =IF(N14<>0,IF(O14/N14*100<0,"<0",IF(O14/N14*100>200,">200",O14/N14*100))," ") -> 10.030249 | T14: =AF14+AN14+AV14 -> 484.1 | U14: =O14-T14 -> 162.5 | V14: =IF(T14<>0,IF(O14/T14*100<0,"<0",IF(O14/T14*100>200,">200",O14/T14*100))," ") -> 133.56744 | W14: 6446.5 | X14: 6446.5 | Y14: =X14-Z14 -> 6446.5 | AA14: 646.6 | AB14: =AA14-AC14 -> 646.6 | AD14: =AA14-X14 -> -5799.9 | AE14: =IF(X14<>0,IF(AA14/X14*100<0,"<0",IF(AA14/X14*100>200,">200",AA14/X14*100))," ") -> 10.030249 | AF14: 484.1 | AG14: =AA14-AF14 -> 162.5 | AH14: =IF(AF14<>0,IF(AA14/AF14*100<0,"<0",IF(AA14/AF14*100>200,">200",AA14/AF14*100))," ") -> 133.56744 | AL14: =AK14-AJ14 -> 0 | AM14: =IF(AJ14<>0,IF(AK14/AJ14*100<0,"<0",IF(AK14/AJ14*100>200,">200",AK14/AJ14*100))," ") | AO14: =AK14-AN14 -> 0 | AP14: =IF(AN14<>0,IF(AK14/AN14*100<0,"<0",IF(AK14/AN14*100>200,">200",AK14/AN14*100))," ") | AT14: =AS14-AR14 -> 0 | AU14: =IF(AR14<>0,IF(AS14/AR14*100<0,"<0",IF(AS14/AR14*100>200,">200",AS14/AR14*100))," ") | AW14: =AS14-AV14 -> 0 | AX14: =IF(AV14<>0,IF(AS14/AV14*100<0,"<0",IF(AS14/AV14*100>200,">200",AS14/AV14*100))," ") | AZ14: 125.5 | BA14: =AZ14-BB14 -> 125.5 | BC14: 16.1 | BD14: =BC14-BE14 -> 16.1 | BF14: =BC14-AZ14 -> -109.4 | BG14: =IF(AZ14<>0,IF(BC14/AZ14*100<0,"<0",IF(BC14/AZ14*100>200,">200",BC14/AZ14*100))," ") -> 12.828685 | BH14: 8 | BI14: =BC14-BH14 -> 8.1 | BJ14: =IF(BH14<>0,IF(BC14/BH14*100<0,"<0",IF(BC14/BH14*100>200,">200",BC14/BH14*100))," ") -> >200 | BL14: =BM14+BQ14 -> 130.3 | BM14: =BN14+BO14+BP14 -> 128.6 | BN14: 128.6 | BQ14: 1.7
A15: Impozite pe proprietate | B15: 113 formula | C15: =M15+AY15 -> 740.3 | D15: =N15+AZ15 -> 749.1 | E15: =O15+BC15 -> 18.8 | F15: =AB15+AK15+AS15+BD15 -> 18.8 | G15: =Q15+BE15 -> 0 | H15: =E15-D15 -> -730.3 | I15: =IF(D15<>0,IF(E15/D15*100<0,"<0",IF(E15/D15*100>200,">200",E15/D15*100))," ") -> 2.5096783 | J15: =T15+BH15 -> 24.9 | K15: =E15-J15 -> -6.1 | L15: =IF(J15<>0,IF(E15/J15*100<0,"<0",IF(E15/J15*100>200,">200",E15/J15*100))," ") -> 75.502008 | M15: =W15+AI15+AQ15 -> 47 | N15: =X15+AJ15+AR15 -> 47 | O15: =AA15+AK15+AS15 -> 4.9 | P15: =AB15+AK15+AS15 -> 4.9 | Q15: =AC15 -> 0 | R15: =O15-N15 -> -42.1 | S15: =IF(N15<>0,IF(O15/N15*100<0,"<0",IF(O15/N15*100>200,">200",O15/N15*100))," ") -> 10.425532 | T15: =AF15+AN15+AV15 -> 5.6 | U15: =O15-T15 -> -0.7 | V15: =IF(T15<>0,IF(O15/T15*100<0,"<0",IF(O15/T15*100>200,">200",O15/T15*100))," ") -> 87.5 | W15: =W17+W18+W19+W20 -> 47 | X15: =X17+X18+X19+X20 -> 47 | Y15: =X15-Z15 -> 47 | Z15: =Z17+Z18+Z19+Z20 -> 0 | AA15: =AA17+AA18+AA19+AA20 -> 4.9 | AB15: =AA15-AC15 -> 4.9 | AC15: =AC17+AC18+AC19 -> 0 | AD15: =AA15-X15 -> -42.1 | AE15: =IF(X15<>0,IF(AA15/X15*100<0,"<0",IF(AA15/X15*100>200,">200",AA15/X15*100))," ") -> 10.425532 | AF15: =AF17+AF18+AF19+AF20 -> 5.6 | AG15: =AA15-AF15 -> -0.7 | AH15: =IF(AF15<>0,IF(AA15/AF15*100<0,"<0",IF(AA15/AF15*100>200,">200",AA15/AF15*100))," ") -> 87.5 | AK15: =AK17+AK18+AK19 -> 0 | AL15: =AK15-AJ15 -> 0 | AM15: =IF(AJ15<>0,IF(AK15/AJ15*100<0,"<0",IF(AK15/AJ15*100>200,">200",AK15/AJ15*100))," ") | AN15: =AN17+AN18+AN19 -> 0 | AO15: =AK15-AN15 -> 0 | AP15: =IF(AN15<>0,IF(AK15/AN15*100<0,"<0",IF(AK15/AN15*100>200,">200",AK15/AN15*100))," ") | AS15: =AS17+AS18+AS19 -> 0 | AT15: =AS15-AR15 -> 0 | AU15: =IF(AR15<>0,IF(AS15/AR15*100<0,"<0",IF(AS15/AR15*100>200,">200",AS15/AR15*100))," ") | AW15: =AS15-AV15 -> 0 | AX15: =IF(AV15<>0,IF(AS15/AV15*100<0,"<0",IF(AS15/AV15*100>200,">200",AS15/AV15*100))," ") | AY15: =AY17+AY18+AY19 -> 693.3 | AZ15: =AZ17+AZ18+AZ19 -> 702.1 | BA15: =AZ15-BB15 -> 702.1 | BB15: =BB17+BB18+BB19 -> 0 | BC15: =BC17+BC18+BC19 -> 13.9 | BD15: =BC15-BE15 -> 13.9 | BE15: =BE17+BE18+BE19 -> 0 | BF15: =BC15-AZ15 -> -688.2 | BG15: =IF(AZ15<>0,IF(BC15/AZ15*100<0,"<0",IF(BC15/AZ15*100>200,">200",BC15/AZ15*100))," ") -> 1.979775 | BH15: =BH17+BH18+BH19+BH20 -> 19.3 | BI15: =BC15-BH15 -> -5.4 | BJ15: =IF(BH15<>0,IF(BC15/BH15*100<0,"<0",IF(BC15/BH15*100>200,">200",BC15/BH15*100))," ") -> 72.020725 | BL15: =BM15+BQ15 -> 3.8 | BM15: =BN15+BO15+BP15 -> 0 | BN15: 0 | BQ15: 3.8
A16: inclusiv: | H16: =E16-D16 -> 0 | I16: =IF(D16<>0,IF(E16/D16*100<0,"<0",IF(E16/D16*100>200,">200",E16/D16*100))," ") | T16: =AF16+AN16+AV16 -> 0 | U16: =O16-T16 -> 0 | V16: =IF(T16<>0,IF(O16/T16*100<0,"<0",IF(O16/T16*100>200,">200",O16/T16*100))," ") | AD16: =AA16-X16 -> 0 | AE16: =IF(X16<>0,IF(AA16/X16*100<0,"<0",IF(AA16/X16*100>200,">200",AA16/X16*100))," ") | AH16: =IF(AF16<>0,IF(AA16/AF16*100<0,"<0",IF(AA16/AF16*100>200,">200",AA16/AF16*100))," ") | AP16: =IF(AN16<>0,IF(AK16/AN16*100<0,"<0",IF(AK16/AN16*100>200,">200",AK16/AN16*100))," ") | AU16: =IF(AR16<>0,IF(AS16/AR16*100<0,"<0",IF(AS16/AR16*100>200,">200",AS16/AR16*100))," ") | AX16: =IF(AV16<>0,IF(AS16/AV16*100<0,"<0",IF(AS16/AV16*100>200,">200",AS16/AV16*100))," ") | BA16: =AZ16-BB16 -> 0 | BI16: =BC16-BH16 -> 0 | BJ16: =IF(BH16<>0,IF(BC16/BH16*100<0,"<0",IF(BC16/BH16*100>200,">200",BC16/BH16*100))," ") | BL16: =BM16+BQ16 -> 0 | BM16: =BN16+BO16+BP16 -> 0
A17: Impozitul funciar | B17: 1131 | C17: =M17+AY17 -> 193.6 | D17: =N17+AZ17 -> 196.3 | E17: =O17+BC17 -> 5.9 | F17: =AB17+AK17+AS17+BD17 -> 5.9 | G17: =Q17+BE17 -> 0 | H17: =E17-D17 -> -190.4 | I17: =IF(D17<>0,IF(E17/D17*100<0,"<0",IF(E17/D17*100>200,">200",E17/D17*100))," ") -> 3.0056037 | J17: =T17+BH17 -> 7.2 | K17: =E17-J17 -> -1.3 | L17: =IF(J17<>0,IF(E17/J17*100<0,"<0",IF(E17/J17*100>200,">200",E17/J17*100))," ") -> 81.944444 | M17: =W17+AI17+AQ17 -> 0 | N17: =X17+AJ17+AR17 -> 0 | O17: =AA17+AK17+AS17 -> 0 | P17: =AB17+AK17+AS17 -> 0 | Q17: =AC17 -> 0 | R17: =O17-N17 -> 0 | S17: =IF(N17<>0,IF(O17/N17*100<0,"<0",IF(O17/N17*100>200,">200",O17/N17*100))," ") | T17: =AF17+AN17+AV17 -> 0 | U17: =O17-T17 -> 0 | V17: =IF(T17<>0,IF(O17/T17*100<0,"<0",IF(O17/T17*100>200,">200",O17/T17*100))," ") | Y17: =X17-Z17 -> 0 | AB17: =AA17-AC17 -> 0 | AD17: =AA17-X17 -> 0 | AE17: =IF(X17<>0,IF(AA17/X17*100<0,"<0",IF(AA17/X17*100>200,">200",AA17/X17*100))," ") | AG17: =AA17-AF17 -> 0 | AH17: =IF(AF17<>0,IF(AA17/AF17*100<0,"<0",IF(AA17/AF17*100>200,">200",AA17/AF17*100))," ") | AP17: =IF(AN17<>0,IF(AK17/AN17*100<0,"<0",IF(AK17/AN17*100>200,">200",AK17/AN17*100))," ") | AU17: =IF(AR17<>0,IF(AS17/AR17*100<0,"<0",IF(AS17/AR17*100>200,">200",AS17/AR17*100))," ") | AX17: =IF(AV17<>0,IF(AS17/AV17*100<0,"<0",IF(AS17/AV17*100>200,">200",AS17/AV17*100))," ") | AY17: 193.6 | AZ17: 196.3 | BA17: =AZ17-BB17 -> 196.3 | BC17: 5.9 | BD17: =BC17-BE17 -> 5.9 | BF17: =BC17-AZ17 -> -190.4 | BG17: =IF(AZ17<>0,IF(BC17/AZ17*100<0,"<0",IF(BC17/AZ17*100>200,">200",BC17/AZ17*100))," ") -> 3.0056037 | BH17: 7.2 | BI17: =BC17-BH17 -> -1.3 | BJ17: =IF(BH17<>0,IF(BC17/BH17*100<0,"<0",IF(BC17/BH17*100>200,">200",BC17/BH17*100))," ") -> 81.944444 | BL17: =BM17+BQ17 -> 2.2 | BM17: =BN17+BO17+BP17 -> 0 | BQ17: 2.2
A18: Impozitul pe bunurile imobiliare | B18: 1132 | C18: =M18+AY18 -> 499 | D18: =N18+AZ18 -> 505.1 | E18: =O18+BC18 -> 6.5 | F18: =AB18+AK18+AS18+BD18 -> 6.5 | G18: =Q18+BE18 -> 0 | H18: =E18-D18 -> -498.6 | I18: =IF(D18<>0,IF(E18/D18*100<0,"<0",IF(E18/D18*100>200,">200",E18/D18*100))," ") -> 1.2868739 | J18: =T18+BH18 -> 11.8 | K18: =E18-J18 -> -5.3 | L18: =IF(J18<>0,IF(E18/J18*100<0,"<0",IF(E18/J18*100>200,">200",E18/J18*100))," ") -> 55.084746 | M18: =W18+AI18+AQ18 -> 0 | N18: =X18+AJ18+AR18 -> 0 | O18: =AA18+AK18+AS18 -> 0 | P18: =AB18+AK18+AS18 -> 0 | Q18: =AC18 -> 0 | R18: =O18-N18 -> 0 | S18: =IF(N18<>0,IF(O18/N18*100<0,"<0",IF(O18/N18*100>200,">200",O18/N18*100))," ") | T18: =AF18+AN18+AV18 -> 0 | U18: =O18-T18 -> 0 | V18: =IF(T18<>0,IF(O18/T18*100<0,"<0",IF(O18/T18*100>200,">200",O18/T18*100))," ") | Y18: =X18-Z18 -> 0 | AB18: =AA18-AC18 -> 0 | AD18: =AA18-X18 -> 0 | AE18: =IF(X18<>0,IF(AA18/X18*100<0,"<0",IF(AA18/X18*100>200,">200",AA18/X18*100))," ") | AG18: =AA18-AF18 -> 0 | AH18: =IF(AF18<>0,IF(AA18/AF18*100<0,"<0",IF(AA18/AF18*100>200,">200",AA18/AF18*100))," ") | AP18: =IF(AN18<>0,IF(AK18/AN18*100<0,"<0",IF(AK18/AN18*100>200,">200",AK18/AN18*100))," ") | AU18: =IF(AR18<>0,IF(AS18/AR18*100<0,"<0",IF(AS18/AR18*100>200,">200",AS18/AR18*100))," ") | AX18: =IF(AV18<>0,IF(AS18/AV18*100<0,"<0",IF(AS18/AV18*100>200,">200",AS18/AV18*100))," ") | AY18: 499 | AZ18: 505.1 | BA18: =AZ18-BB18 -> 505.1 | BC18: 6.5 | BD18: =BC18-BE18 -> 6.5 | BF18: =BC18-AZ18 -> -498.6 | BG18: =IF(AZ18<>0,IF(BC18/AZ18*100<0,"<0",IF(BC18/AZ18*100>200,">200",BC18/AZ18*100))," ") -> 1.2868739 | BH18: 11.8 | BI18: =BC18-BH18 -> -5.3 | BJ18: =IF(BH18<>0,IF(BC18/BH18*100<0,"<0",IF(BC18/BH18*100>200,">200",BC18/BH18*100))," ") -> 55.084746 | BL18: =BM18+BQ18 -> 1.6 | BM18: =BN18+BO18+BP18 -> 0 | BQ18: 1.6
A19: Impozite pe proprietate cu caracter ocazional | B19: 1133 | C19: =M19+AY19 -> 5.7 | D19: =N19+AZ19 -> 5.7 | E19: =O19+BC19 -> 1.5 | F19: =AB19+AK19+AS19+BD19 -> 1.5 | G19: =Q19+BE19 -> 0 | H19: =E19-D19 -> -4.2 | I19: =IF(D19<>0,IF(E19/D19*100<0,"<0",IF(E19/D19*100>200,">200",E19/D19*100))," ") -> 26.315789 | J19: =T19+BH19 -> 0.4 | K19: =E19-J19 -> 1.1 | L19: =IF(J19<>0,IF(E19/J19*100<0,"<0",IF(E19/J19*100>200,">200",E19/J19*100))," ") -> >200 | M19: =W19+AI19+AQ19 -> 5 | N19: =X19+AJ19+AR19 -> 5 | O19: =AA19+AK19+AS19 -> 0 | P19: =AB19+AK19+AS19 -> 0 | Q19: =AC19 -> 0 | R19: =O19-N19 -> -5 | S19: =IF(N19<>0,IF(O19/N19*100<0,"<0",IF(O19/N19*100>200,">200",O19/N19*100))," ") -> 0 | T19: =AF19+AN19+AV19 -> 0.1 | U19: =O19-T19 -> -0.1 | V19: =IF(T19<>0,IF(O19/T19*100<0,"<0",IF(O19/T19*100>200,">200",O19/T19*100))," ") -> 0 | W19: 5 | X19: 5 | Y19: =X19-Z19 -> 5 | AB19: =AA19-AC19 -> 0 | AD19: =AA19-X19 -> -5 | AE19: =IF(X19<>0,IF(AA19/X19*100<0,"<0",IF(AA19/X19*100>200,">200",AA19/X19*100))," ") -> 0 | AF19: 0.1 | AG19: =AA19-AF19 -> -0.1 | AH19: =IF(AF19<>0,IF(AA19/AF19*100<0,"<0",IF(AA19/AF19*100>200,">200",AA19/AF19*100))," ") -> 0 | AP19: =IF(AN19<>0,IF(AK19/AN19*100<0,"<0",IF(AK19/AN19*100>200,">200",AK19/AN19*100))," ") | AY19: 0.7 | AZ19: 0.7 | BA19: =AZ19-BB19 -> 0.7 | BC19: 1.5 | BD19: =BC19-BE19 -> 1.5 | BF19: =BC19-AZ19 -> 0.8 | BG19: =IF(AZ19<>0,IF(BC19/AZ19*100<0,"<0",IF(BC19/AZ19*100>200,">200",BC19/AZ19*100))," ") -> >200 | BH19: 0.3 | BI19: =BC19-BH19 -> 1.2 | BJ19: =IF(BH19<>0,IF(BC19/BH19*100<0,"<0",IF(BC19/BH19*100>200,">200",BC19/BH19*100))," ") -> >200 | BL19: =BM19+BQ19 -> 0 | BM19: =BN19+BO19+BP19 -> 0
A20: Alte impozite pe proprietate | B20: 1136 | C20: =M20+AY20 -> 42 | D20: =N20+AZ20 -> 42 | E20: =O20+BC20 -> 4.9 | H20: =E20-D20 -> -37.1 | I20: =IF(D20<>0,IF(E20/D20*100<0,"<0",IF(E20/D20*100>200,">200",E20/D20*100))," ") -> 11.666667 | J20: =T20+BH20 -> 5.5 | K20: =E20-J20 -> -0.6 | L20: =IF(J20<>0,IF(E20/J20*100<0,"<0",IF(E20/J20*100>200,">200",E20/J20*100))," ") -> 89.090909 | M20: =W20+AI20+AQ20 -> 42 | N20: =X20+AJ20+AR20 -> 42 | O20: =AA20+AK20+AS20 -> 4.9 | P20: =AB20+AK20+AS20 -> 4.9 | Q20: =AC20 -> 0 | R20: =O20-N20 -> -37.1 | S20: =IF(N20<>0,IF(O20/N20*100<0,"<0",IF(O20/N20*100>200,">200",O20/N20*100))," ") -> 11.666667 | T20: =AF20+AN20+AV20 -> 5.5 | U20: =O20-T20 -> -0.6 | V20: =IF(T20<>0,IF(O20/T20*100<0,"<0",IF(O20/T20*100>200,">200",O20/T20*100))," ") -> 89.090909 | W20: 42 | X20: 42 | Y20: =X20-Z20 -> 42 | AA20: 4.9 | AB20: =AA20-AC20 -> 4.9 | AD20: =AA20-X20 -> -37.1 | AE20: =IF(X20<>0,IF(AA20/X20*100<0,"<0",IF(AA20/X20*100>200,">200",AA20/X20*100))," ") -> 11.666667 | AF20: 5.5 | AG20: =AA20-AF20 -> -0.6 | AH20: =IF(AF20<>0,IF(AA20/AF20*100<0,"<0",IF(AA20/AF20*100>200,">200",AA20/AF20*100))," ") -> 89.090909 | AP20: =IF(AN20<>0,IF(AK20/AN20*100<0,"<0",IF(AK20/AN20*100>200,">200",AK20/AN20*100))," ") | BA20: =AZ20-BB20 -> 0 | BJ20: =IF(BH20<>0,IF(BC20/BH20*100<0,"<0",IF(BC20/BH20*100>200,">200",BC20/BH20*100))," ") | BL20: =BM20+BQ20 -> 0 | BM20: =BN20+BO20+BP20 -> 0
A21: Impozite și taxe pe mărfuri și servicii | B21: 114 formula | C21: =M21+AY21 -> 36398.6 | D21: =N21+AZ21 -> 36509.9 | E21: =O21+BC21 -> 5894.6 | F21: =AB21+AK21+AS21+BD21 -> 5894.6 | G21: =Q21+BE21 -> 0 | H21: =E21-D21 -> -30615.3 | I21: =IF(D21<>0,IF(E21/D21*100<0,"<0",IF(E21/D21*100>200,">200",E21/D21*100))," ") -> 16.14521 | J21: =T21+BH21 -> 4778.8 | K21: =E21-J21 -> 1115.8 | L21: =IF(J21<>0,IF(E21/J21*100<0,"<0",IF(E21/J21*100>200,">200",E21/J21*100))," ") -> 123.34896 | M21: =W21+AI21+AQ21 -> 35738 | N21: =X21+AJ21+AR21 -> 35738 | O21: =AA21+AK21+AS21 -> 5739.4 | P21: =AB21+AK21+AS21 -> 5739.4 | Q21: =AC21 -> 0 | R21: =O21-N21 -> -29998.6 | S21: =IF(N21<>0,IF(O21/N21*100<0,"<0",IF(O21/N21*100>200,">200",O21/N21*100))," ") -> 16.059656 | T21: =AF21+AN21+AV21 -> 4643.5 | U21: =O21-T21 -> 1095.9 | V21: =IF(T21<>0,IF(O21/T21*100<0,"<0",IF(O21/T21*100>200,">200",O21/T21*100))," ") -> 123.60073 | W21: =W23+W28+W40+W41+W42 -> 35738 | X21: =X23+X28+X40+X41+X42 -> 35738 | Y21: =X21-Z21 -> 35738 | Z21: =Z23+Z28+Z40+Z41+Z42 -> 0 | AA21: =AA23+AA28+AA40+AA41+AA42 -> 5739.4 | AB21: =AA21-AC21 -> 5739.4 | AC21: =AC23+AC28+AC40+AC41+AC42 -> 0 | AD21: =AA21-X21 -> -29998.6 | AE21: =IF(X21<>0,IF(AA21/X21*100<0,"<0",IF(AA21/X21*100>200,">200",AA21/X21*100))," ") -> 16.059656 | AF21: =AF23+AF28+AF40+AF41+AF42 -> 4643.5 | AG21: =AA21-AF21 -> 1095.9 | AH21: =IF(AF21<>0,IF(AA21/AF21*100<0,"<0",IF(AA21/AF21*100>200,">200",AA21/AF21*100))," ") -> 123.60073 | AK21: =AK23+AK28+AK40+AK41+AK42 -> 0 | AL21: =AK21-AJ21 -> 0 | AM21: =IF(AJ21<>0,IF(AK21/AJ21*100<0,"<0",IF(AK21/AJ21*100>200,">200",AK21/AJ21*100))," ") | AN21: =AN23+AN28+AN40+AN41+AN42 -> 0 | AO21: =AK21-AN21 -> 0 | AP21: =IF(AN21<>0,IF(AK21/AN21*100<0,"<0",IF(AK21/AN21*100>200,">200",AK21/AN21*100))," ") | AS21: =AS23+AS28+AS40+AS41+AS42 -> 0 | AT21: =AS21-AR21 -> 0 | AU21: =IF(AR21<>0,IF(AS21/AR21*100<0,"<0",IF(AS21/AR21*100>200,">200",AS21/AR21*100))," ") | AW21: =AS21-AV21 -> 0 | AX21: =IF(AV21<>0,IF(AS21/AV21*100<0,"<0",IF(AS21/AV21*100>200,">200",AS21/AV21*100))," ") | AY21: =AY23+AY28+AY40+AY41+AY42 -> 660.6 | AZ21: =AZ23+AZ28+AZ40+AZ41+AZ42 -> 771.9 | BA21: =AZ21-BB21 -> 771.9 | BB21: =BB23+BB28+BB40+BB41+BB42 -> 0 | BC21: =BC23+BC28+BC40+BC41+BC42 -> 155.2 | BD21: =BC21-BE21 -> 155.2 | BE21: =BE23+BE28+BE40+BE41+BE42 -> 0 | BF21: =BC21-AZ21 -> -616.7 | BG21: =IF(AZ21<>0,IF(BC21/AZ21*100<0,"<0",IF(BC21/AZ21*100>200,">200",BC21/AZ21*100))," ") -> 20.106231 | BH21: =BH23+BH28+BH40+BH41+BH42 -> 135.3 | BI21: =BC21-BH21 -> 19.9 | BJ21: =IF(BH21<>0,IF(BC21/BH21*100<0,"<0",IF(BC21/BH21*100>200,">200",BC21/BH21*100))," ") -> 114.70806 | BL21: =BM21+BQ21 -> 1293.5 | BM21: =BN21+BO21+BP21 -> 1216 | BN21: 1216 | BQ21: 77.5
A22: inclusiv: | H22: =E22-D22 -> 0 | I22: =IF(D22<>0,IF(E22/D22*100<0,"<0",IF(E22/D22*100>200,">200",E22/D22*100))," ") | AD22: =AA22-X22 -> 0 | AE22: =IF(X22<>0,IF(AA22/X22*100<0,"<0",IF(AA22/X22*100>200,">200",AA22/X22*100))," ") | AP22: =IF(AN22<>0,IF(AK22/AN22*100<0,"<0",IF(AK22/AN22*100>200,">200",AK22/AN22*100))," ") | AU22: =IF(AR22<>0,IF(AS22/AR22*100<0,"<0",IF(AS22/AR22*100>200,">200",AS22/AR22*100))," ") | AX22: =IF(AV22<>0,IF(AS22/AV22*100<0,"<0",IF(AS22/AV22*100>200,">200",AS22/AV22*100))," ") | BA22: =AZ22-BB22 -> 0 | BL22: =BM22+BQ22 -> 0 | BM22: =BN22+BO22+BP22 -> 0 | BO22: 0 | BP22: 0
A23: Taxa pe valoarea adaugata, total | B23: 1141 formula | C23: =M23+AY23 -> 26157 | D23: =N23+AZ23 -> 26255.3 | E23: =O23+BC23 -> 4394.2 | F23: =AB23+AK23+AS23+BD23 -> 4394.2 | G23: =Q23+BE23 -> 0 | H23: =E23-D23 -> -21861.1 | I23: =IF(D23<>0,IF(E23/D23*100<0,"<0",IF(E23/D23*100>200,">200",E23/D23*100))," ") -> 16.73643 | J23: =T23+BH23 -> 3457.7 | K23: =E23-J23 -> 936.5 | L23: =IF(J23<>0,IF(E23/J23*100<0,"<0",IF(E23/J23*100>200,">200",E23/J23*100))," ") -> 127.08448 | M23: =W23+AI23+AQ23 -> 26157 | N23: =X23+AJ23+AR23 -> 26157 | O23: =AA23+AK23+AS23 -> 4370.6 | P23: =AB23+AK23+AS23 -> 4370.6 | Q23: =AC23 -> 0 | R23: =O23-N23 -> -21786.4 | S23: =IF(N23<>0,IF(O23/N23*100<0,"<0",IF(O23/N23*100>200,">200",O23/N23*100))," ") -> 16.709103 | T23: =AF23+AN23+AV23 -> 3440.1 | U23: =O23-T23 -> 930.5 | V23: =IF(T23<>0,IF(O23/T23*100<0,"<0",IF(O23/T23*100>200,">200",O23/T23*100))," ") -> 127.04863 | W23: =SUM(W25:W27) -> 26157 | X23: =SUM(X25:X27) -> 26157 | Y23: =X23-Z23 -> 26157 | Z23: =SUM(Z25:Z27) -> 0 | AA23: =SUM(AA25:AA27) -> 4370.6 | AB23: =AA23-AC23 -> 4370.6 | AC23: =SUM(AC25:AC27) -> 0 | AD23: =AA23-X23 -> -21786.4 | AE23: =IF(X23<>0,IF(AA23/X23*100<0,"<0",IF(AA23/X23*100>200,">200",AA23/X23*100))," ") -> 16.709103 | AF23: =SUM(AF25:AF27) -> 3440.1 | AG23: =AA23-AF23 -> 930.5 | AH23: =IF(AF23<>0,IF(AA23/AF23*100<0,"<0",IF(AA23/AF23*100>200,">200",AA23/AF23*100))," ") -> 127.04863 | AJ23: =SUM(AJ25:AJ27) -> 0 | AK23: =SUM(AK25:AK27) -> 0 | AL23: =SUM(AL25:AL27) -> 0 | AM23: =IF(AJ23<>0,IF(AK23/AJ23*100<0,"<0",IF(AK23/AJ23*100>200,">200",AK23/AJ23*100))," ") | AN23: =SUM(AN25:AN27) -> 0 | AO23: =AK23-AN23 -> 0 | AP23: =IF(AN23<>0,IF(AK23/AN23*100<0,"<0",IF(AK23/AN23*100>200,">200",AK23/AN23*100))," ") | AR23: =SUM(AR25:AR27) -> 0 | AS23: =SUM(AS25:AS27) -> 0 | AT23: =SUM(AT25:AT27) -> 0 | AU23: =IF(AR23<>0,IF(AS23/AR23*100<0,"<0",IF(AS23/AR23*100>200,">200",AS23/AR23*100))," ") | AV23: =SUM(AV25:AV27) -> 0 | AW23: =AS23-AV23 -> 0 | AX23: =IF(AV23<>0,IF(AS23/AV23*100<0,"<0",IF(AS23/AV23*100>200,">200",AS23/AV23*100))," ") | AY23: =SUM(AY25:AY27) -> 0 | AZ23: =SUM(AZ25:AZ27) -> 98.3 | BA23: =AZ23-BB23 -> 98.3 | BB23: =SUM(BB25:BB27) -> 0 | BC23: =SUM(BC25:BC27) -> 23.6 | BD23: =BC23-BE23 -> 23.6 | BE23: =SUM(BE25:BE27) -> 0 | BF23: =SUM(BF25:BF27) -> -74.7 | BG23: =IF(AZ23<>0,IF(BC23/AZ23*100<0,"<0",IF(BC23/AZ23*100>200,">200",BC23/AZ23*100))," ") -> 24.008138 | BH23: =SUM(BH25:BH27) -> 17.6 | BI23: =BC23-BH23 -> 6 | BJ23: =IF(BH23<>0,IF(BC23/BH23*100<0,"<0",IF(BC23/BH23*100>200,">200",BC23/BH23*100))," ") -> 134.09091 | BL23: =BM23+BQ23 -> 917.5 | BM23: =BN23+BO23+BP23 -> 914.5 | BN23: 914.5 | BQ23: 3
A24: dintre care: | H24: =E24-D24 -> 0 | I24: =IF(D24<>0,IF(E24/D24*100<0,"<0",IF(E24/D24*100>200,">200",E24/D24*100))," ") | U24: =O24-T24 -> 0 | AD24: =AA24-X24 -> 0 | AE24: =IF(X24<>0,IF(AA24/X24*100<0,"<0",IF(AA24/X24*100>200,">200",AA24/X24*100))," ") | AP24: =IF(AN24<>0,IF(AK24/AN24*100<0,"<0",IF(AK24/AN24*100>200,">200",AK24/AN24*100))," ") | AU24: =IF(AR24<>0,IF(AS24/AR24*100<0,"<0",IF(AS24/AR24*100>200,">200",AS24/AR24*100))," ") | AX24: =IF(AV24<>0,IF(AS24/AV24*100<0,"<0",IF(AS24/AV24*100>200,">200",AS24/AV24*100))," ") | BA24: =AZ24-BB24 -> 0 | BL24: =BM24+BQ24 -> 0 | BM24: =BN24+BO24+BP24 -> 0
A25: TVA la marfurile produse şi serviciile prestate pe teritoriul Republicii Moldova | B25: 11411 | C25: =M25+AY25 -> 9519 | D25: =N25+AZ25 -> 9617.3 | E25: =O25+BC25 -> 1567.2 | F25: =AB25+AK25+AS25+BD25 -> 1567.2 | G25: =Q25+BE25 -> 0 | H25: =E25-D25 -> -8050.1 | I25: =IF(D25<>0,IF(E25/D25*100<0,"<0",IF(E25/D25*100>200,">200",E25/D25*100))," ") -> 16.295634 | J25: =T25+BH25 -> 1533.5 | K25: =E25-J25 -> 33.7 | L25: =IF(J25<>0,IF(E25/J25*100<0,"<0",IF(E25/J25*100>200,">200",E25/J25*100))," ") -> 102.19759 | M25: =W25+AI25+AQ25 -> 9519 | N25: =X25+AJ25+AR25 -> 9519 | O25: =AA25+AK25+AS25 -> 1543.6 | P25: =AB25+AK25+AS25 -> 1543.6 | Q25: =AC25 -> 0 | R25: =O25-N25 -> -7975.4 | S25: =IF(N25<>0,IF(O25/N25*100<0,"<0",IF(O25/N25*100>200,">200",O25/N25*100))," ") -> 16.215989 | T25: =AF25+AN25+AV25 -> 1515.9 | U25: =O25-T25 -> 27.7 | V25: =IF(T25<>0,IF(O25/T25*100<0,"<0",IF(O25/T25*100>200,">200",O25/T25*100))," ") -> 101.8273 | W25: 9519 | X25: 9519 | Y25: =X25-Z25 -> 9519 | AA25: 1543.6 | AB25: =AA25-AC25 -> 1543.6 | AD25: =AA25-X25 -> -7975.4 | AE25: =IF(X25<>0,IF(AA25/X25*100<0,"<0",IF(AA25/X25*100>200,">200",AA25/X25*100))," ") -> 16.215989 | AF25: 1515.9 | AG25: =AA25-AF25 -> 27.7 | AH25: =IF(AF25<>0,IF(AA25/AF25*100<0,"<0",IF(AA25/AF25*100>200,">200",AA25/AF25*100))," ") -> 101.8273 | AL25: =AK25-AJ25 -> 0 | AM25: =IF(AJ25<>0,IF(AK25/AJ25*100<0,"<0",IF(AK25/AJ25*100>200,">200",AK25/AJ25*100))," ") | AO25: =AK25-AN25 -> 0 | AP25: =IF(AN25<>0,IF(AK25/AN25*100<0,"<0",IF(AK25/AN25*100>200,">200",AK25/AN25*100))," ") | AT25: =AS25-AR25 -> 0 | AU25: =IF(AR25<>0,IF(AS25/AR25*100<0,"<0",IF(AS25/AR25*100>200,">200",AS25/AR25*100))," ") | AW25: =AS25-AV25 -> 0 | AX25: =IF(AV25<>0,IF(AS25/AV25*100<0,"<0",IF(AS25/AV25*100>200,">200",AS25/AV25*100))," ") | AZ25: 98.3 | BA25: =AZ25-BB25 -> 98.3 | BC25: 23.6 | BD25: =BC25-BE25 -> 23.6 | BF25: =BC25-AZ25 -> -74.7 | BG25: =IF(AZ25<>0,IF(BC25/AZ25*100<0,"<0",IF(BC25/AZ25*100>200,">200",BC25/AZ25*100))," ") -> 24.008138 | BH25: 17.6 | BI25: =BC25-BH25 -> 6 | BJ25: =IF(BH25<>0,IF(BC25/BH25*100<0,"<0",IF(BC25/BH25*100>200,">200",BC25/BH25*100))," ") -> 134.09091 | BL25: =BM25+BQ25 -> 417.3 | BM25: =BN25+BO25+BP25 -> 414.3 | BN25: 414.3 | BQ25: 3
A26: TVA la marfurile importate | B26: 11412 | C26: =M26+AY26 -> 20216 | D26: =N26+AZ26 -> 20216 | E26: =O26+BC26 -> 3266.2 | F26: =AB26+AK26+AS26+BD26 -> 3266.2 | G26: =Q26+BE26 -> 0 | H26: =E26-D26 -> -16949.8 | I26: =IF(D26<>0,IF(E26/D26*100<0,"<0",IF(E26/D26*100>200,">200",E26/D26*100))," ") -> 16.15651 | J26: =T26+BH26 -> 2354.4 | K26: =E26-J26 -> 911.8 | L26: =IF(J26<>0,IF(E26/J26*100<0,"<0",IF(E26/J26*100>200,">200",E26/J26*100))," ") -> 138.72749 | M26: =W26+AI26+AQ26 -> 20216 | N26: =X26+AJ26+AR26 -> 20216 | O26: =AA26+AK26+AS26 -> 3266.2 | P26: =AB26+AK26+AS26 -> 3266.2 | Q26: =AC26 -> 0 | R26: =O26-N26 -> -16949.8 | S26: =IF(N26<>0,IF(O26/N26*100<0,"<0",IF(O26/N26*100>200,">200",O26/N26*100))," ") -> 16.15651 | T26: =AF26+AN26+AV26 -> 2354.4 | U26: =O26-T26 -> 911.8 | V26: =IF(T26<>0,IF(O26/T26*100<0,"<0",IF(O26/T26*100>200,">200",O26/T26*100))," ") -> 138.72749 | W26: 20216 | X26: 20216 | Y26: =X26-Z26 -> 20216 | AA26: 3266.2 | AB26: =AA26-AC26 -> 3266.2 | AD26: =AA26-X26 -> -16949.8 | AE26: =IF(X26<>0,IF(AA26/X26*100<0,"<0",IF(AA26/X26*100>200,">200",AA26/X26*100))," ") -> 16.15651 | AF26: 2354.4 | AG26: =AA26-AF26 -> 911.8 | AH26: =IF(AF26<>0,IF(AA26/AF26*100<0,"<0",IF(AA26/AF26*100>200,">200",AA26/AF26*100))," ") -> 138.72749 | AL26: =AK26-AJ26 -> 0 | AM26: =IF(AJ26<>0,IF(AK26/AJ26*100<0,"<0",IF(AK26/AJ26*100>200,">200",AK26/AJ26*100))," ") | AO26: =AK26-AN26 -> 0 | AP26: =IF(AN26<>0,IF(AK26/AN26*100<0,"<0",IF(AK26/AN26*100>200,">200",AK26/AN26*100))," ") | AT26: =AS26-AR26 -> 0 | AU26: =IF(AR26<>0,IF(AS26/AR26*100<0,"<0",IF(AS26/AR26*100>200,">200",AS26/AR26*100))," ") | AW26: =AS26-AV26 -> 0 | AX26: =IF(AV26<>0,IF(AS26/AV26*100<0,"<0",IF(AS26/AV26*100>200,">200",AS26/AV26*100))," ") | BA26: =AZ26-BB26 -> 0 | BD26: =BC26-BE26 -> 0 | BF26: =BC26-AZ26 -> 0 | BG26: =IF(AZ26<>0,IF(BC26/AZ26*100<0,"<0",IF(BC26/AZ26*100>200,">200",BC26/AZ26*100))," ") | BI26: =BC26-BH26 -> 0 | BJ26: =IF(BH26<>0,IF(BC26/BH26*100<0,"<0",IF(BC26/BH26*100>200,">200",BC26/BH26*100))," ") | BL26: =BM26+BQ26 -> 514.3 | BM26: =BN26+BO26+BP26 -> 514.3 | BN26: 514.3
A27: Restituirea TVA | B27: 11413 | C27: =M27+AY27 -> -3578 | D27: =N27+AZ27 -> -3578 | E27: =O27+BC27 -> -439.2 | F27: =AB27+AK27+AS27+BD27 -> -439.2 | G27: =Q27+BE27 -> 0 | H27: =E27-D27 -> 3138.8 | I27: =IF(D27<>0,IF(E27/D27*100<0,"<0",IF(E27/D27*100>200,">200",E27/D27*100))," ") -> 12.275014 | J27: =T27+BH27 -> -430.2 | K27: =E27-J27 -> -9 | L27: =IF(J27<>0,IF(E27/J27*100<0,"<0",IF(E27/J27*100>200,">200",E27/J27*100))," ") -> 102.09205 | M27: =W27+AI27+AQ27 -> -3578 | N27: =X27+AJ27+AR27 -> -3578 | O27: =AA27+AK27+AS27 -> -439.2 | P27: =AB27+AK27+AS27 -> -439.2 | Q27: =AC27 -> 0 | R27: =O27-N27 -> 3138.8 | S27: =IF(N27<>0,IF(O27/N27*100<0,"<0",IF(O27/N27*100>200,">200",O27/N27*100))," ") -> 12.275014 | T27: =AF27+AN27+AV27 -> -430.2 | U27: =O27-T27 -> -9 | V27: =IF(T27<>0,IF(O27/T27*100<0,"<0",IF(O27/T27*100>200,">200",O27/T27*100))," ") -> 102.09205 | W27: -3578 | X27: -3578 | Y27: =X27-Z27 -> -3578 | AA27: -439.2 | AB27: =AA27-AC27 -> -439.2 | AD27: =AA27-X27 -> 3138.8 | AE27: =IF(X27<>0,IF(AA27/X27*100<0,"<0",IF(AA27/X27*100>200,">200",AA27/X27*100))," ") -> 12.275014 | AF27: -430.2 | AG27: =AA27-AF27 -> -9 | AH27: =IF(AF27<>0,IF(AA27/AF27*100<0,"<0",IF(AA27/AF27*100>200,">200",AA27/AF27*100))," ") -> 102.09205 | AL27: =AK27-AJ27 -> 0 | AM27: =IF(AJ27<>0,IF(AK27/AJ27*100<0,"<0",IF(AK27/AJ27*100>200,">200",AK27/AJ27*100))," ") | AO27: =AK27-AN27 -> 0 | AP27: =IF(AN27<>0,IF(AK27/AN27*100<0,"<0",IF(AK27/AN27*100>200,">200",AK27/AN27*100))," ") | AT27: =AS27-AR27 -> 0 | AU27: =IF(AR27<>0,IF(AS27/AR27*100<0,"<0",IF(AS27/AR27*100>200,">200",AS27/AR27*100))," ") | AW27: =AS27-AV27 -> 0 | AX27: =IF(AV27<>0,IF(AS27/AV27*100<0,"<0",IF(AS27/AV27*100>200,">200",AS27/AV27*100))," ") | BA27: =AZ27-BB27 -> 0 | BD27: =BC27-BE27 -> 0 | BF27: =BC27-AZ27 -> 0 | BG27: =IF(AZ27<>0,IF(BC27/AZ27*100<0,"<0",IF(BC27/AZ27*100>200,">200",BC27/AZ27*100))," ") | BI27: =BC27-BH27 -> 0 | BJ27: =IF(BH27<>0,IF(BC27/BH27*100<0,"<0",IF(BC27/BH27*100>200,">200",BC27/BH27*100))," ") | BL27: =BM27+BQ27 -> -14.1 | BM27: =BN27+BO27+BP27 -> -14.1 | BN27: -14.1
A28: Accize, total | B28: 1142 formula | C28: =M28+AY28 -> 8036 | D28: =N28+AZ28 -> 8039.2 | E28: =O28+BC28 -> 1119.2 | F28: =AB28+AK28+AS28+BD28 -> 1119.2 | G28: =Q28+BE28 -> 0 | H28: =E28-D28 -> -6920 | I28: =IF(D28<>0,IF(E28/D28*100<0,"<0",IF(E28/D28*100>200,">200",E28/D28*100))," ") -> 13.921783 | J28: =T28+BH28 -> 987.7 | K28: =E28-J28 -> 131.5 | L28: =IF(J28<>0,IF(E28/J28*100<0,"<0",IF(E28/J28*100>200,">200",E28/J28*100))," ") -> 113.31376 | M28: =W28+AI28+AQ28 -> 8036 | N28: =X28+AJ28+AR28 -> 8036 | O28: =AA28+AK28+AS28 -> 1117.6 | P28: =AB28+AK28+AS28 -> 1117.6 | Q28: =AC28 -> 0 | R28: =O28-N28 -> -6918.4 | S28: =IF(N28<>0,IF(O28/N28*100<0,"<0",IF(O28/N28*100>200,">200",O28/N28*100))," ") -> 13.907417 | T28: =AF28+AN28+AV28 -> 987.1 | U28: =O28-T28 -> 130.5 | V28: =IF(T28<>0,IF(O28/T28*100<0,"<0",IF(O28/T28*100>200,">200",O28/T28*100))," ") -> 113.22055 | W28: =W30+W31+W39 -> 8036 | X28: =X30+X31+X39 -> 8036 | Y28: =X28-Z28 -> 8036 | Z28: =Z30+Z31+Z39 -> 0 | AA28: =AA30+AA31+AA39 -> 1117.6 | AB28: =AA28-AC28 -> 1117.6 | AC28: =AC30+AC31+AC39 -> 0 | AD28: =AA28-X28 -> -6918.4 | AE28: =IF(X28<>0,IF(AA28/X28*100<0,"<0",IF(AA28/X28*100>200,">200",AA28/X28*100))," ") -> 13.907417 | AF28: =AF30+AF31+AF39 -> 987.1 | AG28: =AA28-AF28 -> 130.5 | AH28: =IF(AF28<>0,IF(AA28/AF28*100<0,"<0",IF(AA28/AF28*100>200,">200",AA28/AF28*100))," ") -> 113.22055 | AK28: =AK30+AK31+AK39 -> 0 | AL28: =AK28-AJ28 -> 0 | AM28: =IF(AJ28<>0,IF(AK28/AJ28*100<0,"<0",IF(AK28/AJ28*100>200,">200",AK28/AJ28*100))," ") | AO28: =AK28-AN28 -> 0 | AP28: =IF(AN28<>0,IF(AK28/AN28*100<0,"<0",IF(AK28/AN28*100>200,">200",AK28/AN28*100))," ") | AS28: =AS30+AS31+AS39 -> 0 | AT28: =AS28-AR28 -> 0 | AU28: =IF(AR28<>0,IF(AS28/AR28*100<0,"<0",IF(AS28/AR28*100>200,">200",AS28/AR28*100))," ") | AW28: =AS28-AV28 -> 0 | AX28: =IF(AV28<>0,IF(AS28/AV28*100<0,"<0",IF(AS28/AV28*100>200,">200",AS28/AV28*100))," ") | AY28: =AY30+AY31+AY39 -> 0 | AZ28: =AZ30+AZ31+AZ39 -> 3.2 | BA28: =AZ28-BB28 -> 3.2 | BB28: =BB30+BB31+BB39 -> 0 | BC28: =BC30+BC31+BC39 -> 1.6 | BD28: =BC28-BE28 -> 1.6 | BE28: =BE30+BE31+BE39 -> 0 | BF28: =BC28-AZ28 -> -1.6 | BG28: =IF(AZ28<>0,IF(BC28/AZ28*100<0,"<0",IF(BC28/AZ28*100>200,">200",BC28/AZ28*100))," ") -> 50 | BH28: =BH30+BH31+BH39 -> 0.6 | BI28: =BC28-BH28 -> 1 | BJ28: =IF(BH28<>0,IF(BC28/BH28*100<0,"<0",IF(BC28/BH28*100>200,">200",BC28/BH28*100))," ") -> >200 | BL28: =BM28+BQ28 -> 250.4 | BM28: =BN28+BO28+BP28 -> 250.4 | BN28: 250.4 | BQ28: 0
A29: dintre care: | F29: =AB29+AK29+AS29+BD29 -> 0 | G29: =Q29+BE29 -> 0 | H29: =E29-D29 -> 0 | I29: =IF(D29<>0,IF(E29/D29*100<0,"<0",IF(E29/D29*100>200,">200",E29/D29*100))," ") | J29: =T29+BH29 -> 0 | L29: =IF(J29<>0,IF(E29/J29*100<0,"<0",IF(E29/J29*100>200,">200",E29/J29*100))," ") | U29: =O29-T29 -> 0 | V29: =IF(T29<>0,IF(O29/T29*100<0,"<0",IF(O29/T29*100>200,">200",O29/T29*100))," ") | AH29: =IF(AF29<>0,IF(AA29/AF29*100<0,"<0",IF(AA29/AF29*100>200,">200",AA29/AF29*100))," ") | AP29: =IF(AN29<>0,IF(AK29/AN29*100<0,"<0",IF(AK29/AN29*100>200,">200",AK29/AN29*100))," ") | AU29: =IF(AR29<>0,IF(AS29/AR29*100<0,"<0",IF(AS29/AR29*100>200,">200",AS29/AR29*100))," ") | AX29: =IF(AV29<>0,IF(AS29/AV29*100<0,"<0",IF(AS29/AV29*100>200,">200",AS29/AV29*100))," ") | BA29: =AZ29-BB29 -> 0 | BF29: =BC29-AZ29 -> 0 | BG29: =IF(AZ29<>0,IF(BC29/AZ29*100<0,"<0",IF(BC29/AZ29*100>200,">200",BC29/AZ29*100))," ") | BI29: =BC29-BH29 -> 0 | BJ29: =IF(BH29<>0,IF(BC29/BH29*100<0,"<0",IF(BC29/BH29*100>200,">200",BC29/BH29*100))," ") | BL29: =BM29+BQ29 -> 0 | BM29: =BN29+BO29+BP29 -> 0
A30: Accize la marfurile produse pe teritoriul Republicii Moldova | C30: =M30+AY30 -> 823.2 | D30: =N30+AZ30 -> 826.4 | E30: =O30+BC30 -> 197.9 | F30: =AB30+AK30+AS30+BD30 -> 197.9 | G30: =Q30+BE30 -> 0 | H30: =E30-D30 -> -628.5 | I30: =IF(D30<>0,IF(E30/D30*100<0,"<0",IF(E30/D30*100>200,">200",E30/D30*100))," ") -> 23.947241 | J30: =T30+BH30 -> 164.3 | K30: =E30-J30 -> 33.6 | L30: =IF(J30<>0,IF(E30/J30*100<0,"<0",IF(E30/J30*100>200,">200",E30/J30*100))," ") -> 120.4504 | M30: =W30+AI30+AQ30 -> 823.2 | N30: =X30+AJ30+AR30 -> 823.2 | O30: =AA30+AK30+AS30 -> 196.3 | P30: =AB30+AK30+AS30 -> 196.3 | Q30: =AC30 -> 0 | R30: =O30-N30 -> -626.9 | S30: =IF(N30<>0,IF(O30/N30*100<0,"<0",IF(O30/N30*100>200,">200",O30/N30*100))," ") -> 23.845967 | T30: =AF30+AN30+AV30 -> 163.7 | U30: =O30-T30 -> 32.6 | V30: =IF(T30<>0,IF(O30/T30*100<0,"<0",IF(O30/T30*100>200,">200",O30/T30*100))," ") -> 119.91448 | W30: 823.2 | X30: 823.2 | Y30: =X30-Z30 -> 823.2 | AA30: 196.3 | AB30: =AA30-AC30 -> 196.3 | AD30: =AA30-X30 -> -626.9 | AE30: =IF(X30<>0,IF(AA30/X30*100<0,"<0",IF(AA30/X30*100>200,">200",AA30/X30*100))," ") -> 23.845967 | AF30: 163.7 | AG30: =AA30-AF30 -> 32.6 | AH30: =IF(AF30<>0,IF(AA30/AF30*100<0,"<0",IF(AA30/AF30*100>200,">200",AA30/AF30*100))," ") -> 119.91448 | AP30: =IF(AN30<>0,IF(AK30/AN30*100<0,"<0",IF(AK30/AN30*100>200,">200",AK30/AN30*100))," ") | AZ30: 3.2 | BA30: =AZ30-BB30 -> 3.2 | BC30: 1.6 | BD30: =BC30-BE30 -> 1.6 | BF30: =BC30-AZ30 -> -1.6 | BG30: =IF(AZ30<>0,IF(BC30/AZ30*100<0,"<0",IF(BC30/AZ30*100>200,">200",BC30/AZ30*100))," ") -> 50 | BH30: 0.6 | BI30: =BC30-BH30 -> 1 | BJ30: =IF(BH30<>0,IF(BC30/BH30*100<0,"<0",IF(BC30/BH30*100>200,">200",BC30/BH30*100))," ") -> >200 | BL30: =BM30+BQ30 -> 23.8 | BM30: =BN30+BO30+BP30 -> 23.8 | BN30: 23.8
A31: Accize la marfurile importate | C31: =M31+AY31 -> 7227.8 | D31: =N31+AZ31 -> 7227.8 | E31: =O31+BC31 -> 921.3 | F31: =AB31+AK31+AS31+BD31 -> 921.3 | G31: =Q31+BE31 -> 0 | H31: =E31-D31 -> -6306.5 | I31: =IF(D31<>0,IF(E31/D31*100<0,"<0",IF(E31/D31*100>200,">200",E31/D31*100))," ") -> 12.746617 | J31: =T31+BH31 -> 825.2 | K31: =E31-J31 -> 96.1 | L31: =IF(J31<>0,IF(E31/J31*100<0,"<0",IF(E31/J31*100>200,">200",E31/J31*100))," ") -> 111.64566 | M31: =W31+AI31+AQ31 -> 7227.8 | N31: =X31+AJ31+AR31 -> 7227.8 | O31: =AA31+AK31+AS31 -> 921.3 | P31: =AB31+AK31+AS31 -> 921.3 | Q31: =AC31 -> 0 | R31: =O31-N31 -> -6306.5 | S31: =IF(N31<>0,IF(O31/N31*100<0,"<0",IF(O31/N31*100>200,">200",O31/N31*100))," ") -> 12.746617 | T31: =AF31+AN31+AV31 -> 825.2 | U31: =O31-T31 -> 96.1 | V31: =IF(T31<>0,IF(O31/T31*100<0,"<0",IF(O31/T31*100>200,">200",O31/T31*100))," ") -> 111.64566 | W31: 7227.8 | X31: 7227.8 | Y31: =X31-Z31 -> 7227.8 | AA31: 921.3 | AB31: =AA31-AC31 -> 921.3 | AD31: =AA31-X31 -> -6306.5 | AE31: =IF(X31<>0,IF(AA31/X31*100<0,"<0",IF(AA31/X31*100>200,">200",AA31/X31*100))," ") -> 12.746617 | AF31: 825.2 | AG31: =AA31-AF31 -> 96.1 | AH31: =IF(AF31<>0,IF(AA31/AF31*100<0,"<0",IF(AA31/AF31*100>200,">200",AA31/AF31*100))," ") -> 111.64566 | AP31: =IF(AN31<>0,IF(AK31/AN31*100<0,"<0",IF(AK31/AN31*100>200,">200",AK31/AN31*100))," ") | BA31: =AZ31-BB31 -> 0 | BD31: =BC31-BE31 -> 0 | BF31: =BC31-AZ31 -> 0 | BG31: =IF(AZ31<>0,IF(BC31/AZ31*100<0,"<0",IF(BC31/AZ31*100>200,">200",BC31/AZ31*100))," ") | BI31: =BC31-BH31 -> 0 | BJ31: =IF(BH31<>0,IF(BC31/BH31*100<0,"<0",IF(BC31/BH31*100>200,">200",BC31/BH31*100))," ") | BL31: =BM31+BQ31 -> 226.6 | BM31: =BN31+BO31+BP31 -> 226.6 | BN31: 226.6
A32: Accize la produse alcoolice, vinuri și bere | B32: 11421 | D32: =N32+AZ32 -> 536.3 | E32: =O32+BC32 -> 22 | F32: =AB32+AK32+AS32+BD32 -> 22 | G32: =Q32+BE32 -> 0 | H32: =E32-D32 -> -514.3 | I32: =IF(D32<>0,IF(E32/D32*100<0,"<0",IF(E32/D32*100>200,">200",E32/D32*100))," ") -> 4.1021816 | K32: =E32-J32 -> 22 | N32: =X32+AJ32+AR32 -> 535.9 | O32: =AA32+AK32+AS32 -> 22 | P32: =AB32+AK32+AS32 -> 22 | Q32: =AC32 -> 0 | R32: =O32-N32 -> -513.9 | S32: =IF(N32<>0,IF(O32/N32*100<0,"<0",IF(O32/N32*100>200,">200",O32/N32*100))," ") -> 4.1052435 | T32: =AF32+AN32+AV32 -> 22 | V32: =IF(T32<>0,IF(O32/T32*100<0,"<0",IF(O32/T32*100>200,">200",O32/T32*100))," ") -> 100 | W32: 535.9 | X32: 535.9 | Y32: =X32-Z32 -> 535.9 | AA32: 22 | AB32: =AA32-AC32 -> 22 | AD32: =AA32-X32 -> -513.9 | AE32: =IF(X32<>0,IF(AA32/X32*100<0,"<0",IF(AA32/X32*100>200,">200",AA32/X32*100))," ") -> 4.1052435 | AF32: 22 | AG32: =AA32-AF32 -> 0 | AH32: =IF(AF32<>0,IF(AA32/AF32*100<0,"<0",IF(AA32/AF32*100>200,">200",AA32/AF32*100))," ") -> 100 | AP32: =IF(AN32<>0,IF(AK32/AN32*100<0,"<0",IF(AK32/AN32*100>200,">200",AK32/AN32*100))," ") | AZ32: 0.4 | BA32: =AZ32-BB32 -> 0.4 | BD32: =BC32-BE32 -> 0 | BF32: =BC32-AZ32 -> -0.4 | BG32: =IF(AZ32<>0,IF(BC32/AZ32*100<0,"<0",IF(BC32/AZ32*100>200,">200",BC32/AZ32*100))," ") -> 0 | BI32: =BC32-BH32 -> 0 | BJ32: =IF(BH32<>0,IF(BC32/BH32*100<0,"<0",IF(BC32/BH32*100>200,">200",BC32/BH32*100))," ") | BL32: =BM32+BQ32 -> 22 | BM32: =BN32+BO32+BP32 -> 22 | BN32: 22
A33: Accize la produsele din tutun | B33: 11422 | D33: =N33+AZ33 -> 1326 | E33: =O33+BC33 -> 88 | F33: =AB33+AK33+AS33+BD33 -> 88 | G33: =Q33+BE33 -> 0 | H33: =E33-D33 -> -1238 | I33: =IF(D33<>0,IF(E33/D33*100<0,"<0",IF(E33/D33*100>200,">200",E33/D33*100))," ") -> 6.6365008 | K33: =E33-J33 -> 88 | N33: =X33+AJ33+AR33 -> 1326 | O33: =AA33+AK33+AS33 -> 88 | P33: =AB33+AK33+AS33 -> 88 | Q33: =AC33 -> 0 | R33: =O33-N33 -> -1238 | S33: =IF(N33<>0,IF(O33/N33*100<0,"<0",IF(O33/N33*100>200,">200",O33/N33*100))," ") -> 6.6365008 | T33: =AF33+AN33+AV33 -> 88 | V33: =IF(T33<>0,IF(O33/T33*100<0,"<0",IF(O33/T33*100>200,">200",O33/T33*100))," ") -> 100 | W33: 1326 | X33: 1326 | Y33: =X33-Z33 -> 1326 | AA33: 88 | AB33: =AA33-AC33 -> 88 | AD33: =AA33-X33 -> -1238 | AE33: =IF(X33<>0,IF(AA33/X33*100<0,"<0",IF(AA33/X33*100>200,">200",AA33/X33*100))," ") -> 6.6365008 | AF33: 88 | AG33: =AA33-AF33 -> 0 | AH33: =IF(AF33<>0,IF(AA33/AF33*100<0,"<0",IF(AA33/AF33*100>200,">200",AA33/AF33*100))," ") -> 100 | AP33: =IF(AN33<>0,IF(AK33/AN33*100<0,"<0",IF(AK33/AN33*100>200,">200",AK33/AN33*100))," ") | BA33: =AZ33-BB33 -> 0 | BD33: =BC33-BE33 -> 0 | BF33: =BC33-AZ33 -> 0 | BG33: =IF(AZ33<>0,IF(BC33/AZ33*100<0,"<0",IF(BC33/AZ33*100>200,">200",BC33/AZ33*100))," ") | BI33: =BC33-BH33 -> 0 | BJ33: =IF(BH33<>0,IF(BC33/BH33*100<0,"<0",IF(BC33/BH33*100>200,">200",BC33/BH33*100))," ") | BL33: =BM33+BQ33 -> 88 | BM33: =BN33+BO33+BP33 -> 88 | BN33: 88
A34: Accize la autoturisme | B34: 11423 | D34: =N34+AZ34 -> 585 | E34: =O34+BC34 -> 34.4 | F34: =AB34+AK34+AS34+BD34 -> 34.4 | G34: =Q34+BE34 -> 0 | H34: =E34-D34 -> -550.6 | I34: =IF(D34<>0,IF(E34/D34*100<0,"<0",IF(E34/D34*100>200,">200",E34/D34*100))," ") -> 5.8803419 | K34: =E34-J34 -> 34.4 | N34: =X34+AJ34+AR34 -> 585 | O34: =AA34+AK34+AS34 -> 34.4 | P34: =AB34+AK34+AS34 -> 34.4 | Q34: =AC34 -> 0 | R34: =O34-N34 -> -550.6 | S34: =IF(N34<>0,IF(O34/N34*100<0,"<0",IF(O34/N34*100>200,">200",O34/N34*100))," ") -> 5.8803419 | T34: =AF34+AN34+AV34 -> 34.4 | V34: =IF(T34<>0,IF(O34/T34*100<0,"<0",IF(O34/T34*100>200,">200",O34/T34*100))," ") -> 100 | W34: 585 | X34: 585 | Y34: =X34-Z34 -> 585 | AA34: 34.4 | AB34: =AA34-AC34 -> 34.4 | AD34: =AA34-X34 -> -550.6 | AE34: =IF(X34<>0,IF(AA34/X34*100<0,"<0",IF(AA34/X34*100>200,">200",AA34/X34*100))," ") -> 5.8803419 | AF34: 34.4 | AG34: =AA34-AF34 -> 0 | AH34: =IF(AF34<>0,IF(AA34/AF34*100<0,"<0",IF(AA34/AF34*100>200,">200",AA34/AF34*100))," ") -> 100 | AP34: =IF(AN34<>0,IF(AK34/AN34*100<0,"<0",IF(AK34/AN34*100>200,">200",AK34/AN34*100))," ") | BA34: =AZ34-BB34 -> 0 | BD34: =BC34-BE34 -> 0 | BF34: =BC34-AZ34 -> 0 | BG34: =IF(AZ34<>0,IF(BC34/AZ34*100<0,"<0",IF(BC34/AZ34*100>200,">200",BC34/AZ34*100))," ") | BI34: =BC34-BH34 -> 0 | BJ34: =IF(BH34<>0,IF(BC34/BH34*100<0,"<0",IF(BC34/BH34*100>200,">200",BC34/BH34*100))," ") | BL34: =BM34+BQ34 -> 34.4 | BM34: =BN34+BO34+BP34 -> 34.4 | BN34: 34.4
A35: Accize la produsele petroliere | B35: 11424 | D35: =N35+AZ35 -> 1427.3 | E35: =O35+BC35 -> 91.1 | F35: =AB35+AK35+AS35+BD35 -> 91.1 | G35: =Q35+BE35 -> 0 | H35: =E35-D35 -> -1336.2 | I35: =IF(D35<>0,IF(E35/D35*100<0,"<0",IF(E35/D35*100>200,">200",E35/D35*100))," ") -> 6.3826806 | K35: =E35-J35 -> 91.1 | N35: =X35+AJ35+AR35 -> 1427 | O35: =AA35+AK35+AS35 -> 91.1 | P35: =AB35+AK35+AS35 -> 91.1 | Q35: =AC35 -> 0 | R35: =O35-N35 -> -1335.9 | S35: =IF(N35<>0,IF(O35/N35*100<0,"<0",IF(O35/N35*100>200,">200",O35/N35*100))," ") -> 6.3840224 | T35: =AF35+AN35+AV35 -> 91.1 | V35: =IF(T35<>0,IF(O35/T35*100<0,"<0",IF(O35/T35*100>200,">200",O35/T35*100))," ") -> 100 | W35: 1427 | X35: 1427 | Y35: =X35-Z35 -> 1427 | AA35: 91.1 | AB35: =AA35-AC35 -> 91.1 | AD35: =AA35-X35 -> -1335.9 | AE35: =IF(X35<>0,IF(AA35/X35*100<0,"<0",IF(AA35/X35*100>200,">200",AA35/X35*100))," ") -> 6.3840224 | AF35: 91.1 | AG35: =AA35-AF35 -> 0 | AH35: =IF(AF35<>0,IF(AA35/AF35*100<0,"<0",IF(AA35/AF35*100>200,">200",AA35/AF35*100))," ") -> 100 | AP35: =IF(AN35<>0,IF(AK35/AN35*100<0,"<0",IF(AK35/AN35*100>200,">200",AK35/AN35*100))," ") | AZ35: 0.3 | BA35: =AZ35-BB35 -> 0.3 | BD35: =BC35-BE35 -> 0 | BF35: =BC35-AZ35 -> -0.3 | BG35: =IF(AZ35<>0,IF(BC35/AZ35*100<0,"<0",IF(BC35/AZ35*100>200,">200",BC35/AZ35*100))," ") -> 0 | BI35: =BC35-BH35 -> 0 | BJ35: =IF(BH35<>0,IF(BC35/BH35*100<0,"<0",IF(BC35/BH35*100>200,">200",BC35/BH35*100))," ") | BL35: =BM35+BQ35 -> 91.1 | BM35: =BN35+BO35+BP35 -> 91.1 | BN35: 91.1
A36: Acciza la gazele lichefiate | B36: 11425 | D36: =N36+AZ36 -> 173.6 | E36: =O36+BC36 -> 12.6 | F36: =AB36+AK36+AS36+BD36 -> 12.6 | G36: =Q36+BE36 -> 0 | H36: =E36-D36 -> -161 | I36: =IF(D36<>0,IF(E36/D36*100<0,"<0",IF(E36/D36*100>200,">200",E36/D36*100))," ") -> 7.2580645 | K36: =E36-J36 -> 12.6 | N36: =X36+AJ36+AR36 -> 173.6 | O36: =AA36+AK36+AS36 -> 12.6 | P36: =AB36+AK36+AS36 -> 12.6 | Q36: =AC36 -> 0 | R36: =O36-N36 -> -161 | S36: =IF(N36<>0,IF(O36/N36*100<0,"<0",IF(O36/N36*100>200,">200",O36/N36*100))," ") -> 7.2580645 | T36: =AF36+AN36+AV36 -> 12.6 | V36: =IF(T36<>0,IF(O36/T36*100<0,"<0",IF(O36/T36*100>200,">200",O36/T36*100))," ") -> 100 | W36: 173.6 | X36: 173.6 | Y36: =X36-Z36 -> 173.6 | AA36: 12.6 | AB36: =AA36-AC36 -> 12.6 | AD36: =AA36-X36 -> -161 | AE36: =IF(X36<>0,IF(AA36/X36*100<0,"<0",IF(AA36/X36*100>200,">200",AA36/X36*100))," ") -> 7.2580645 | AF36: 12.6 | AG36: =AA36-AF36 -> 0 | AH36: =IF(AF36<>0,IF(AA36/AF36*100<0,"<0",IF(AA36/AF36*100>200,">200",AA36/AF36*100))," ") -> 100 | AP36: =IF(AN36<>0,IF(AK36/AN36*100<0,"<0",IF(AK36/AN36*100>200,">200",AK36/AN36*100))," ") | BA36: =AZ36-BB36 -> 0 | BD36: =BC36-BE36 -> 0 | BF36: =BC36-AZ36 -> 0 | BG36: =IF(AZ36<>0,IF(BC36/AZ36*100<0,"<0",IF(BC36/AZ36*100>200,">200",BC36/AZ36*100))," ") | BI36: =BC36-BH36 -> 0 | BJ36: =IF(BH36<>0,IF(BC36/BH36*100<0,"<0",IF(BC36/BH36*100>200,">200",BC36/BH36*100))," ") | BL36: =BM36+BQ36 -> 12.6 | BM36: =BN36+BO36+BP36 -> 12.6 | BN36: 12.6 | BO36: 0 | BP36: 0
A37: Accize la bijuterii (inclusiv bijuterii cu briliante) | B37: 11426 | D37: =N37+AZ37 -> 10.9 | E37: =O37+BC37 -> 0.7 | F37: =AB37+AK37+AS37+BD37 -> 0.7 | G37: =Q37+BE37 -> 0 | H37: =E37-D37 -> -10.2 | I37: =IF(D37<>0,IF(E37/D37*100<0,"<0",IF(E37/D37*100>200,">200",E37/D37*100))," ") -> 6.4220183 | J37: =T37+BH37 -> 1.3 | K37: =E37-J37 -> -0.6 | L37: =IF(J37<>0,IF(E37/J37*100<0,"<0",IF(E37/J37*100>200,">200",E37/J37*100))," ") -> 53.846154 | N37: =X37+AJ37+AR37 -> 10.9 | O37: =AA37+AK37+AS37 -> 0.7 | P37: =AB37+AK37+AS37 -> 0.7 | Q37: =AC37 -> 0 | R37: =O37-N37 -> -10.2 | S37: =IF(N37<>0,IF(O37/N37*100<0,"<0",IF(O37/N37*100>200,">200",O37/N37*100))," ") -> 6.4220183 | T37: =AF37+AN37+AV37 -> 0.7 | U37: =O37-T37 -> 0 | V37: =IF(T37<>0,IF(O37/T37*100<0,"<0",IF(O37/T37*100>200,">200",O37/T37*100))," ") -> 100 | W37: 10.9 | X37: 10.9 | Y37: =X37-Z37 -> 10.9 | AA37: 0.7 | AB37: =AA37-AC37 -> 0.7 | AD37: =AA37-X37 -> -10.2 | AE37: =IF(X37<>0,IF(AA37/X37*100<0,"<0",IF(AA37/X37*100>200,">200",AA37/X37*100))," ") -> 6.4220183 | AF37: 0.7 | AG37: =AA37-AF37 -> 0 | AH37: =IF(AF37<>0,IF(AA37/AF37*100<0,"<0",IF(AA37/AF37*100>200,">200",AA37/AF37*100))," ") -> 100 | AJ37: =AJ28-AJ39 -> 0 | AL37: =AL28-AL39 -> 0 | AM37: =IF(AJ37<>0,IF(AK37/AJ37*100<0,"<0",IF(AK37/AJ37*100>200,">200",AK37/AJ37*100))," ") | AN37: =AN28-AN39 -> 0 | AO37: =AK37-AN37 -> 0 | AP37: =IF(AN37<>0,IF(AK37/AN37*100<0,"<0",IF(AK37/AN37*100>200,">200",AK37/AN37*100))," ") | AR37: =AR28-AR39 -> 0 | AT37: =AT28-AT39 -> 0 | AU37: =IF(AR37<>0,IF(AS37/AR37*100<0,"<0",IF(AS37/AR37*100>200,">200",AS37/AR37*100))," ") | AV37: =AV28-AV39 -> 0 | AW37: =AS37-AV37 -> 0 | AX37: =IF(AV37<>0,IF(AS37/AV37*100<0,"<0",IF(AS37/AV37*100>200,">200",AS37/AV37*100))," ") | BA37: =AZ37-BB37 -> 0 | BD37: =BC37-BE37 -> 0 | BF37: =BC37-AZ37 -> 0 | BG37: =IF(AZ37<>0,IF(BC37/AZ37*100<0,"<0",IF(BC37/AZ37*100>200,">200",BC37/AZ37*100))," ") | BH37: =BH28-BH39 -> 0.6 | BI37: =BC37-BH37 -> -0.6 | BJ37: =IF(BH37<>0,IF(BC37/BH37*100<0,"<0",IF(BC37/BH37*100>200,">200",BC37/BH37*100))," ") -> 0 | BL37: =BM37+BQ37 -> 0.7 | BM37: =BN37+BO37+BP37 -> 0.7 | BN37: 0.7
